{"text_format":"3","workbook":"xlsx","n_sheets":1,"sheets":["Sheet1 (2)"],"not_rendered":{"defined_names":2},"read":"whole","date_system":"1900"}

{"sheet":"Sheet1 (2)","index":0,"n_rows":161,"n_cols":6,"rows_kept":161,"merged":[[0,0,0,3]]}
["修文县2023年公开选调教师（教研员）笔试成绩"]
[]
["序号","准考证号","笔试成绩","备注",null,"名次"]
[1,"jsxd2023001",66.5,null,null,{"$f":"SUMPRODUCT(--((#REF!=#REF!)*($C$4:$C$161>C4)))+1","v":{"$error":"#REF!"}}]
[2,"jsxd2023002",37,null,null,{"$f":"SUMPRODUCT(--((#REF!=#REF!)*($C$4:$C$161>C5)))+1","v":{"$error":"#REF!"}}]
[3,"jsxd2023003",66.5,null,null,{"$f":"SUMPRODUCT(--((#REF!=#REF!)*($C$4:$C$161>C6)))+1","v":{"$error":"#REF!"}}]
[4,"jsxd2023004",68.5,null,null,{"$f":"SUMPRODUCT(--((#REF!=#REF!)*($C$4:$C$161>C7)))+1","v":{"$error":"#REF!"}}]
[5,"jsxd2023005",67,null,null,{"$f":"SUMPRODUCT(--((#REF!=#REF!)*($C$4:$C$161>C8)))+1","v":{"$error":"#REF!"}}]
[6,"jsxd2023006",62,null,null,{"$f":"SUMPRODUCT(--((#REF!=#REF!)*($C$4:$C$161>C9)))+1","v":{"$error":"#REF!"}}]
[7,"jsxd2023007",59.5,null,null,{"$f":"SUMPRODUCT(--((#REF!=#REF!)*($C$4:$C$161>C10)))+1","v":{"$error":"#REF!"}}]
[8,"jsxd2023008",63,null,null,{"$f":"SUMPRODUCT(--((#REF!=#REF!)*($C$4:$C$161>C11)))+1","v":{"$error":"#REF!"}}]
[9,"jsxd2023009",71,null,null,{"$f":"SUMPRODUCT(--((#REF!=#REF!)*($C$4:$C$161>C12)))+1","v":{"$error":"#REF!"}}]
[10,"jsxd2023010",70.5,null,null,{"$f":"SUMPRODUCT(--((#REF!=#REF!)*($C$4:$C$161>C13)))+1","v":{"$error":"#REF!"}}]
[11,"jsxd2023011",57.5,null,null,{"$f":"SUMPRODUCT(--((#REF!=#REF!)*($C$4:$C$161>C14)))+1","v":{"$error":"#REF!"}}]
[12,"jsxd2023012",72.5,null,null,{"$f":"SUMPRODUCT(--((#REF!=#REF!)*($C$4:$C$161>C15)))+1","v":{"$error":"#REF!"}}]
[13,"jsxd2023013",63.5,null,null,{"$f":"SUMPRODUCT(--((#REF!=#REF!)*($C$4:$C$161>C16)))+1","v":{"$error":"#REF!"}}]
[14,"jsxd2023014",62.5,null,null,{"$f":"SUMPRODUCT(--((#REF!=#REF!)*($C$4:$C$161>C17)))+1","v":{"$error":"#REF!"}}]
[15,"jsxd2023015",63.5,null,null,{"$f":"SUMPRODUCT(--((#REF!=#REF!)*($C$4:$C$161>C18)))+1","v":{"$error":"#REF!"}}]
[16,"jsxd2023016",66.5,null,null,{"$f":"SUMPRODUCT(--((#REF!=#REF!)*($C$4:$C$161>C19)))+1","v":{"$error":"#REF!"}}]
[17,"jsxd2023017",80,null,null,{"$f":"SUMPRODUCT(--((#REF!=#REF!)*($C$4:$C$161>C20)))+1","v":{"$error":"#REF!"}}]
[18,"jsxd2023018",72,null,null,{"$f":"SUMPRODUCT(--((#REF!=#REF!)*($C$4:$C$161>C21)))+1","v":{"$error":"#REF!"}}]
[19,"jsxd2023019",70.5,null,null,{"$f":"SUMPRODUCT(--((#REF!=#REF!)*($C$4:$C$161>C22)))+1","v":{"$error":"#REF!"}}]
[20,"jsxd2023020",73,null,null,{"$f":"SUMPRODUCT(--((#REF!=#REF!)*($C$4:$C$161>C23)))+1","v":{"$error":"#REF!"}}]
[21,"jsxd2023021",66,null,null,{"$f":"SUMPRODUCT(--((#REF!=#REF!)*($C$4:$C$161>C24)))+1","v":{"$error":"#REF!"}}]
[22,"jsxd2023022",60,null,null,{"$f":"SUMPRODUCT(--((#REF!=#REF!)*($C$4:$C$161>C25)))+1","v":{"$error":"#REF!"}}]
[23,"jsxd2023023",75.5,null,null,{"$f":"SUMPRODUCT(--((#REF!=#REF!)*($C$4:$C$161>C26)))+1","v":{"$error":"#REF!"}}]
[24,"jsxd2023024",57.5,null,null,{"$f":"SUMPRODUCT(--((#REF!=#REF!)*($C$4:$C$161>C27)))+1","v":{"$error":"#REF!"}}]
[25,"jsxd2023025",67,null,null,{"$f":"SUMPRODUCT(--((#REF!=#REF!)*($C$4:$C$161>C28)))+1","v":{"$error":"#REF!"}}]
[26,"jsxd2023026",70,null,null,{"$f":"SUMPRODUCT(--((#REF!=#REF!)*($C$4:$C$161>C29)))+1","v":{"$error":"#REF!"}}]
[27,"jsxd2023027",47,null,null,{"$f":"SUMPRODUCT(--((#REF!=#REF!)*($C$4:$C$161>C30)))+1","v":{"$error":"#REF!"}}]
[28,"jsxd2023028",62,null,null,{"$f":"SUMPRODUCT(--((#REF!=#REF!)*($C$4:$C$161>C31)))+1","v":{"$error":"#REF!"}}]
[29,"jsxd2023029",53,null,null,{"$f":"SUMPRODUCT(--((#REF!=#REF!)*($C$4:$C$161>C32)))+1","v":{"$error":"#REF!"}}]
[30,"jsxd2023030",22,null,null,{"$f":"SUMPRODUCT(--((#REF!=#REF!)*($C$4:$C$161>C33)))+1","v":{"$error":"#REF!"}}]
[31,"jsxd2023031",53,null,null,{"$f":"SUMPRODUCT(--((#REF!=#REF!)*($C$4:$C$161>C34)))+1","v":{"$error":"#REF!"}}]
[32,"jsxd2023032",43,null,null,{"$f":"SUMPRODUCT(--((#REF!=#REF!)*($C$4:$C$161>C35)))+1","v":{"$error":"#REF!"}}]
[33,"jsxd2023033",57,null,null,{"$f":"SUMPRODUCT(--((#REF!=#REF!)*($C$4:$C$161>C36)))+1","v":{"$error":"#REF!"}}]
[34,"jsxd2023034",60,null,null,{"$f":"SUMPRODUCT(--((#REF!=#REF!)*($C$4:$C$161>C37)))+1","v":{"$error":"#REF!"}}]
[35,"jsxd2023035",44,null,null,{"$f":"SUMPRODUCT(--((#REF!=#REF!)*($C$4:$C$161>C38)))+1","v":{"$error":"#REF!"}}]
[36,"jsxd2023036",79,null,null,{"$f":"SUMPRODUCT(--((#REF!=#REF!)*($C$4:$C$161>C39)))+1","v":{"$error":"#REF!"}}]
[37,"jsxd2023037",60,null,null,{"$f":"SUMPRODUCT(--((#REF!=#REF!)*($C$4:$C$161>C40)))+1","v":{"$error":"#REF!"}}]
[38,"jsxd2023038",60.5,null,null,{"$f":"SUMPRODUCT(--((#REF!=#REF!)*($C$4:$C$161>C41)))+1","v":{"$error":"#REF!"}}]
[39,"jsxd2023039",51,null,null,{"$f":"SUMPRODUCT(--((#REF!=#REF!)*($C$4:$C$161>C42)))+1","v":{"$error":"#REF!"}}]
[40,"jsxd2023040",63.5,null,null,{"$f":"SUMPRODUCT(--((#REF!=#REF!)*($C$4:$C$161>C43)))+1","v":{"$error":"#REF!"}}]
[41,"jsxd2023041",70,null,null,{"$f":"SUMPRODUCT(--((#REF!=#REF!)*($C$4:$C$161>C44)))+1","v":{"$error":"#REF!"}}]
[42,"jsxd2023042",48,null,null,{"$f":"SUMPRODUCT(--((#REF!=#REF!)*($C$4:$C$161>C45)))+1","v":{"$error":"#REF!"}}]
[43,"jsxd2023043",73.5,null,null,{"$f":"SUMPRODUCT(--((#REF!=#REF!)*($C$4:$C$161>C46)))+1","v":{"$error":"#REF!"}}]
[44,"jsxd2023044",82,null,null,{"$f":"SUMPRODUCT(--((#REF!=#REF!)*($C$4:$C$161>C47)))+1","v":{"$error":"#REF!"}}]
[45,"jsxd2023045",67.5,null,null,{"$f":"SUMPRODUCT(--((#REF!=#REF!)*($C$4:$C$161>C48)))+1","v":{"$error":"#REF!"}}]
[46,"jsxd2023046",71.5,null,null,{"$f":"SUMPRODUCT(--((#REF!=#REF!)*($C$4:$C$161>C49)))+1","v":{"$error":"#REF!"}}]
[47,"jsxd2023047",62.5,null,null,{"$f":"SUMPRODUCT(--((#REF!=#REF!)*($C$4:$C$161>C50)))+1","v":{"$error":"#REF!"}}]
[48,"jsxd2023048",53,null,null,{"$f":"SUMPRODUCT(--((#REF!=#REF!)*($C$4:$C$161>C51)))+1","v":{"$error":"#REF!"}}]
[49,"jsxd2023049",62,null,null,{"$f":"SUMPRODUCT(--((#REF!=#REF!)*($C$4:$C$161>C52)))+1","v":{"$error":"#REF!"}}]
[50,"jsxd2023050",72.5,null,null,{"$f":"SUMPRODUCT(--((#REF!=#REF!)*($C$4:$C$161>C53)))+1","v":{"$error":"#REF!"}}]
[51,"jsxd2023051",71,null,null,{"$f":"SUMPRODUCT(--((#REF!=#REF!)*($C$4:$C$161>C54)))+1","v":{"$error":"#REF!"}}]
[52,"jsxd2023052",87,null,null,{"$f":"SUMPRODUCT(--((#REF!=#REF!)*($C$4:$C$161>C55)))+1","v":{"$error":"#REF!"}}]
[53,"jsxd2023053",78,null,null,{"$f":"SUMPRODUCT(--((#REF!=#REF!)*($C$4:$C$161>C56)))+1","v":{"$error":"#REF!"}}]
[54,"jsxd2023054",44,null,null,{"$f":"SUMPRODUCT(--((#REF!=#REF!)*($C$4:$C$161>C57)))+1","v":{"$error":"#REF!"}}]
[55,"jsxd2023055",63,null,null,{"$f":"SUMPRODUCT(--((#REF!=#REF!)*($C$4:$C$161>C58)))+1","v":{"$error":"#REF!"}}]
[56,"jsxd2023056",41.5,null,null,{"$f":"SUMPRODUCT(--((#REF!=#REF!)*($C$4:$C$161>C59)))+1","v":{"$error":"#REF!"}}]
[57,"jsxd2023057",50.5,null,null,{"$f":"SUMPRODUCT(--((#REF!=#REF!)*($C$4:$C$161>C60)))+1","v":{"$error":"#REF!"}}]
[58,"jsxd2023058",44.5,null,null,{"$f":"SUMPRODUCT(--((#REF!=#REF!)*($C$4:$C$161>C61)))+1","v":{"$error":"#REF!"}}]
[59,"jsxd2023059",59.5,null,null,{"$f":"SUMPRODUCT(--((#REF!=#REF!)*($C$4:$C$161>C62)))+1","v":{"$error":"#REF!"}}]
[60,"jsxd2023060",64,null,null,{"$f":"SUMPRODUCT(--((#REF!=#REF!)*($C$4:$C$161>C63)))+1","v":{"$error":"#REF!"}}]
[61,"jsxd2023061",55.5,null,null,{"$f":"SUMPRODUCT(--((#REF!=#REF!)*($C$4:$C$161>C64)))+1","v":{"$error":"#REF!"}}]
[62,"jsxd2023062",65,null,null,{"$f":"SUMPRODUCT(--((#REF!=#REF!)*($C$4:$C$161>C65)))+1","v":{"$error":"#REF!"}}]
[63,"jsxd2023063",62,null,null,{"$f":"SUMPRODUCT(--((#REF!=#REF!)*($C$4:$C$161>C66)))+1","v":{"$error":"#REF!"}}]
[64,"jsxd2023064",76,null,null,{"$f":"SUMPRODUCT(--((#REF!=#REF!)*($C$4:$C$161>C67)))+1","v":{"$error":"#REF!"}}]
[65,"jsxd2023065",48,null,null,{"$f":"SUMPRODUCT(--((#REF!=#REF!)*($C$4:$C$161>C68)))+1","v":{"$error":"#REF!"}}]
[66,"jsxd2023066",60.5,null,null,{"$f":"SUMPRODUCT(--((#REF!=#REF!)*($C$4:$C$161>C69)))+1","v":{"$error":"#REF!"}}]
[67,"jsxd2023067",54.5,null,null,{"$f":"SUMPRODUCT(--((#REF!=#REF!)*($C$4:$C$161>C70)))+1","v":{"$error":"#REF!"}}]
[68,"jsxd2023068",61,null,null,{"$f":"SUMPRODUCT(--((#REF!=#REF!)*($C$4:$C$161>C71)))+1","v":{"$error":"#REF!"}}]
[69,"jsxd2023069",58,null,null,{"$f":"SUMPRODUCT(--((#REF!=#REF!)*($C$4:$C$161>C72)))+1","v":{"$error":"#REF!"}}]
[70,"jsxd2023070",53,null,null,{"$f":"SUMPRODUCT(--((#REF!=#REF!)*($C$4:$C$161>C73)))+1","v":{"$error":"#REF!"}}]
[71,"jsxd2023071",82.5,null,null,{"$f":"SUMPRODUCT(--((#REF!=#REF!)*($C$4:$C$161>C74)))+1","v":{"$error":"#REF!"}}]
[72,"jsxd2023072",78,null,null,{"$f":"SUMPRODUCT(--((#REF!=#REF!)*($C$4:$C$161>C75)))+1","v":{"$error":"#REF!"}}]
[73,"jsxd2023073",85,null,null,{"$f":"SUMPRODUCT(--((#REF!=#REF!)*($C$4:$C$161>C76)))+1","v":{"$error":"#REF!"}}]
[74,"jsxd2023074",72,null,null,{"$f":"SUMPRODUCT(--((#REF!=#REF!)*($C$4:$C$161>C77)))+1","v":{"$error":"#REF!"}}]
[75,"jsxd2023075",81,null,null,{"$f":"SUMPRODUCT(--((#REF!=#REF!)*($C$4:$C$161>C78)))+1","v":{"$error":"#REF!"}}]
[76,"jsxd2023076",57,null,null,{"$f":"SUMPRODUCT(--((#REF!=#REF!)*($C$4:$C$161>C79)))+1","v":{"$error":"#REF!"}}]
[77,"jsxd2023077","缺考",null,null,{"$f":"SUMPRODUCT(--((#REF!=#REF!)*($C$4:$C$161>C80)))+1","v":{"$error":"#REF!"}}]
[78,"jsxd2023078","缺考",null,null,{"$f":"SUMPRODUCT(--((#REF!=#REF!)*($C$4:$C$161>C81)))+1","v":{"$error":"#REF!"}}]
[79,"jsxd2023079",49,null,null,{"$f":"SUMPRODUCT(--((#REF!=#REF!)*($C$4:$C$161>C82)))+1","v":{"$error":"#REF!"}}]
[80,"jsxd2023080","缺考",null,null,{"$f":"SUMPRODUCT(--((#REF!=#REF!)*($C$4:$C$161>C83)))+1","v":{"$error":"#REF!"}}]
[81,"jsxd2023081",38,null,null,{"$f":"SUMPRODUCT(--((#REF!=#REF!)*($C$4:$C$161>C84)))+1","v":{"$error":"#REF!"}}]
[82,"jsxd2023082",71,null,null,{"$f":"SUMPRODUCT(--((#REF!=#REF!)*($C$4:$C$161>C85)))+1","v":{"$error":"#REF!"}}]
[83,"jsxd2023083",75,null,null,{"$f":"SUMPRODUCT(--((#REF!=#REF!)*($C$4:$C$161>C86)))+1","v":{"$error":"#REF!"}}]
[84,"jsxd2023084",73,null,null,{"$f":"SUMPRODUCT(--((#REF!=#REF!)*($C$4:$C$161>C87)))+1","v":{"$error":"#REF!"}}]
[85,"jsxd2023085",69,null,null,{"$f":"SUMPRODUCT(--((#REF!=#REF!)*($C$4:$C$161>C88)))+1","v":{"$error":"#REF!"}}]
[86,"jsxd2023086",56.5,null,null,{"$f":"SUMPRODUCT(--((#REF!=#REF!)*($C$4:$C$161>C89)))+1","v":{"$error":"#REF!"}}]
[87,"jsxd2023087",53.5,null,null,{"$f":"SUMPRODUCT(--((#REF!=#REF!)*($C$4:$C$161>C90)))+1","v":{"$error":"#REF!"}}]
[88,"jsxd2023088",49,null,null,{"$f":"SUMPRODUCT(--((#REF!=#REF!)*($C$4:$C$161>C91)))+1","v":{"$error":"#REF!"}}]
[89,"jsxd2023089",69,null,null,{"$f":"SUMPRODUCT(--((#REF!=#REF!)*($C$4:$C$161>C92)))+1","v":{"$error":"#REF!"}}]
[90,"jsxd2023090",85,null,null,{"$f":"SUMPRODUCT(--((#REF!=#REF!)*($C$4:$C$161>C93)))+1","v":{"$error":"#REF!"}}]
[91,"jsxd2023091",71,null,null,{"$f":"SUMPRODUCT(--((#REF!=#REF!)*($C$4:$C$161>C94)))+1","v":{"$error":"#REF!"}}]
[92,"jsxd2023092",73.5,null,null,{"$f":"SUMPRODUCT(--((#REF!=#REF!)*($C$4:$C$161>C95)))+1","v":{"$error":"#REF!"}}]
[93,"jsxd2023093",79.5,null,null,{"$f":"SUMPRODUCT(--((#REF!=#REF!)*($C$4:$C$161>C96)))+1","v":{"$error":"#REF!"}}]
[94,"jsxd2023094",63.5,null,null,{"$f":"SUMPRODUCT(--((#REF!=#REF!)*($C$4:$C$161>C97)))+1","v":{"$error":"#REF!"}}]
[95,"jsxd2023095",61,null,null,{"$f":"SUMPRODUCT(--((#REF!=#REF!)*($C$4:$C$161>C98)))+1","v":{"$error":"#REF!"}}]
[96,"jsxd2023096",67,null,null,{"$f":"SUMPRODUCT(--((#REF!=#REF!)*($C$4:$C$161>C99)))+1","v":{"$error":"#REF!"}}]
[97,"jsxd2023097",68.5,null,null,{"$f":"SUMPRODUCT(--((#REF!=#REF!)*($C$4:$C$161>C100)))+1","v":{"$error":"#REF!"}}]
[98,"jsxd2023098",57.5,null,null,{"$f":"SUMPRODUCT(--((#REF!=#REF!)*($C$4:$C$161>C101)))+1","v":{"$error":"#REF!"}}]
[99,"jsxd2023099",65,null,null,{"$f":"SUMPRODUCT(--((#REF!=#REF!)*($C$4:$C$161>C102)))+1","v":{"$error":"#REF!"}}]
[100,"jsxd2023100",65,null,null,{"$f":"SUMPRODUCT(--((#REF!=#REF!)*($C$4:$C$161>C103)))+1","v":{"$error":"#REF!"}}]
[101,"jsxd2023101",69,null,null,{"$f":"SUMPRODUCT(--((#REF!=#REF!)*($C$4:$C$161>C104)))+1","v":{"$error":"#REF!"}}]
[102,"jsxd2023102",62.5,null,null,{"$f":"SUMPRODUCT(--((#REF!=#REF!)*($C$4:$C$161>C105)))+1","v":{"$error":"#REF!"}}]
[103,"jsxd2023103",68,null,null,{"$f":"SUMPRODUCT(--((#REF!=#REF!)*($C$4:$C$161>C106)))+1","v":{"$error":"#REF!"}}]
[104,"jsxd2023104",52,null,null,{"$f":"SUMPRODUCT(--((#REF!=#REF!)*($C$4:$C$161>C107)))+1","v":{"$error":"#REF!"}}]
[105,"jsxd2023105",65.5,null,null,{"$f":"SUMPRODUCT(--((#REF!=#REF!)*($C$4:$C$161>C108)))+1","v":{"$error":"#REF!"}}]
[106,"jsxd2023106",51.5,null,null,{"$f":"SUMPRODUCT(--((#REF!=#REF!)*($C$4:$C$161>C109)))+1","v":{"$error":"#REF!"}}]
[107,"jsxd2023107",73.5,null,null,{"$f":"SUMPRODUCT(--((#REF!=#REF!)*($C$4:$C$161>C110)))+1","v":{"$error":"#REF!"}}]
[108,"jsxd2023108",64,null,null,{"$f":"SUMPRODUCT(--((#REF!=#REF!)*($C$4:$C$161>C111)))+1","v":{"$error":"#REF!"}}]
[109,"jsxd2023109",48,null,null,{"$f":"SUMPRODUCT(--((#REF!=#REF!)*($C$4:$C$161>C112)))+1","v":{"$error":"#REF!"}}]
[110,"jsxd2023110",50,null,null,{"$f":"SUMPRODUCT(--((#REF!=#REF!)*($C$4:$C$161>C113)))+1","v":{"$error":"#REF!"}}]
[111,"jsxd2023111",66,null,null,{"$f":"SUMPRODUCT(--((#REF!=#REF!)*($C$4:$C$161>C114)))+1","v":{"$error":"#REF!"}}]
[112,"jsxd2023112",60,null,null,{"$f":"SUMPRODUCT(--((#REF!=#REF!)*($C$4:$C$161>C115)))+1","v":{"$error":"#REF!"}}]
[113,"jsxd2023113",49,null,null,{"$f":"SUMPRODUCT(--((#REF!=#REF!)*($C$4:$C$161>C116)))+1","v":{"$error":"#REF!"}}]
[114,"jsxd2023114",47,null,null,{"$f":"SUMPRODUCT(--((#REF!=#REF!)*($C$4:$C$161>C117)))+1","v":{"$error":"#REF!"}}]
[115,"jsxd2023115",53,null,null,{"$f":"SUMPRODUCT(--((#REF!=#REF!)*($C$4:$C$161>C118)))+1","v":{"$error":"#REF!"}}]
[116,"jsxd2023116","缺考",null,null,{"$f":"SUMPRODUCT(--((#REF!=#REF!)*($C$4:$C$161>C119)))+1","v":{"$error":"#REF!"}}]
[117,"jsxd2023117",57.5,null,null,{"$f":"SUMPRODUCT(--((#REF!=#REF!)*($C$4:$C$161>C120)))+1","v":{"$error":"#REF!"}}]
[118,"jsxd2023118",52,null,null,{"$f":"SUMPRODUCT(--((#REF!=#REF!)*($C$4:$C$161>C121)))+1","v":{"$error":"#REF!"}}]
[119,"jsxd2023119",45,null,null,{"$f":"SUMPRODUCT(--((#REF!=#REF!)*($C$4:$C$161>C122)))+1","v":{"$error":"#REF!"}}]
[120,"jsxd2023120",47,null,null,{"$f":"SUMPRODUCT(--((#REF!=#REF!)*($C$4:$C$161>C123)))+1","v":{"$error":"#REF!"}}]
[121,"jsxd2023121",61,null,null,{"$f":"SUMPRODUCT(--((#REF!=#REF!)*($C$4:$C$161>C124)))+1","v":{"$error":"#REF!"}}]
[122,"jsxd2023122",54,null,null,{"$f":"SUMPRODUCT(--((#REF!=#REF!)*($C$4:$C$161>C125)))+1","v":{"$error":"#REF!"}}]
[123,"jsxd2023123",70,null,null,{"$f":"SUMPRODUCT(--((#REF!=#REF!)*($C$4:$C$161>C126)))+1","v":{"$error":"#REF!"}}]
[124,"jsxd2023124",48,null,null,{"$f":"SUMPRODUCT(--((#REF!=#REF!)*($C$4:$C$161>C127)))+1","v":{"$error":"#REF!"}}]
[125,"jsxd2023125",60,null,null,{"$f":"SUMPRODUCT(--((#REF!=#REF!)*($C$4:$C$161>C128)))+1","v":{"$error":"#REF!"}}]
[126,"jsxd2023126",55.5,null,null,{"$f":"SUMPRODUCT(--((#REF!=#REF!)*($C$4:$C$161>C129)))+1","v":{"$error":"#REF!"}}]
[127,"jsxd2023127",63,null,null,{"$f":"SUMPRODUCT(--((#REF!=#REF!)*($C$4:$C$161>C130)))+1","v":{"$error":"#REF!"}}]
[128,"jsxd2023128",54,null,null,{"$f":"SUMPRODUCT(--((#REF!=#REF!)*($C$4:$C$161>C131)))+1","v":{"$error":"#REF!"}}]
[129,"jsxd2023129",48,null,null,{"$f":"SUMPRODUCT(--((#REF!=#REF!)*($C$4:$C$161>C132)))+1","v":{"$error":"#REF!"}}]
[130,"jsxd2023130",53,null,null,{"$f":"SUMPRODUCT(--((#REF!=#REF!)*($C$4:$C$161>C133)))+1","v":{"$error":"#REF!"}}]
[131,"jsxd2023131",60.5,null,null,{"$f":"SUMPRODUCT(--((#REF!=#REF!)*($C$4:$C$161>C134)))+1","v":{"$error":"#REF!"}}]
[132,"jsxd2023132",53,null,null,{"$f":"SUMPRODUCT(--((#REF!=#REF!)*($C$4:$C$161>C135)))+1","v":{"$error":"#REF!"}}]
[133,"jsxd2023133",46,null,null,{"$f":"SUMPRODUCT(--((#REF!=#REF!)*($C$4:$C$161>C136)))+1","v":{"$error":"#REF!"}}]
[134,"jsxd2023134",67.5,null,null,{"$f":"SUMPRODUCT(--((#REF!=#REF!)*($C$4:$C$161>C137)))+1","v":{"$error":"#REF!"}}]
[135,"jsxd2023135",62.5,null,null,{"$f":"SUMPRODUCT(--((#REF!=#REF!)*($C$4:$C$161>C138)))+1","v":{"$error":"#REF!"}}]
[136,"jsxd2023136",63,null,null,{"$f":"SUMPRODUCT(--((#REF!=#REF!)*($C$4:$C$161>C139)))+1","v":{"$error":"#REF!"}}]
[137,"jsxd2023137",49,null,null,{"$f":"SUMPRODUCT(--((#REF!=#REF!)*($C$4:$C$161>C140)))+1","v":{"$error":"#REF!"}}]
[138,"jsxd2023138",60,null,null,{"$f":"SUMPRODUCT(--((#REF!=#REF!)*($C$4:$C$161>C141)))+1","v":{"$error":"#REF!"}}]
[139,"jsxd2023139",69,null,null,{"$f":"SUMPRODUCT(--((#REF!=#REF!)*($C$4:$C$161>C142)))+1","v":{"$error":"#REF!"}}]
[140,"jsxd2023140",73,null,null,{"$f":"SUMPRODUCT(--((#REF!=#REF!)*($C$4:$C$161>C143)))+1","v":{"$error":"#REF!"}}]
[141,"jsxd2023141",55.5,null,null,{"$f":"SUMPRODUCT(--((#REF!=#REF!)*($C$4:$C$161>C144)))+1","v":{"$error":"#REF!"}}]
[142,"jsxd2023142",54,null,null,{"$f":"SUMPRODUCT(--((#REF!=#REF!)*($C$4:$C$161>C145)))+1","v":{"$error":"#REF!"}}]
[143,"jsxd2023143",60,null,null,{"$f":"SUMPRODUCT(--((#REF!=#REF!)*($C$4:$C$161>C146)))+1","v":{"$error":"#REF!"}}]
[144,"jsxd2023144",48,null,null,{"$f":"SUMPRODUCT(--((#REF!=#REF!)*($C$4:$C$161>C147)))+1","v":{"$error":"#REF!"}}]
[145,"jsxd2023145",43,null,null,{"$f":"SUMPRODUCT(--((#REF!=#REF!)*($C$4:$C$161>C148)))+1","v":{"$error":"#REF!"}}]
[146,"jsxd2023146",66,null,null,{"$f":"SUMPRODUCT(--((#REF!=#REF!)*($C$4:$C$161>C149)))+1","v":{"$error":"#REF!"}}]
[147,"jsxd2023147",49,null,null,{"$f":"SUMPRODUCT(--((#REF!=#REF!)*($C$4:$C$161>C150)))+1","v":{"$error":"#REF!"}}]
[148,"jsxd2023148",66,null,null,{"$f":"SUMPRODUCT(--((#REF!=#REF!)*($C$4:$C$161>C151)))+1","v":{"$error":"#REF!"}}]
[149,"jsxd2023149","缺考",null,null,{"$f":"SUMPRODUCT(--((#REF!=#REF!)*($C$4:$C$161>C152)))+1","v":{"$error":"#REF!"}}]
[150,"jsxd2023150",39,null,null,{"$f":"SUMPRODUCT(--((#REF!=#REF!)*($C$4:$C$161>C153)))+1","v":{"$error":"#REF!"}}]
[151,"jsxd2023151",66.5,null,null,{"$f":"SUMPRODUCT(--((#REF!=#REF!)*($C$4:$C$161>C154)))+1","v":{"$error":"#REF!"}}]
[152,"jsxd2023152",52,null,null,{"$f":"SUMPRODUCT(--((#REF!=#REF!)*($C$4:$C$161>C155)))+1","v":{"$error":"#REF!"}}]
[153,"jsxd2023153",60,null,null,{"$f":"SUMPRODUCT(--((#REF!=#REF!)*($C$4:$C$161>C156)))+1","v":{"$error":"#REF!"}}]
[154,"jsxd2023154",67.5,null,null,{"$f":"SUMPRODUCT(--((#REF!=#REF!)*($C$4:$C$161>C157)))+1","v":{"$error":"#REF!"}}]
[155,"jsxd2023155",84.5,null,null,{"$f":"SUMPRODUCT(--((#REF!=#REF!)*($C$4:$C$161>C158)))+1","v":{"$error":"#REF!"}}]
[156,"jsxd2023156",51.5,null,null,{"$f":"SUMPRODUCT(--((#REF!=#REF!)*($C$4:$C$161>C159)))+1","v":{"$error":"#REF!"}}]
[157,"jsxd2023157",62,null,null,{"$f":"SUMPRODUCT(--((#REF!=#REF!)*($C$4:$C$161>C160)))+1","v":{"$error":"#REF!"}}]
[158,"jsxd2023158",46.5,null,null,{"$f":"SUMPRODUCT(--((#REF!=#REF!)*($C$4:$C$161>C161)))+1","v":{"$error":"#REF!"}}]