{"text_format":"3","workbook":"xlsx","n_sheets":1,"sheets":["政审人员名单"],"not_rendered":{"defined_names":2},"read":"whole","date_system":"1900"}

{"sheet":"政审人员名单","index":0,"n_rows":38,"n_cols":8,"rows_kept":38,"merged":[[0,0,0,7]]}
["黔南州公安局2023年公开招聘警务辅助人员进入考察政审人员名单（第一批）"]
["序号","姓 名",null,"年龄","性别","职位代码","准考证号","体检结果"]
[1,"黄程",{"$f":"DATE(MID(#REF!,7,4),MID(#REF!,11,2),MID(#REF!,13,2))","v":{"$error":"#REF!"}},25,"男","01",202308090103,"合格"]
[2,"候华俊",{"$f":"DATE(MID(#REF!,7,4),MID(#REF!,11,2),MID(#REF!,13,2))","v":{"$error":"#REF!"}},25,"男","01",202308091206,"合格"]
[3,"叶大勇",{"$f":"DATE(MID(#REF!,7,4),MID(#REF!,11,2),MID(#REF!,13,2))","v":{"$error":"#REF!"}},28,"男","01",202308091502,"合格"]
[4,"吴元锋",{"$f":"DATE(MID(#REF!,7,4),MID(#REF!,11,2),MID(#REF!,13,2))","v":{"$error":"#REF!"}},35,"男","01",202308090522,"合格"]
[5,"杨康",{"$f":"DATE(MID(#REF!,7,4),MID(#REF!,11,2),MID(#REF!,13,2))","v":{"$error":"#REF!"}},30,"男","01",202308090519,"合格"]
[6,"黄杰",{"$f":"DATE(MID(#REF!,7,4),MID(#REF!,11,2),MID(#REF!,13,2))","v":{"$error":"#REF!"}},23,"女","01",202308091423,"合格"]
[7,"杨涛屹",{"$f":"DATE(MID(#REF!,7,4),MID(#REF!,11,2),MID(#REF!,13,2))","v":{"$error":"#REF!"}},25,"男","02",202308091116,"合格"]
[8,"李如府",{"$f":"DATE(MID(#REF!,7,4),MID(#REF!,11,2),MID(#REF!,13,2))","v":{"$error":"#REF!"}},24,"男","02",202308091318,"合格"]
[9,"莫林艺",{"$f":"DATE(MID(#REF!,7,4),MID(#REF!,11,2),MID(#REF!,13,2))","v":{"$error":"#REF!"}},31,"男","02",202308091322,"合格"]
[10,"张国伟",{"$f":"DATE(MID(#REF!,7,4),MID(#REF!,11,2),MID(#REF!,13,2))","v":{"$error":"#REF!"}},27,"男","02",202308090903,"合格"]
[11,"杨鑫",{"$f":"DATE(MID(#REF!,7,4),MID(#REF!,11,2),MID(#REF!,13,2))","v":{"$error":"#REF!"}},25,"男","02",202308090827,"合格"]
[12,"雷刚刚",{"$f":"DATE(MID(#REF!,7,4),MID(#REF!,11,2),MID(#REF!,13,2))","v":{"$error":"#REF!"}},34,"男","02",202308091126,"合格"]
[13,"杨方伟",{"$f":"DATE(MID(#REF!,7,4),MID(#REF!,11,2),MID(#REF!,13,2))","v":{"$error":"#REF!"}},28,"男","02",202308090620,"合格"]
[14,"祝弟勇",{"$f":"DATE(MID(#REF!,7,4),MID(#REF!,11,2),MID(#REF!,13,2))","v":{"$error":"#REF!"}},23,"男","02",202308090506,"合格"]
[15,"敬裕",{"$f":"DATE(MID(#REF!,7,4),MID(#REF!,11,2),MID(#REF!,13,2))","v":{"$error":"#REF!"}},25,"女","02",202308090428,"合格"]
[16,"岑康力",{"$f":"DATE(MID(#REF!,7,4),MID(#REF!,11,2),MID(#REF!,13,2))","v":{"$error":"#REF!"}},27,"男","03",202308090804,"合格"]
[17,"王应涛",{"$f":"DATE(MID(#REF!,7,4),MID(#REF!,11,2),MID(#REF!,13,2))","v":{"$error":"#REF!"}},25,"男","03",202308090805,"合格"]
[18,"潘秀长",{"$f":"DATE(MID(#REF!,7,4),MID(#REF!,11,2),MID(#REF!,13,2))","v":{"$error":"#REF!"}},27,"男","03",202308091405,"合格"]
[19,"蒙光诚",{"$f":"DATE(MID(#REF!,7,4),MID(#REF!,11,2),MID(#REF!,13,2))","v":{"$error":"#REF!"}},25,"男","03",202308090609,"合格"]
[20,"吴春重",{"$f":"DATE(MID(#REF!,7,4),MID(#REF!,11,2),MID(#REF!,13,2))","v":{"$error":"#REF!"}},24,"男","03",202308091027,"合格"]
[21,"杨忠造",{"$f":"DATE(MID(#REF!,7,4),MID(#REF!,11,2),MID(#REF!,13,2))","v":{"$error":"#REF!"}},25,"男","03",202308091430,"合格"]
[22,"雷浩",{"$f":"DATE(MID(#REF!,7,4),MID(#REF!,11,2),MID(#REF!,13,2))","v":{"$error":"#REF!"}},22,"男","03",202308091302,"合格"]
[23,"万天林",{"$f":"DATE(MID(#REF!,7,4),MID(#REF!,11,2),MID(#REF!,13,2))","v":{"$error":"#REF!"}},28,"男","03",202308090917,"合格"]
[24,"蒙焕东",{"$f":"DATE(MID(#REF!,7,4),MID(#REF!,11,2),MID(#REF!,13,2))","v":{"$error":"#REF!"}},25,"男","03",202308090405,"合格"]
[25,"覃世纪",{"$f":"DATE(MID(#REF!,7,4),MID(#REF!,11,2),MID(#REF!,13,2))","v":{"$error":"#REF!"}},23,"男","03",202308090815,"合格"]
[26,"王清学",{"$f":"DATE(MID(#REF!,7,4),MID(#REF!,11,2),MID(#REF!,13,2))","v":{"$error":"#REF!"}},23,"男","03",202308091221,"合格"]
[27,"陆荣爽",{"$f":"DATE(MID(#REF!,7,4),MID(#REF!,11,2),MID(#REF!,13,2))","v":{"$error":"#REF!"}},28,"男","03",202308090901,"合格"]
[28,"唐成洪",{"$f":"DATE(MID(#REF!,7,4),MID(#REF!,11,2),MID(#REF!,13,2))","v":{"$error":"#REF!"}},25,"男","04",202308090524,"合格"]
[29,"杨斌",{"$f":"DATE(MID(#REF!,7,4),MID(#REF!,11,2),MID(#REF!,13,2))","v":{"$error":"#REF!"}},21,"男","04",202308090317,"合格"]
[30,"王国江",{"$f":"DATE(MID(#REF!,7,4),MID(#REF!,11,2),MID(#REF!,13,2))","v":{"$error":"#REF!"}},25,"男","04",202308090920,"合格"]
[31,"唐寿伟",{"$f":"DATE(MID(#REF!,7,4),MID(#REF!,11,2),MID(#REF!,13,2))","v":{"$error":"#REF!"}},23,"男","04",202308091107,"合格"]
[32,"魏全龙",{"$f":"DATE(MID(#REF!,7,4),MID(#REF!,11,2),MID(#REF!,13,2))","v":{"$error":"#REF!"}},24,"男","04",202308091428,"合格"]
[33,"秦超超",{"$f":"DATE(MID(#REF!,7,4),MID(#REF!,11,2),MID(#REF!,13,2))","v":{"$error":"#REF!"}},26,"男","04",202308091222,"合格"]
[34,"马猛",{"$f":"DATE(MID(#REF!,7,4),MID(#REF!,11,2),MID(#REF!,13,2))","v":{"$error":"#REF!"}},25,"男","04",202308090423,"合格"]
[35,"陈元",{"$f":"DATE(MID(#REF!,7,4),MID(#REF!,11,2),MID(#REF!,13,2))","v":{"$error":"#REF!"}},25,"男","04",202308090912,"合格"]
[36,"王家祥",{"$f":"DATE(MID(#REF!,7,4),MID(#REF!,11,2),MID(#REF!,13,2))","v":{"$error":"#REF!"}},30,"男","04",202308090922,"合格"]