{"text_format":"3","workbook":"xlsx","n_sheets":1,"sheets":["成绩汇总"],"not_rendered":{"external_links":6,"defined_names":1},"read":"whole","date_system":"1900"}

{"sheet":"成绩汇总","index":0,"n_rows":363,"n_cols":12,"rows_kept":363,"merged":[[0,0,0,11],[1,0,1,11],[2,0,3,0],[2,1,3,1],[2,2,3,2],[2,3,3,3],[2,4,2,8],[2,9,3,9],[2,10,3,10],[2,11,3,11]]}
["遵义市卫生健康事业单位2023年下半年面向全国公开招引医务人才"]
["线下笔试、现场考评成绩及进入下一环节人员名单"]
["准考证号","报考单位","报考岗位及代码","岗位招引数量","综合成绩",{"$nulls":4},"名次","是否进入下一环节","备注"]
[{"$nulls":4},"线下笔试成绩","按20%折算后线下笔试成绩","现场考评成绩","按80%折算后现场考评成绩","总成绩"]
["202312230128","遵义市第一人民医院","医学博士01",2,"免试",null,85.33,null,85.33,1,"是","博士研究生"]
["202312230106","遵义市第一人民医院","血液科医师02",1,{"$nulls":5},"缺考","否"]
["202312230118","遵义市第一人民医院","消化内科医师03",1,{"v":80,"d":"80.00"},{"$f":"E7*0.2","v":{"v":16,"d":"16.00"}},79.33,{"$f":"G7*0.8","v":{"v":63.464,"d":"63.46"}},{"$f":"F7+H7","v":{"v":79.464,"d":"79.46"}},1,"是"]
["202312230103","遵义市第一人民医院","消化内科医师03",1,{"$nulls":5},"缺考","否"]
["202312230110","遵义市第一人民医院","消化内科医师03",1,{"$nulls":5},"缺考","否"]
["202312230125","遵义市第一人民医院","消化内科医师03",1,{"$nulls":5},"缺考","否"]
["202312230114","遵义市第一人民医院","肾脏内科医师04",1,{"v":74,"d":"74.00"},{"$f":"E11*0.2","v":{"v":14.8,"d":"14.80"}},78.67,{"$f":"G11*0.8","v":{"v":62.936,"d":"62.94"}},{"$f":"F11+H11","v":{"v":77.736,"d":"77.74"}},1,"是"]
["202312230121","遵义市第一人民医院","骨科二病区医师05",1,{"v":74,"d":"74.00"},{"$f":"E12*0.2","v":{"v":14.8,"d":"14.80"}},85.33,{"$f":"G12*0.8","v":{"v":68.264,"d":"68.26"}},{"$f":"F12+H12","v":{"v":83.064,"d":"83.06"}},1,"是"]
["202312230101","遵义市第一人民医院","骨科二病区医师05",1,{"v":82,"d":"82.00"},{"$f":"E13*0.2","v":{"v":16.4,"d":"16.40"}},{"v":83,"d":"83.00"},{"$f":"G13*0.8","v":{"v":66.4,"d":"66.40"}},{"$f":"F13+H13","v":{"v":82.8,"d":"82.80"}},2,"否"]
["202312230115","遵义市第一人民医院","骨科二病区医师05",1,{"v":75,"d":"75.00"},{"$f":"E14*0.2","v":{"v":15,"d":"15.00"}},81.67,{"$f":"G14*0.8","v":{"v":65.336,"d":"65.34"}},{"$f":"F14+H14","v":{"v":80.336,"d":"80.34"}},3,"否"]
["202312230129","遵义市第一人民医院","骨科二病区医师05",1,{"v":71,"d":"71.00"},{"$f":"E15*0.2","v":{"v":14.2,"d":"14.20"}},{"v":80,"d":"80.00"},{"$f":"G15*0.8","v":{"v":64,"d":"64.00"}},{"$f":"F15+H15","v":{"v":78.2,"d":"78.20"}},4,"否"]
["202312230126","遵义市第一人民医院","骨科二病区医师05",1,{"$nulls":5},"缺考","否"]
["202312230130","遵义市第一人民医院","骨科二病区医师05",1,{"$nulls":5},"缺考","否"]
["202312230120","遵义市第一人民医院","乳甲外科影像医师06",1,{"v":77,"d":"77.00"},{"$f":"E18*0.2","v":{"v":15.4,"d":"15.40"}},81.67,{"$f":"G18*0.8","v":{"v":65.336,"d":"65.34"}},{"$f":"F18+H18","v":{"v":80.736,"d":"80.74"}},1,"是"]
["202312230122","遵义市妇幼保健院","儿童保健科医师01",1,"免试",null,{"$f":"VLOOKUP(A19,[6]Sheet1!$D$4:$G$28,4,0)","v":88.33},null,88.33,1,"是","博士研究生"]
["202312230119","遵义市妇幼保健院","妇产科体系医师02",3,{"$nulls":5},"缺考","否"]
["202312230116","遵义市妇幼保健院","小儿外科医师03",1,{"$f":"VLOOKUP(A21,[1]Sheet1!$C$3:$F$3600,4,0)","v":{"v":74,"d":"74.00"}},{"$f":"E21*0.2","v":{"v":14.8,"d":"14.80"}},{"$f":"VLOOKUP(A21,[6]Sheet1!$D$4:$G$28,4,0)","v":85.17},{"$f":"G21*0.8","v":{"v":68.136,"d":"68.14"}},{"$f":"F21+H21","v":{"v":82.936,"d":"82.94"}},1,"是"]
["202312230218","遵义市妇幼保健院","急诊重症医师05",1,{"$f":"VLOOKUP(A22,[1]Sheet1!$C$3:$F$3600,4,0)","v":{"v":76,"d":"76.00"}},{"$f":"E22*0.2","v":{"v":15.2,"d":"15.20"}},{"$f":"VLOOKUP(A22,[6]Sheet1!$D$4:$G$28,4,0)","v":{"v":85,"d":"85.00"}},{"$f":"G22*0.8","v":{"v":68,"d":"68.00"}},{"$f":"F22+H22","v":{"v":83.2,"d":"83.20"}},1,"是"]
["202312230203","遵义市妇幼保健院","急诊重症医师05",1,{"$nulls":5},"缺考","否"]
["202312230124","遵义市妇幼保健院","药学部工作人员06",1,{"$f":"VLOOKUP(A24,[1]Sheet1!$C$3:$F$3600,4,0)","v":{"v":78,"d":"78.00"}},{"$f":"E24*0.2","v":{"v":15.6,"d":"15.60"}},{"$f":"VLOOKUP(A24,[6]Sheet1!$D$4:$G$28,4,0)","v":87.67},{"$f":"G24*0.8","v":{"v":70.136,"d":"70.14"}},{"$f":"F24+H24","v":{"v":85.736,"d":"85.74"}},1,"是"]
["202312230123","遵义市妇幼保健院","药学部工作人员06",1,{"$f":"VLOOKUP(A25,[1]Sheet1!$C$3:$F$3600,4,0)","v":{"v":79,"d":"79.00"}},{"v":15.8,"d":"15.80"},{"$f":"VLOOKUP(A25,[6]Sheet1!$D$4:$G$28,4,0)","v":{"v":86,"d":"86.00"}},{"v":68.8,"d":"68.80"},{"v":84.6,"d":"84.60"},2,"否"]
["202312230227","遵义市妇幼保健院","药学部工作人员06",1,{"$f":"VLOOKUP(A26,[1]Sheet1!$C$3:$F$3600,4,0)","v":{"v":77,"d":"77.00"}},{"v":15.4,"d":"15.40"},{"$f":"VLOOKUP(A26,[6]Sheet1!$D$4:$G$28,4,0)","v":86.33},{"v":69.064,"d":"69.06"},{"v":84.464,"d":"84.46"},3,"否"]
["202312230104","遵义市妇幼保健院","药学部工作人员06",1,{"$f":"VLOOKUP(A27,[1]Sheet1!$C$3:$F$3600,4,0)","v":{"v":80,"d":"80.00"}},{"v":16,"d":"16.00"},{"$f":"VLOOKUP(A27,[6]Sheet1!$D$4:$G$28,4,0)","v":84.33},{"v":67.464,"d":"67.46"},{"v":83.464,"d":"83.46"},4,"否"]
["202312230117","遵义市妇幼保健院","药学部工作人员06",1,{"$f":"VLOOKUP(A28,[1]Sheet1!$C$3:$F$3600,4,0)","v":{"v":72,"d":"72.00"}},{"v":14.4,"d":"14.40"},{"$f":"VLOOKUP(A28,[6]Sheet1!$D$4:$G$28,4,0)","v":84.67},{"v":67.736,"d":"67.74"},{"v":82.136,"d":"82.14"},5,"否"]
["202312230127","遵义市妇幼保健院","药学部工作人员06",1,{"$f":"VLOOKUP(A29,[1]Sheet1!$C$3:$F$3600,4,0)","v":{"v":77,"d":"77.00"}},{"v":15.4,"d":"15.40"},{"$f":"VLOOKUP(A29,[6]Sheet1!$D$4:$G$28,4,0)","v":83.33},{"v":66.664,"d":"66.66"},{"v":82.064,"d":"82.06"},6,"否"]
["202312230108","遵义市妇幼保健院","药学部工作人员06",1,{"$f":"VLOOKUP(A30,[1]Sheet1!$C$3:$F$3600,4,0)","v":{"v":77,"d":"77.00"}},{"v":15.4,"d":"15.40"},{"$f":"VLOOKUP(A30,[6]Sheet1!$D$4:$G$28,4,0)","v":83.33},{"v":66.664,"d":"66.66"},{"v":82.064,"d":"82.06"},6,"否"]
["202312230109","遵义市妇幼保健院","药学部工作人员06",1,{"$f":"VLOOKUP(A31,[1]Sheet1!$C$3:$F$3600,4,0)","v":{"v":76,"d":"76.00"}},{"v":15.2,"d":"15.20"},{"$f":"VLOOKUP(A31,[6]Sheet1!$D$4:$G$28,4,0)","v":83.33},{"v":66.664,"d":"66.66"},{"v":81.864,"d":"81.86"},8,"否"]
["202312230111","遵义市妇幼保健院","药学部工作人员06",1,{"$f":"VLOOKUP(A32,[1]Sheet1!$C$3:$F$3600,4,0)","v":{"v":76,"d":"76.00"}},{"v":15.2,"d":"15.20"},{"$f":"VLOOKUP(A32,[6]Sheet1!$D$4:$G$28,4,0)","v":83.33},{"v":66.664,"d":"66.66"},{"v":81.864,"d":"81.86"},8,"否"]
["202312230212","遵义市妇幼保健院","药学部工作人员06",1,{"$f":"VLOOKUP(A33,[1]Sheet1!$C$3:$F$3600,4,0)","v":{"v":70,"d":"70.00"}},{"v":14,"d":"14.00"},{"$f":"VLOOKUP(A33,[6]Sheet1!$D$4:$G$28,4,0)","v":82.67},{"v":66.136,"d":"66.14"},{"v":80.136,"d":"80.14"},10,"否"]
["202312230207","遵义市妇幼保健院","药学部工作人员06",1,{"$f":"VLOOKUP(A34,[1]Sheet1!$C$3:$F$3600,4,0)","v":{"v":72,"d":"72.00"}},{"v":14.4,"d":"14.40"},{"$f":"VLOOKUP(A34,[6]Sheet1!$D$4:$G$28,4,0)","v":{"v":82,"d":"82.00"}},{"v":65.6,"d":"65.60"},{"v":80,"d":"80.00"},11,"否"]
["202312230112","遵义市妇幼保健院","药学部工作人员06",1,{"$f":"VLOOKUP(A35,[1]Sheet1!$C$3:$F$3600,4,0)","v":{"v":69,"d":"69.00"}},{"v":13.8,"d":"13.80"},{"$f":"VLOOKUP(A35,[6]Sheet1!$D$4:$G$28,4,0)","v":82.67},{"v":66.136,"d":"66.14"},{"v":79.936,"d":"79.94"},12,"否"]
["202312230211","遵义市妇幼保健院","药学部工作人员06",1,{"$f":"VLOOKUP(A36,[1]Sheet1!$C$3:$F$3600,4,0)","v":{"v":73,"d":"73.00"}},{"v":14.6,"d":"14.60"},{"$f":"VLOOKUP(A36,[6]Sheet1!$D$4:$G$28,4,0)","v":81.33},{"v":65.064,"d":"65.06"},{"v":79.664,"d":"79.66"},12,"否"]
["202312230228","遵义市妇幼保健院","药学部工作人员06",1,{"$f":"VLOOKUP(A37,[1]Sheet1!$C$3:$F$3600,4,0)","v":{"v":74,"d":"74.00"}},{"v":14.8,"d":"14.80"},{"$f":"VLOOKUP(A37,[6]Sheet1!$D$4:$G$28,4,0)","v":79.67},{"v":63.736,"d":"63.74"},{"v":78.536,"d":"78.54"},14,"否"]
["202312230217","遵义市妇幼保健院","药学部工作人员06",1,{"$f":"VLOOKUP(A38,[1]Sheet1!$C$3:$F$3600,4,0)","v":{"v":68,"d":"68.00"}},{"v":13.6,"d":"13.60"},{"$f":"VLOOKUP(A38,[6]Sheet1!$D$4:$G$28,4,0)","v":{"v":80,"d":"80.00"}},{"v":64,"d":"64.00"},{"v":77.6,"d":"77.60"},15,"否"]
["202312230105","遵义市妇幼保健院","药学部工作人员06",1,{"$f":"VLOOKUP(A39,[1]Sheet1!$C$3:$F$3600,4,0)","v":{"v":68,"d":"68.00"}},{"v":13.6,"d":"13.60"},{"$f":"VLOOKUP(A39,[6]Sheet1!$D$4:$G$28,4,0)","v":74.33},{"v":59.464,"d":"59.46"},{"v":73.064,"d":"73.06"},16,"否"]
["202312230107","遵义市妇幼保健院","药学部工作人员06",1,{"$f":"VLOOKUP(A40,[1]Sheet1!$C$3:$F$3600,4,0)","v":{"v":71,"d":"71.00"}},{"v":14.2,"d":"14.20"},{"$f":"VLOOKUP(A40,[6]Sheet1!$D$4:$G$28,4,0)","v":"缺考"},"缺考",{"v":14.2,"d":"14.20"},17,"否"]
["202312230102","遵义市妇幼保健院","药学部工作人员06",1,{"$nulls":5},"缺考","否"]
["202312230113","遵义市妇幼保健院","药学部工作人员06",1,{"$nulls":5},"缺考","否"]
["202312230225","遵义市妇幼保健院","药学部工作人员06",1,{"$nulls":5},"缺考","否"]
["202312230226","遵义市中医院","口腔科医师02",1,{"$f":"VLOOKUP(A44,[1]Sheet1!$C$3:$F$3600,4,0)","v":{"v":70,"d":"70.00"}},{"$f":"E44*0.2","v":{"v":14,"d":"14.00"}},{"$f":"VLOOKUP(A44,[2]Sheet1!$D$4:$G$31,4,0)","v":{"v":82,"d":"82.00"}},{"$f":"G44*0.8","v":{"v":65.6,"d":"65.60"}},{"$f":"F44+H44","v":{"v":79.6,"d":"79.60"}},1,"是"]
["202312230221","遵义市中医院","口腔科医师02",1,{"$f":"VLOOKUP(A45,[1]Sheet1!$C$3:$F$3600,4,0)","v":{"v":73,"d":"73.00"}},{"$f":"E45*0.2","v":{"v":14.6,"d":"14.60"}},{"$f":"VLOOKUP(A45,[2]Sheet1!$D$4:$G$31,4,0)","v":79.67},{"$f":"G45*0.8","v":{"v":63.736,"d":"63.74"}},{"$f":"F45+H45","v":{"v":78.336,"d":"78.34"}},2,"否"]
["202312230223","遵义市中医院","口腔科医师02",1,{"$f":"VLOOKUP(A46,[1]Sheet1!$C$3:$F$3600,4,0)","v":{"v":70,"d":"70.00"}},{"$f":"E46*0.2","v":{"v":14,"d":"14.00"}},{"$f":"VLOOKUP(A46,[2]Sheet1!$D$4:$G$31,4,0)","v":79.67},{"$f":"G46*0.8","v":{"v":63.736,"d":"63.74"}},{"$f":"F46+H46","v":{"v":77.736,"d":"77.74"}},3,"否"]
["202312230210","遵义市中医院","泌尿外科医师03",1,{"$f":"VLOOKUP(A47,[1]Sheet1!$C$3:$F$3600,4,0)","v":{"v":79,"d":"79.00"}},{"$f":"E47*0.2","v":{"v":15.8,"d":"15.80"}},{"$f":"VLOOKUP(A47,[2]Sheet1!$D$4:$G$31,4,0)","v":81.33},{"$f":"G47*0.8","v":{"v":65.064,"d":"65.06"}},{"$f":"F47+H47","v":{"v":80.864,"d":"80.86"}},1,"是"]
["202312230213","遵义市中医院","泌尿外科医师03",1,{"$f":"VLOOKUP(A48,[1]Sheet1!$C$3:$F$3600,4,0)","v":{"v":72,"d":"72.00"}},{"$f":"E48*0.2","v":{"v":14.4,"d":"14.40"}},{"$f":"VLOOKUP(A48,[2]Sheet1!$D$4:$G$31,4,0)","v":82.33},{"$f":"G48*0.8","v":{"v":65.864,"d":"65.86"}},{"$f":"F48+H48","v":{"v":80.264,"d":"80.26"}},2,"否"]
["202312230216","遵义市中医院","泌尿外科医师03",1,{"$nulls":5},"缺考","否"]
["202312230222","遵义市中医院","肛肠科医师04",1,{"$f":"VLOOKUP(A50,[1]Sheet1!$C$3:$F$3600,4,0)","v":{"v":86,"d":"86.00"}},{"$f":"E50*0.2","v":{"v":17.2,"d":"17.20"}},{"$f":"VLOOKUP(A50,[2]Sheet1!$D$4:$G$31,4,0)","v":82.67},{"$f":"G50*0.8","v":{"v":66.136,"d":"66.14"}},{"$f":"F50+H50","v":{"v":83.336,"d":"83.34"}},1,"是"]
["202312230229","遵义市中医院","肛肠科医师04",1,{"$f":"VLOOKUP(A51,[1]Sheet1!$C$3:$F$3600,4,0)","v":{"v":78,"d":"78.00"}},{"v":15.6,"d":"15.60"},{"$f":"VLOOKUP(A51,[2]Sheet1!$D$4:$G$31,4,0)","v":81.33},{"v":65.064,"d":"65.06"},{"v":80.664,"d":"80.66"},2,"否"]
["202312230215","遵义市中医院","肛肠科医师04",1,{"$f":"VLOOKUP(A52,[1]Sheet1!$C$3:$F$3600,4,0)","v":{"v":68,"d":"68.00"}},{"v":13.6,"d":"13.60"},{"$f":"VLOOKUP(A52,[2]Sheet1!$D$4:$G$31,4,0)","v":79.67},{"v":63.736,"d":"63.74"},{"v":77.336,"d":"77.34"},3,"否"]
["202312230224","遵义市中医院","康复科医师06",1,{"$f":"VLOOKUP(A53,[1]Sheet1!$C$3:$F$3600,4,0)","v":{"v":73,"d":"73.00"}},{"v":14.6,"d":"14.60"},{"$f":"VLOOKUP(A53,[2]Sheet1!$D$4:$G$31,4,0)","v":{"v":78,"d":"78.00"}},{"v":62.4,"d":"62.40"},{"v":77,"d":"77.00"},1,"是"]
["202312230214","遵义市中医院","医务部工作人员07",1,{"$f":"VLOOKUP(A54,[1]Sheet1!$C$3:$F$3600,4,0)","v":{"v":80,"d":"80.00"}},{"v":16,"d":"16.00"},{"$f":"VLOOKUP(A54,[2]Sheet1!$D$4:$G$31,4,0)","v":{"v":83,"d":"83.00"}},{"v":66.4,"d":"66.40"},{"v":82.4,"d":"82.40"},1,"是"]
["202312230230","遵义市中医院","医务部工作人员07",1,{"$f":"VLOOKUP(A55,[1]Sheet1!$C$3:$F$3600,4,0)","v":{"v":75,"d":"75.00"}},{"v":15,"d":"15.00"},{"$f":"VLOOKUP(A55,[2]Sheet1!$D$4:$G$31,4,0)","v":81.33},{"v":65.064,"d":"65.06"},{"v":80.064,"d":"80.06"},2,"否"]
["202312230204","遵义市中医院","医务部工作人员07",1,{"$f":"VLOOKUP(A56,[1]Sheet1!$C$3:$F$3600,4,0)","v":{"v":73,"d":"73.00"}},{"v":14.6,"d":"14.60"},{"$f":"VLOOKUP(A56,[2]Sheet1!$D$4:$G$31,4,0)","v":77.33},{"v":61.864,"d":"61.86"},{"v":76.464,"d":"76.46"},3,"否"]
["202312230308","遵义市中医院","人力资源部工作人员09",1,{"$f":"VLOOKUP(A57,[1]Sheet1!$C$3:$F$3600,4,0)","v":{"v":76,"d":"76.00"}},{"v":15.2,"d":"15.20"},{"$f":"VLOOKUP(A57,[2]Sheet1!$D$4:$G$31,4,0)","v":84.33},{"v":67.464,"d":"67.46"},{"v":82.664,"d":"82.66"},1,"是"]
["202312230324","遵义市中医院","人力资源部工作人员09",1,{"$f":"VLOOKUP(A58,[1]Sheet1!$C$3:$F$3600,4,0)","v":{"v":83,"d":"83.00"}},{"v":16.6,"d":"16.60"},{"$f":"VLOOKUP(A58,[2]Sheet1!$D$4:$G$31,4,0)","v":{"v":80,"d":"80.00"}},{"v":64,"d":"64.00"},{"v":80.6,"d":"80.60"},2,"否"]
["202312230205","遵义市中医院","人力资源部工作人员09",1,{"$f":"VLOOKUP(A59,[1]Sheet1!$C$3:$F$3600,4,0)","v":{"v":84,"d":"84.00"}},{"v":16.8,"d":"16.80"},{"$f":"VLOOKUP(A59,[2]Sheet1!$D$4:$G$31,4,0)","v":79.67},{"v":63.736,"d":"63.74"},{"v":80.536,"d":"80.54"},3,"否"]
["202312230202","遵义市中医院","人力资源部工作人员09",1,{"$f":"VLOOKUP(A60,[1]Sheet1!$C$3:$F$3600,4,0)","v":{"v":83,"d":"83.00"}},{"v":16.6,"d":"16.60"},{"$f":"VLOOKUP(A60,[2]Sheet1!$D$4:$G$31,4,0)","v":79.67},{"v":63.736,"d":"63.74"},{"v":80.336,"d":"80.34"},4,"否"]
["202312230220","遵义市中医院","人力资源部工作人员09",1,{"$f":"VLOOKUP(A61,[1]Sheet1!$C$3:$F$3600,4,0)","v":{"v":72,"d":"72.00"}},{"v":14.4,"d":"14.40"},{"$f":"VLOOKUP(A61,[2]Sheet1!$D$4:$G$31,4,0)","v":{"v":82,"d":"82.00"}},{"v":65.6,"d":"65.60"},{"v":80,"d":"80.00"},5,"否"]
["202312230321","遵义市中医院","人力资源部工作人员09",1,{"$f":"VLOOKUP(A62,[1]Sheet1!$C$3:$F$3600,4,0)","v":{"v":81,"d":"81.00"}},{"v":16.2,"d":"16.20"},{"$f":"VLOOKUP(A62,[2]Sheet1!$D$4:$G$31,4,0)","v":79.67},{"v":63.736,"d":"63.74"},{"v":79.936,"d":"79.94"},6,"否"]
["202312230201","遵义市中医院","人力资源部工作人员09",1,{"$f":"VLOOKUP(A63,[1]Sheet1!$C$3:$F$3600,4,0)","v":{"v":75,"d":"75.00"}},{"v":15,"d":"15.00"},{"$f":"VLOOKUP(A63,[2]Sheet1!$D$4:$G$31,4,0)","v":{"v":81,"d":"81.00"}},{"v":64.8,"d":"64.80"},{"v":79.8,"d":"79.80"},7,"否"]
["202312230219","遵义市中医院","人力资源部工作人员09",1,{"$f":"VLOOKUP(A64,[1]Sheet1!$C$3:$F$3600,4,0)","v":{"v":82,"d":"82.00"}},{"v":16.4,"d":"16.40"},{"$f":"VLOOKUP(A64,[2]Sheet1!$D$4:$G$31,4,0)","v":78.67},{"v":62.936,"d":"62.94"},{"v":79.336,"d":"79.34"},8,"否"]
["202312230206","遵义市中医院","人力资源部工作人员09",1,{"$f":"VLOOKUP(A65,[1]Sheet1!$C$3:$F$3600,4,0)","v":{"v":74,"d":"74.00"}},{"v":14.8,"d":"14.80"},{"$f":"VLOOKUP(A65,[2]Sheet1!$D$4:$G$31,4,0)","v":{"v":80,"d":"80.00"}},{"v":64,"d":"64.00"},{"v":78.8,"d":"78.80"},9,"否"]
["202312230322","遵义市中医院","人力资源部工作人员09",1,{"$f":"VLOOKUP(A66,[1]Sheet1!$C$3:$F$3600,4,0)","v":{"v":71,"d":"71.00"}},{"v":14.2,"d":"14.20"},{"$f":"VLOOKUP(A66,[2]Sheet1!$D$4:$G$31,4,0)","v":78.67},{"v":62.936,"d":"62.94"},{"v":77.136,"d":"77.14"},10,"否"]
["202312230208","遵义市中医院","人力资源部工作人员09",1,{"$f":"VLOOKUP(A67,[1]Sheet1!$C$3:$F$3600,4,0)","v":{"v":67,"d":"67.00"}},{"v":13.4,"d":"13.40"},{"$f":"VLOOKUP(A67,[2]Sheet1!$D$4:$G$31,4,0)","v":79.33},{"v":63.464,"d":"63.46"},{"v":76.864,"d":"76.86"},11,"否"]
["202312230317","遵义市中医院","人力资源部工作人员09",1,{"$f":"VLOOKUP(A68,[1]Sheet1!$C$3:$F$3600,4,0)","v":{"v":67,"d":"67.00"}},{"v":13.4,"d":"13.40"},{"$f":"VLOOKUP(A68,[2]Sheet1!$D$4:$G$31,4,0)","v":79.33},{"v":63.464,"d":"63.46"},{"v":76.864,"d":"76.86"},11,"否"]
["202312230209","遵义市中医院","人力资源部工作人员09",1,{"$f":"VLOOKUP(A69,[1]Sheet1!$C$3:$F$3600,4,0)","v":{"v":65,"d":"65.00"}},{"v":13,"d":"13.00"},{"$f":"VLOOKUP(A69,[2]Sheet1!$D$4:$G$31,4,0)","v":79.33},{"v":63.464,"d":"63.46"},{"v":76.464,"d":"76.46"},13,"否"]
["202312230310","遵义市中医院","人力资源部工作人员09",1,{"$f":"VLOOKUP(A70,[1]Sheet1!$C$3:$F$3600,4,0)","v":{"v":65,"d":"65.00"}},{"v":13,"d":"13.00"},{"$f":"VLOOKUP(A70,[2]Sheet1!$D$4:$G$31,4,0)","v":{"v":79,"d":"79.00"}},{"v":63.2,"d":"63.20"},{"v":76.2,"d":"76.20"},14,"否"]
["202312230328","遵义市中医院","人力资源部工作人员09",1,{"$nulls":5},"缺考","否"]
["202312230315","遵义市传染病医院（遵义市第四人民医院）","内科医师01",4,{"$nulls":5},"缺考","否"]
["202312230313","遵义市传染病医院（遵义市第四人民医院）","检验师05",1,{"$f":"VLOOKUP(A73,[1]Sheet1!$C$3:$F$3600,4,0)","v":{"v":66,"d":"66.00"}},{"$f":"E73*0.2","v":{"v":13.2,"d":"13.20"}},{"$f":"VLOOKUP(A73,[4]Sheet1!$D$4:$G$9,4,0)","v":74.33},{"$f":"G73*0.8","v":{"v":59.464,"d":"59.46"}},{"$f":"F73+H73","v":{"v":72.664,"d":"72.66"}},1,"是"]
["202312230312","遵义市传染病医院（遵义市第四人民医院）","感染科医师07",4,{"$f":"VLOOKUP(A74,[1]Sheet1!$C$3:$F$3600,4,0)","v":{"v":58,"d":"58.00"}},{"$f":"E74*0.2","v":{"v":11.6,"d":"11.60"}},{"$f":"VLOOKUP(A74,[4]Sheet1!$D$4:$G$9,4,0)","v":84.67},{"$f":"G74*0.8","v":{"v":67.736,"d":"67.74"}},{"$f":"F74+H74","v":{"v":79.336,"d":"79.34"}},1,"是"]
["202312230301","遵义市传染病医院（遵义市第四人民医院）","重症医学科医师08",1,{"$f":"VLOOKUP(A75,[1]Sheet1!$C$3:$F$3600,4,0)","v":{"v":60,"d":"60.00"}},{"$f":"E75*0.2","v":{"v":12,"d":"12.00"}},{"$f":"VLOOKUP(A75,[4]Sheet1!$D$4:$G$9,4,0)","v":80.67},{"$f":"G75*0.8","v":{"v":64.536,"d":"64.54"}},{"$f":"F75+H75","v":{"v":76.536,"d":"76.54"}},1,"是"]
["202312230330","遵义市传染病医院（遵义市第四人民医院）","康复科医师09",1,{"$f":"VLOOKUP(A76,[1]Sheet1!$C$3:$F$3600,4,0)","v":{"v":64,"d":"64.00"}},{"$f":"E76*0.2","v":{"v":12.8,"d":"12.80"}},{"$f":"VLOOKUP(A76,[4]Sheet1!$D$4:$G$9,4,0)","v":80.67},{"$f":"G76*0.8","v":{"v":64.536,"d":"64.54"}},{"$f":"F76+H76","v":{"v":77.336,"d":"77.34"}},1,"是"]
["202312230311","遵义市传染病医院（遵义市第四人民医院）","康复科医师09",1,{"$nulls":5},"缺考","否"]
["202312230318","遵义市精神专科医院","护士03",3,{"$f":"VLOOKUP(A78,[1]Sheet1!$C$3:$F$3600,4,0)","v":{"v":79,"d":"79.00"}},{"$f":"E78*0.2","v":{"v":15.8,"d":"15.80"}},{"$f":"VLOOKUP(A78,[3]Sheet1!$D$4:$G$9,4,0)","v":79.67},{"$f":"G78*0.8","v":{"v":63.736,"d":"63.74"}},{"$f":"F78+H78","v":{"v":79.536,"d":"79.54"}},1,"是"]
["202312230306","遵义市精神专科医院","护士03",3,{"$nulls":5},"缺考","否"]
["202312230319","遵义市精神专科医院","财务科工作人员05",1,{"$f":"VLOOKUP(A80,[1]Sheet1!$C$3:$F$3600,4,0)","v":{"v":65,"d":"65.00"}},{"$f":"E80*0.2","v":{"v":13,"d":"13.00"}},{"$f":"VLOOKUP(A80,[3]Sheet1!$D$4:$G$9,4,0)","v":78.67},{"$f":"G80*0.8","v":{"v":62.936,"d":"62.94"}},{"$f":"F80+H80","v":{"v":75.936,"d":"75.94"}},1,"是"]
["202312230314","遵义市精神专科医院","精神科住院医师06",3,{"$f":"VLOOKUP(A81,[1]Sheet1!$C$3:$F$3600,4,0)","v":{"v":72,"d":"72.00"}},{"$f":"E81*0.2","v":{"v":14.4,"d":"14.40"}},{"$f":"VLOOKUP(A81,[3]Sheet1!$D$4:$G$9,4,0)","v":79.67},{"$f":"G81*0.8","v":{"v":63.736,"d":"63.74"}},{"$f":"F81+H81","v":{"v":78.136,"d":"78.14"}},1,"是"]
["202312230309","遵义市精神专科医院","心电图医师10",1,{"$f":"VLOOKUP(A82,[1]Sheet1!$C$3:$F$3600,4,0)","v":{"v":74,"d":"74.00"}},{"$f":"E82*0.2","v":{"v":14.8,"d":"14.80"}},{"$f":"VLOOKUP(A82,[3]Sheet1!$D$4:$G$9,4,0)","v":84.67},{"$f":"G82*0.8","v":{"v":67.736,"d":"67.74"}},{"$f":"F82+H82","v":{"v":82.536,"d":"82.54"}},1,"是"]
["202312230329","遵义市精神专科医院","心电图医师10",1,{"$f":"VLOOKUP(A83,[1]Sheet1!$C$3:$F$3600,4,0)","v":{"v":71,"d":"71.00"}},{"$f":"E83*0.2","v":{"v":14.2,"d":"14.20"}},{"$f":"VLOOKUP(A83,[3]Sheet1!$D$4:$G$9,4,0)","v":{"v":83,"d":"83.00"}},{"$f":"G83*0.8","v":{"v":66.4,"d":"66.40"}},{"$f":"F83+H83","v":{"v":80.6,"d":"80.60"}},2,"否"]
["202312230323","贵州航天医院","骨科医师01",2,{"$f":"VLOOKUP(A84,[1]Sheet1!$C$3:$F$3600,4,0)","v":{"v":77,"d":"77.00"}},{"$f":"E84*0.2","v":{"v":15.4,"d":"15.40"}},{"$f":"VLOOKUP(A84,[5]Sheet2!$D$1:$G$12,4,0)","v":82.33},{"$f":"G84*0.8","v":{"v":65.864,"d":"65.86"}},{"$f":"F84+H84","v":{"v":81.264,"d":"81.26"}},1,"是"]
["202312230302","贵州航天医院","骨科医师01",2,{"$nulls":5},"缺考","否"]
["202312230320","贵州航天医院","神经外科医师02",1,{"$f":"VLOOKUP(A86,[1]Sheet1!$C$3:$F$3600,4,0)","v":{"v":68,"d":"68.00"}},{"$f":"E86*0.2","v":{"v":13.6,"d":"13.60"}},{"$f":"VLOOKUP(A86,[5]Sheet2!$D$1:$G$12,4,0)","v":75.67},{"$f":"G86*0.8","v":{"v":60.536,"d":"60.54"}},{"$f":"F86+H86","v":{"v":74.136,"d":"74.14"}},1,"是"]
["202312230304","贵州航天医院","重症医学科医师03",1,{"$f":"VLOOKUP(A87,[1]Sheet1!$C$3:$F$3600,4,0)","v":{"v":83,"d":"83.00"}},{"v":16.6,"d":"16.60"},{"$f":"VLOOKUP(A87,[5]Sheet2!$D$1:$G$12,4,0)","v":86.67},{"v":69.336,"d":"69.34"},{"v":85.936,"d":"85.94"},1,"是"]
["202312230316","贵州航天医院","重症医学科医师03",1,{"$f":"VLOOKUP(A88,[1]Sheet1!$C$3:$F$3600,4,0)","v":{"v":68,"d":"68.00"}},{"v":13.6,"d":"13.60"},{"$f":"VLOOKUP(A88,[5]Sheet2!$D$1:$G$12,4,0)","v":{"v":83,"d":"83.00"}},{"v":66.4,"d":"66.40"},{"v":80,"d":"80.00"},2,"否"]
["202312230326","贵州航天医院","重症医学科医师03",1,{"$f":"VLOOKUP(A89,[1]Sheet1!$C$3:$F$3600,4,0)","v":{"v":79,"d":"79.00"}},{"v":15.8,"d":"15.80"},{"$f":"VLOOKUP(A89,[5]Sheet2!$D$1:$G$12,4,0)","v":79.67},{"v":63.736,"d":"63.74"},{"v":79.536,"d":"79.54"},3,"否"]
["202312230303","贵州航天医院","眼科医师05",1,{"$f":"VLOOKUP(A90,[1]Sheet1!$C$3:$F$3600,4,0)","v":{"v":76,"d":"76.00"}},{"v":15.2,"d":"15.20"},{"$f":"VLOOKUP(A90,[5]Sheet2!$D$1:$G$12,4,0)","v":80.33},{"v":64.264,"d":"64.26"},{"v":79.464,"d":"79.46"},1,"是"]
["202312230429","贵州航天医院","儿科医师07",1,{"$f":"VLOOKUP(A91,[1]Sheet1!$C$3:$F$3600,4,0)","v":{"v":72,"d":"72.00"}},{"v":14.4,"d":"14.40"},{"$f":"VLOOKUP(A91,[5]Sheet2!$D$1:$G$12,4,0)","v":74.67},{"v":59.736,"d":"59.74"},{"v":74.136,"d":"74.14"},1,"是"]
["202312230305","贵州航天医院","胸外科科研助理10",2,{"$nulls":5},"缺考","否"]
["202312230307","贵州航天医院","胸外科科研助理10",2,{"$nulls":5},"缺考","否"]
["202312230327","贵州航天医院","妇科科研助理11",1,{"$f":"VLOOKUP(A94,[1]Sheet1!$C$3:$F$3600,4,0)","v":{"v":68,"d":"68.00"}},{"$f":"E94*0.2","v":{"v":13.6,"d":"13.60"}},{"$f":"VLOOKUP(A94,[5]Sheet2!$D$1:$G$12,4,0)","v":{"v":84,"d":"84.00"}},{"$f":"G94*0.8","v":{"v":67.2,"d":"67.20"}},{"$f":"F94+H94","v":{"v":80.8,"d":"80.80"}},1,"是"]
["202312230325","贵州航天医院","妇科科研助理11",1,{"$f":"VLOOKUP(A95,[1]Sheet1!$C$3:$F$3600,4,0)","v":{"v":73,"d":"73.00"}},{"$f":"E95*0.2","v":{"v":14.6,"d":"14.60"}},{"$f":"VLOOKUP(A95,[5]Sheet2!$D$1:$G$12,4,0)","v":82.67},{"$f":"G95*0.8","v":{"v":66.136,"d":"66.14"}},{"$f":"F95+H95","v":{"v":80.736,"d":"80.74"}},2,"否"]
["202312230408","遵义市疾病预防控制中心","检验检测01",1,"免试",null,{"v":84,"d":"84.00"},null,{"v":84,"d":"84.00"},1,"是","博士研究生"]
["202312230428","红花岗区人民医院","急诊科医师01",2,{"v":78,"d":"78.00"},{"$f":"E97*0.2","v":{"v":15.6,"d":"15.60"}},"73.67",{"$f":"G97*0.8","v":{"v":58.936,"d":"58.94"}},{"$f":"F97+H97","v":{"v":74.536,"d":"74.54"}},1,"是"]
["202312230421","红花岗区人民医院","急诊科医师01",2,{"v":71,"d":"71.00"},{"v":14.2,"d":"14.20"},"75.33",{"v":60.264,"d":"60.26"},{"v":74.464,"d":"74.46"},2,"是"]
["202312230420","红花岗区人民医院","急诊科医师01",2,{"v":72,"d":"72.00"},{"v":14.4,"d":"14.40"},"74.00",{"v":59.2,"d":"59.20"},{"v":73.6,"d":"73.60"},3,"否"]
["202312230424","红花岗区人民医院","急诊科医师01",2,{"v":67,"d":"67.00"},{"v":13.4,"d":"13.40"},"74.00",{"v":59.2,"d":"59.20"},{"v":72.6,"d":"72.60"},4,"否"]
["202312230419","红花岗区人民医院","急诊科医师01",2,{"v":73,"d":"73.00"},{"v":14.6,"d":"14.60"},"71.33",{"v":57.064,"d":"57.06"},{"v":71.664,"d":"71.66"},5,"否"]
["202312230418","红花岗区人民医院","急诊科医师01",2,{"v":69,"d":"69.00"},{"v":13.8,"d":"13.80"},"72.00",{"v":57.6,"d":"57.60"},{"v":71.4,"d":"71.40"},6,"否"]
["202312230416","红花岗区人民医院","急诊科医师01",2,{"v":70,"d":"70.00"},{"v":14,"d":"14.00"},"70.00",{"v":56,"d":"56.00"},{"v":70,"d":"70.00"},7,"否"]
["202312230409","红花岗区人民医院","急诊科医师01",2,{"v":63,"d":"63.00"},{"v":12.6,"d":"12.60"},"71.67",{"v":57.336,"d":"57.34"},{"v":69.936,"d":"69.94"},8,"否"]
["202312230411","红花岗区人民医院","急诊科医师01",2,{"v":63,"d":"63.00"},{"v":12.6,"d":"12.60"},"71.00",{"v":56.8,"d":"56.80"},{"v":69.4,"d":"69.40"},9,"否"]
["202312230415","红花岗区人民医院","急诊科医师01",2,{"v":62,"d":"62.00"},{"v":12.4,"d":"12.40"},"70.67",{"v":56.536,"d":"56.54"},{"v":68.936,"d":"68.94"},10,"否"]
["202312230406","红花岗区人民医院","急诊科医师01",2,{"v":71,"d":"71.00"},{"v":14.2,"d":"14.20"},"67.67",{"v":54.136,"d":"54.14"},{"v":68.336,"d":"68.34"},11,"否"]
["202312230417","红花岗区人民医院","急诊科医师01",2,{"v":60,"d":"60.00"},{"v":12,"d":"12.00"},69.67,{"v":55.736,"d":"55.74"},{"v":67.736,"d":"67.74"},12,"否"]
["202312230402","红花岗区人民医院","急诊科医师01",2,{"v":55,"d":"55.00"},{"v":11,"d":"11.00"},"69.33",{"v":55.464,"d":"55.46"},{"v":66.464,"d":"66.46"},13,"否"]
["202312230430","红花岗区人民医院","急诊科医师01",2,{"v":66,"d":"66.00"},{"v":13.2,"d":"13.20"},"66.00",{"v":52.8,"d":"52.80"},{"v":66,"d":"66.00"},14,"否"]
["202312230412","红花岗区人民医院","急诊科医师01",2,{"v":55,"d":"55.00"},{"v":11,"d":"11.00"},"68.33",{"v":54.664,"d":"54.66"},{"v":65.664,"d":"65.66"},15,"否"]
["202312230426","红花岗区人民医院","急诊科医师01",2,{"v":60,"d":"60.00"},{"v":12,"d":"12.00"},"66.33",{"v":53.064,"d":"53.06"},{"v":65.064,"d":"65.06"},16,"否"]
["202312230413","红花岗区人民医院","急诊科医师01",2,{"v":66,"d":"66.00"},{"v":13.2,"d":"13.20"},"62.67",{"v":50.136,"d":"50.14"},{"v":63.336,"d":"63.34"},17,"否"]
["202312230403","红花岗区人民医院","急诊科医师01",2,{"$nulls":5},"缺考","否"]
["202312230414","红花岗区人民医院","急诊科医师01",2,{"$nulls":5},"缺考","否"]
["202312230427","红花岗区人民医院","骨外科医师02",1,{"v":89,"d":"89.00"},{"v":17.8,"d":"17.80"},"78.67",{"v":62.936,"d":"62.94"},{"v":80.736,"d":"80.74"},1,"是"]
["202312230405","红花岗区人民医院","骨外科医师02",1,{"v":69,"d":"69.00"},{"v":13.8,"d":"13.80"},"73.67",{"v":58.936,"d":"58.94"},{"v":72.736,"d":"72.74"},2,"否"]
["202312230520","红花岗区人民医院","骨外科医师02",1,{"v":72,"d":"72.00"},{"v":14.4,"d":"14.40"},"72.67",{"v":58.136,"d":"58.14"},{"v":72.536,"d":"72.54"},3,"否"]
["202312230524","红花岗区人民医院","骨外科医师02",1,{"v":73,"d":"73.00"},{"v":14.6,"d":"14.60"},"71.67",{"v":57.336,"d":"57.34"},{"v":71.936,"d":"71.94"},4,"否"]
["202312230407","红花岗区人民医院","骨外科医师02",1,{"v":84,"d":"84.00"},{"v":16.8,"d":"16.80"},"68.67",{"v":54.936,"d":"54.94"},{"v":71.736,"d":"71.74"},5,"否"]
["202312230518","红花岗区人民医院","骨外科医师02",1,{"v":63,"d":"63.00"},{"v":12.6,"d":"12.60"},"68.67",{"v":54.936,"d":"54.94"},{"v":67.536,"d":"67.54"},6,"否"]
["202312230422","红花岗区人民医院","骨外科医师02",1,{"v":73,"d":"73.00"},{"v":14.6,"d":"14.60"},"66.00",{"v":52.8,"d":"52.80"},{"v":67.4,"d":"67.40"},7,"否"]
["202312230401","红花岗区人民医院","骨外科医师02",1,{"v":68,"d":"68.00"},{"v":13.6,"d":"13.60"},65.67,{"v":52.536,"d":"52.54"},{"v":66.136,"d":"66.14"},8,"否"]
["202312230410","红花岗区人民医院","骨外科医师02",1,{"v":65,"d":"65.00"},{"v":13,"d":"13.00"},"61.33",{"v":49.064,"d":"49.06"},{"v":62.064,"d":"62.06"},9,"否"]
["202312230423","红花岗区人民医院","骨外科医师02",1,{"$nulls":5},"缺考","否"]
["202312230425","红花岗区人民医院","骨外科医师02",1,{"$nulls":5},"缺考","否"]
["202312230404","红花岗区人民医院","骨外科医师02",1,{"$nulls":5},"缺考","否"]
["202312230523","红花岗区人民医院","骨外科医师02",1,{"$nulls":5},"缺考","否"]
["202312230513","红花岗区人民医院","影像科医师03",1,{"v":70,"d":"70.00"},{"v":14,"d":"14.00"},"84.33",{"v":67.464,"d":"67.46"},{"v":81.464,"d":"81.46"},1,"是"]
["202312230510","红花岗区人民医院","影像科医师03",1,{"v":63,"d":"63.00"},{"v":12.6,"d":"12.60"},"73.33",{"v":58.664,"d":"58.66"},{"v":71.264,"d":"71.26"},2,"否"]
["202312230517","红花岗区人民医院","影像科医师03",1,{"v":70,"d":"70.00"},{"v":14,"d":"14.00"},"67.00",{"v":53.6,"d":"53.60"},{"v":67.6,"d":"67.60"},3,"否"]
["202312230505","红花岗区人民医院","影像科医师03",1,{"v":59,"d":"59.00"},{"v":11.8,"d":"11.80"},"67.33",{"v":53.864,"d":"53.86"},{"v":65.664,"d":"65.66"},4,"否"]
["202312230530","红花岗区人民医院","影像科医师03",1,{"$nulls":5},"缺考","否"]
["202312230604","汇川区人民医院","内科医师01",3,{"v":77,"d":"77.00"},{"$f":"E134*0.2","v":{"v":15.4,"d":"15.40"}},{"v":79,"d":"79.00"},{"$f":"G134*0.8","v":{"v":63.2,"d":"63.20"}},{"$f":"F134+H134","v":{"v":78.6,"d":"78.60"}},1,"是"]
["202312230521","汇川区人民医院","内科医师01",3,{"v":65,"d":"65.00"},{"v":13,"d":"13.00"},81.33,{"v":65.064,"d":"65.06"},{"v":78.064,"d":"78.06"},2,"是"]
["202312230502","汇川区人民医院","内科医师01",3,{"v":71,"d":"71.00"},{"v":14.2,"d":"14.20"},78.67,{"v":62.936,"d":"62.94"},{"v":77.136,"d":"77.14"},3,"是"]
["202312230525","汇川区人民医院","内科医师01",3,{"v":68,"d":"68.00"},{"v":13.6,"d":"13.60"},{"v":76,"d":"76.00"},{"v":60.8,"d":"60.80"},{"v":74.4,"d":"74.40"},4,"否"]
["202312230608","汇川区人民医院","内科医师01",3,{"v":65,"d":"65.00"},{"v":13,"d":"13.00"},76.67,{"v":61.336,"d":"61.34"},{"v":74.336,"d":"74.34"},5,"否"]
["202312230623","汇川区人民医院","内科医师01",3,{"v":72,"d":"72.00"},{"v":14.4,"d":"14.40"},74.33,{"v":59.464,"d":"59.46"},{"v":73.864,"d":"73.86"},6,"否"]
["202312230527","汇川区人民医院","内科医师01",3,{"v":69,"d":"69.00"},{"v":13.8,"d":"13.80"},{"v":74,"d":"74.00"},{"v":59.2,"d":"59.20"},{"v":73,"d":"73.00"},7,"否"]
["202312230617","汇川区人民医院","内科医师01",3,{"v":65,"d":"65.00"},{"v":13,"d":"13.00"},74.33,{"v":59.464,"d":"59.46"},{"v":72.464,"d":"72.46"},8,"否"]
["202312230511","汇川区人民医院","内科医师01",3,{"$nulls":5},"缺考","否"]
["202312230606","汇川区人民医院","内科医师01",3,{"$nulls":5},"缺考","否"]
["202312230619","汇川区人民医院","普外科医师02",1,{"v":74,"d":"74.00"},{"$f":"E144*0.2","v":{"v":14.8,"d":"14.80"}},78.33,{"$f":"G144*0.8","v":{"v":62.664,"d":"62.66"}},{"$f":"F144+H144","v":{"v":77.464,"d":"77.46"}},1,"是"]
["202312230630","汇川区人民医院","普外科医师02",1,{"v":71,"d":"71.00"},{"$f":"E145*0.2","v":{"v":14.2,"d":"14.20"}},77.33,{"$f":"G145*0.8","v":{"v":61.864,"d":"61.86"}},{"$f":"F145+H145","v":{"v":76.064,"d":"76.06"}},2,"否"]
["202312230611","汇川区人民医院","普外科医师02",1,{"v":68,"d":"68.00"},{"$f":"E146*0.2","v":{"v":13.6,"d":"13.60"}},74.67,{"$f":"G146*0.8","v":{"v":59.736,"d":"59.74"}},{"$f":"F146+H146","v":{"v":73.336,"d":"73.34"}},3,"否"]
["202312230621","汇川区人民医院","普外科医师02",1,{"v":64,"d":"64.00"},{"$f":"E147*0.2","v":{"v":12.8,"d":"12.80"}},74.67,{"$f":"G147*0.8","v":{"v":59.736,"d":"59.74"}},{"$f":"F147+H147","v":{"v":72.536,"d":"72.54"}},4,"否"]
["202312230615","汇川区人民医院","普外科医师02",1,{"v":62,"d":"62.00"},{"$f":"E148*0.2","v":{"v":12.4,"d":"12.40"}},73.67,{"$f":"G148*0.8","v":{"v":58.936,"d":"58.94"}},{"$f":"F148+H148","v":{"v":71.336,"d":"71.34"}},5,"否"]
["202312230626","汇川区人民医院","普外科医师02",1,{"$nulls":5},"缺考","否"]
["202312230620","汇川区人民医院","普外科医师02",1,{"$nulls":5},"缺考","否"]
["202312230609","汇川区人民医院","普外科医师02",1,{"$nulls":5},"缺考","否"]
["202312230514","汇川区人民医院","妇产科医师03",1,{"v":76,"d":"76.00"},{"$f":"E152*0.2","v":{"v":15.2,"d":"15.20"}},81.33,{"$f":"G152*0.8","v":{"v":65.064,"d":"65.06"}},{"$f":"F152+H152","v":{"v":80.264,"d":"80.26"}},1,"是"]
["202312230516","汇川区人民医院","妇产科医师03",1,{"v":77,"d":"77.00"},{"v":15.4,"d":"15.40"},75.33,{"v":60.264,"d":"60.26"},{"v":75.664,"d":"75.66"},2,"否"]
["202312230526","汇川区人民医院","妇产科医师03",1,{"v":65,"d":"65.00"},{"v":13,"d":"13.00"},77.33,{"v":61.864,"d":"61.86"},{"v":74.864,"d":"74.86"},3,"否"]
["202312230507","汇川区人民医院","妇产科医师03",1,{"v":64,"d":"64.00"},{"v":12.8,"d":"12.80"},76.67,{"v":61.336,"d":"61.34"},{"v":74.136,"d":"74.14"},4,"否"]
["202312230528","汇川区人民医院","妇产科医师03",1,{"v":73,"d":"73.00"},{"v":14.6,"d":"14.60"},74.33,{"v":59.464,"d":"59.46"},{"v":74.064,"d":"74.06"},5,"否"]
["202312230504","汇川区人民医院","妇产科医师03",1,{"v":74,"d":"74.00"},{"v":14.8,"d":"14.80"},73.67,{"v":58.936,"d":"58.94"},{"v":73.736,"d":"73.74"},6,"否"]
["202312230508","汇川区人民医院","妇产科医师03",1,{"v":79,"d":"79.00"},{"v":15.8,"d":"15.80"},72.33,{"v":57.864,"d":"57.86"},{"v":73.664,"d":"73.66"},7,"否"]
["202312230512","汇川区人民医院","妇产科医师03",1,{"v":68,"d":"68.00"},{"v":13.6,"d":"13.60"},74.33,{"v":59.464,"d":"59.46"},{"v":73.064,"d":"73.06"},8,"否"]
["202312230501","汇川区人民医院","妇产科医师03",1,{"v":65,"d":"65.00"},{"v":13,"d":"13.00"},{"v":71,"d":"71.00"},{"v":56.8,"d":"56.80"},{"v":69.8,"d":"69.80"},9,"否"]
["202312230519","汇川区人民医院","妇产科医师03",1,{"$nulls":5},"缺考","否"]
["202312230522","汇川区人民医院","妇产科医师03",1,{"$nulls":5},"缺考","否"]
["202312230503","汇川区人民医院","妇产科医师03",1,{"$nulls":5},"缺考","否"]
["202312230506","汇川区人民医院","妇产科医师03",1,{"$nulls":5},"缺考","否"]
["202312230515","汇川区人民医院","急诊科医师04",1,{"v":72,"d":"72.00"},{"$f":"E165*0.2","v":{"v":14.4,"d":"14.40"}},{"v":79,"d":"79.00"},{"$f":"G165*0.8","v":{"v":63.2,"d":"63.20"}},{"$f":"F165+H165","v":{"v":77.6,"d":"77.60"}},1,"是"]
["202312230509","汇川区人民医院","急诊科医师04",1,{"v":69,"d":"69.00"},{"$f":"E166*0.2","v":{"v":13.8,"d":"13.80"}},75.33,{"$f":"G166*0.8","v":{"v":60.264,"d":"60.26"}},{"$f":"F166+H166","v":{"v":74.064,"d":"74.06"}},2,"否"]
["202312230529","汇川区人民医院","急诊科医师04",1,{"$nulls":5},"缺考","否"]
["202312230622","汇川区人民医院","心电图医师07",1,{"v":62,"d":"62.00"},{"$f":"E168*0.2","v":{"v":12.4,"d":"12.40"}},74.67,{"$f":"G168*0.8","v":{"v":59.736,"d":"59.74"}},{"$f":"F168+H168","v":{"v":72.136,"d":"72.14"}},1,"是"]
["202312230602","汇川区人民医院","心电图医师07",1,{"v":67,"d":"67.00"},{"$f":"E169*0.2","v":{"v":13.4,"d":"13.40"}},{"v":72,"d":"72.00"},{"$f":"G169*0.8","v":{"v":57.6,"d":"57.60"}},{"$f":"F169+H169","v":{"v":71,"d":"71.00"}},2,"否"]
["202312230605","汇川区人民医院","心电图医师07",1,{"$nulls":5},"缺考","否"]
["202312230629","汇川区中医医院","中医医师01",1,{"v":84,"d":"84.00"},{"$f":"E171*0.2","v":{"v":16.8,"d":"16.80"}},{"v":80,"d":"80.00"},{"$f":"G171*0.8","v":{"v":64,"d":"64.00"}},{"$f":"F171+H171","v":{"v":80.8,"d":"80.80"}},1,"是"]
["202312230628","汇川区中医医院","中医医师01",1,{"v":65,"d":"65.00"},{"v":13,"d":"13.00"},78.67,{"v":62.936,"d":"62.94"},{"v":75.936,"d":"75.94"},2,"否"]
["202312230625","汇川区中医医院","中医医师01",1,{"v":74,"d":"74.00"},{"v":14.8,"d":"14.80"},{"v":76,"d":"76.00"},{"v":60.8,"d":"60.80"},{"v":75.6,"d":"75.60"},3,"否"]
["202312230613","汇川区中医医院","中医医师01",1,{"v":74,"d":"74.00"},{"v":14.8,"d":"14.80"},{"v":72,"d":"72.00"},{"v":57.6,"d":"57.60"},{"v":72.4,"d":"72.40"},4,"否"]
["202312230624","播州区人民医院","影像医师01",1,{"v":62,"d":"62.00"},{"v":12.4,"d":"12.40"},77.33,{"v":61.864,"d":"61.86"},{"v":74.264,"d":"74.26"},1,"是"]
["202312230601","播州区人民医院","影像医师01",1,{"$nulls":5},"缺考","否"]
["202312230610","播州区人民医院","财务科工作人员02",1,{"v":82,"d":"82.00"},{"$f":"E177*0.2","v":{"v":16.4,"d":"16.40"}},{"v":73,"d":"73.00"},{"$f":"G177*0.8","v":{"v":58.4,"d":"58.40"}},{"$f":"F177+H177","v":{"v":74.8,"d":"74.80"}},1,"是"]
["202312230618","播州区中医院","外科医师01",2,{"v":78,"d":"78.00"},{"v":15.6,"d":"15.60"},80.67,{"v":64.536,"d":"64.54"},{"v":80.136,"d":"80.14"},1,"是"]
["202312230616","播州区中医院","外科医师01",2,{"v":69,"d":"69.00"},{"v":13.8,"d":"13.80"},{"v":80,"d":"80.00"},{"v":64,"d":"64.00"},{"v":77.8,"d":"77.80"},2,"是"]
["202312230612","播州区中医院","外科医师01",2,{"v":69,"d":"69.00"},{"v":13.8,"d":"13.80"},76.67,{"v":61.336,"d":"61.34"},{"v":75.136,"d":"75.14"},3,"否"]
["202312230607","播州区中医院","外科医师01",2,{"v":66,"d":"66.00"},{"v":13.2,"d":"13.20"},76.33,{"v":61.064,"d":"61.06"},{"v":74.264,"d":"74.26"},4,"否"]
["202312230603","播州区中医院","外科医师01",2,{"v":74,"d":"74.00"},{"v":14.8,"d":"14.80"},{"v":73,"d":"73.00"},{"v":58.4,"d":"58.40"},{"v":73.2,"d":"73.20"},5,"否"]
["202312230627","播州区中医院","外科医师01",2,{"$nulls":5},"缺考","否"]
["202312230614","播州区茅栗镇卫生院","临床医师01",1,{"v":64,"d":"64.00"},{"$f":"E184*0.2","v":{"v":12.8,"d":"12.80"}},84.67,{"$f":"G184*0.8","v":{"v":67.736,"d":"67.74"}},{"$f":"F184+H184","v":{"v":80.536,"d":"80.54"}},1,"是"]
["202312230727","播州区茅栗镇卫生院","临床医师01",1,{"$nulls":5},"缺考","否"]
["202312230710","播州区三岔镇卫生院","口腔医师01",1,{"v":68,"d":"68.00"},{"$f":"E186*0.2","v":{"v":13.6,"d":"13.60"}},70.67,{"$f":"G186*0.8","v":{"v":56.536,"d":"56.54"}},{"$f":"F186+H186","v":{"v":70.136,"d":"70.14"}},1,"是"]
["202312230703","播州区三岔镇卫生院","中医理疗师02",1,{"v":68,"d":"68.00"},{"$f":"E187*0.2","v":{"v":13.6,"d":"13.60"}},{"v":78,"d":"78.00"},{"v":62.4,"d":"62.40"},{"v":76,"d":"76.00"},1,"是"]
[202312230706,"桐梓县人民医院","心血管内科医师01",2,{"v":80,"d":"80.00"},{"$f":"E188*0.2","v":{"v":16,"d":"16.00"}},"74.60",59.68,75.68,1,"是"]
[202312230711,"桐梓县人民医院","心血管内科医师01",2,{"v":67,"d":"67.00"},{"v":13.4,"d":"13.40"},"77.10",61.68,75.08,2,"是"]
[202312230725,"桐梓县人民医院","心血管内科医师01",2,{"v":71,"d":"71.00"},{"v":14.2,"d":"14.20"},"74.50",{"v":59.6,"d":"59.60"},{"v":73.8,"d":"73.80"},3,"否"]
[202312230716,"桐梓县人民医院","神经内科医师02",1,{"v":76,"d":"76.00"},{"v":15.2,"d":"15.20"},"79.40",63.52,78.72,1,"是"]
["202312230719","桐梓县人民医院","神经内科医师02",1,{"v":66,"d":"66.00"},{"v":13.2,"d":"13.20"},"80.60",64.48,77.68,2,"否"]
[202312230729,"桐梓县人民医院","神经内科医师02",1,{"v":74,"d":"74.00"},{"v":14.8,"d":"14.80"},"78.10",62.48,77.28,3,"否"]
[202312230721,"桐梓县人民医院","神经内科医师02",1,{"v":71,"d":"71.00"},{"v":14.2,"d":"14.20"},"72.40",57.92,72.12,4,"否"]
[202312230709,"桐梓县人民医院","普通外科医生03",1,{"v":71,"d":"71.00"},{"v":14.2,"d":"14.20"},"75.60",60.48,74.68,1,"是"]
["202312230728","桐梓县人民医院","普通外科医生03",1,{"$nulls":5},"缺考","否"]
["202312230724","桐梓县人民医院","超声科医师04",2,{"v":75,"d":"75.00"},{"v":15,"d":"15.00"},"77.10",{"$f":"G197*0.8","v":61.68},{"$f":"F197+H197","v":76.68},1,"是"]
[202312230713,"桐梓县人民医院","超声科医师04",2,{"v":63,"d":"63.00"},{"v":12.6,"d":"12.60"},"72.00",{"v":57.6,"d":"57.60"},{"v":70.2,"d":"70.20"},2,"是"]
[202312230702,"桐梓县人民医院","急诊科医生05",1,{"v":69,"d":"69.00"},{"v":13.8,"d":"13.80"},"71.50",{"v":57.2,"d":"57.20"},{"v":71,"d":"71.00"},1,"是"]
["202312230708","桐梓县中医院","临床医师09",1,{"v":70,"d":"70.00"},{"v":14,"d":"14.00"},"81.60",65.28,79.28,1,"是"]
[202312230707,"桐梓县中医院","临床医师09",1,{"v":72,"d":"72.00"},{"v":14.4,"d":"14.40"},"75.30",60.24,74.64,2,"否"]
["202312230712","桐梓县中医院","临床医师09",1,{"v":61,"d":"61.00"},{"v":12.2,"d":"12.20"},"74.80",59.84,72.04,3,"否"]
[202312230705,"桐梓县中医院","临床医师09",1,{"v":66,"d":"66.00"},{"v":13.2,"d":"13.20"},"73.50",{"v":58.8,"d":"58.80"},{"v":72,"d":"72.00"},4,"否"]
["202312230723","桐梓县中医院","临床医师09",1,{"$nulls":5},"缺考","否"]
["202312230717","仁怀市人民医院","急诊科医师01",1,{"v":72,"d":"72.00"},{"$f":"E205*0.2","v":{"v":14.4,"d":"14.40"}},{"v":83,"d":"83.00"},{"$f":"G205*0.8","v":{"v":66.4,"d":"66.40"}},{"$f":"F205+H205","v":{"v":80.8,"d":"80.80"}},1,"是"]
["202312230715","仁怀市人民医院","急诊科医师01",1,{"v":72,"d":"72.00"},{"v":14.4,"d":"14.40"},80.77,{"v":64.616,"d":"64.62"},{"v":79.016,"d":"79.02"},2,"否"]
["202312230726","仁怀市人民医院","急诊科医师01",1,{"v":68,"d":"68.00"},{"v":13.6,"d":"13.60"},80.93,{"v":64.744,"d":"64.74"},{"v":78.344,"d":"78.34"},3,"否"]
["202312230730","仁怀市人民医院","急诊科医师01",1,{"v":74,"d":"74.00"},{"v":14.8,"d":"14.80"},{"v":77.4,"d":"77.40"},61.92,76.72,4,"否"]
["202312230718","仁怀市人民医院","急诊科医师01",1,{"v":71,"d":"71.00"},{"v":14.2,"d":"14.20"},74.27,{"v":59.416,"d":"59.42"},{"v":73.616,"d":"73.62"},5,"否"]
["202312230714","仁怀市人民医院","急诊科医师01",1,{"v":65,"d":"65.00"},{"v":13,"d":"13.00"},69.03,{"v":55.224,"d":"55.22"},{"v":68.224,"d":"68.22"},6,"否"]
["202312230720","仁怀市人民医院","影像医师02",1,{"v":73,"d":"73.00"},{"v":14.6,"d":"14.60"},75.17,{"v":60.136,"d":"60.14"},{"v":74.736,"d":"74.74"},1,"是"]
["202312230701","仁怀市人民医院","影像医师02",1,{"$nulls":5},"缺考","否"]
["202312230722","仁怀市人民医院","眼科医师03",1,{"v":74,"d":"74.00"},{"$f":"E213*0.2","v":{"v":14.8,"d":"14.80"}},76.87,{"$f":"G213*0.8","v":{"v":61.496,"d":"61.50"}},{"$f":"F213+H213","v":{"v":76.296,"d":"76.30"}},1,"是"]
["202312230801","仁怀市人民医院","内分泌科医师05",1,{"v":64,"d":"64.00"},{"v":12.8,"d":"12.80"},83.13,{"v":66.504,"d":"66.50"},{"v":79.304,"d":"79.30"},1,"是"]
["202312230829","仁怀市人民医院","内分泌科医师05",1,{"v":80,"d":"80.00"},{"v":16,"d":"16.00"},{"v":78.2,"d":"78.20"},62.56,78.56,2,"否"]
["202312230817","仁怀市人民医院","内分泌科医师05",1,{"v":66,"d":"66.00"},{"v":13.2,"d":"13.20"},81.33,{"v":65.064,"d":"65.06"},{"v":78.264,"d":"78.26"},3,"否"]
["202312230824","仁怀市人民医院","内分泌科医师05",1,{"v":68,"d":"68.00"},{"v":13.6,"d":"13.60"},78.23,{"v":62.584,"d":"62.58"},{"v":76.184,"d":"76.18"},4,"否"]
["202312230828","仁怀市人民医院","内分泌科医师05",1,{"v":74,"d":"74.00"},{"v":14.8,"d":"14.80"},{"v":75.1,"d":"75.10"},60.08,74.88,5,"否"]
["202312230818","仁怀市人民医院","内分泌科医师05",1,{"v":61,"d":"61.00"},{"v":12.2,"d":"12.20"},78.17,{"v":62.536,"d":"62.54"},{"v":74.736,"d":"74.74"},6,"否"]
["202312230805","仁怀市人民医院","内分泌科医师05",1,{"v":72,"d":"72.00"},{"v":14.4,"d":"14.40"},75.37,{"v":60.296,"d":"60.30"},{"v":74.696,"d":"74.70"},7,"否"]
["202312230821","仁怀市人民医院","内分泌科医师05",1,{"v":66,"d":"66.00"},{"v":13.2,"d":"13.20"},{"v":74.7,"d":"74.70"},59.76,72.96,8,"否"]
["202312230704","仁怀市人民医院","内分泌科医师05",1,{"$nulls":5},"缺考","否"]
["202312230819","仁怀市人民医院","内分泌科医师05",1,{"$nulls":5},"缺考","否"]
["202312230825","仁怀市人民医院","内分泌科医师05",1,{"$nulls":5},"缺考","否"]
["202312230826","仁怀市中医院","中医科医师01",2,{"v":78,"d":"78.00"},{"$f":"E225*0.2","v":{"v":15.6,"d":"15.60"}},81.23,{"$f":"G225*0.8","v":{"v":64.984,"d":"64.98"}},{"$f":"F225+H225","v":{"v":80.584,"d":"80.58"}},1,"是"]
["202312230830","仁怀市中医院","中医科医师01",2,{"v":72,"d":"72.00"},{"v":14.4,"d":"14.40"},81.77,{"v":65.416,"d":"65.42"},{"v":79.816,"d":"79.82"},2,"是"]
["202312230807","仁怀市中医院","中医科医师01",2,{"v":70,"d":"70.00"},{"v":14,"d":"14.00"},82.03,{"v":65.624,"d":"65.62"},{"v":79.624,"d":"79.62"},3,"否"]
["202312230827","仁怀市中医院","中医科医师01",2,{"v":73,"d":"73.00"},{"v":14.6,"d":"14.60"},80.43,{"v":64.344,"d":"64.34"},{"v":78.944,"d":"78.94"},4,"否"]
["202312230804","仁怀市中医院","中医科医师01",2,{"v":70,"d":"70.00"},{"v":14,"d":"14.00"},80.57,{"v":64.456,"d":"64.46"},{"v":78.456,"d":"78.46"},5,"否"]
["202312230806","仁怀市中医院","中医科医师01",2,{"v":72,"d":"72.00"},{"v":14.4,"d":"14.40"},78.17,{"v":62.536,"d":"62.54"},{"v":76.936,"d":"76.94"},6,"否"]
["202312230813","仁怀市中医院","中医科医师01",2,{"v":71,"d":"71.00"},{"v":14.2,"d":"14.20"},77.57,{"v":62.056,"d":"62.06"},{"v":76.256,"d":"76.26"},7,"否"]
["202312230815","仁怀市中医院","中医科医师01",2,{"v":76,"d":"76.00"},{"v":15.2,"d":"15.20"},75.43,{"v":60.344,"d":"60.34"},{"v":75.544,"d":"75.54"},8,"否"]
["202312230803","仁怀市中医院","中医科医师01",2,{"v":82,"d":"82.00"},{"v":16.4,"d":"16.40"},{"v":73.5,"d":"73.50"},{"v":58.8,"d":"58.80"},{"v":75.2,"d":"75.20"},9,"否"]
["202312230811","仁怀市中医院","中医科医师01",2,{"v":80,"d":"80.00"},{"v":16,"d":"16.00"},{"v":71.7,"d":"71.70"},57.36,73.36,10,"否"]
["202312230814","仁怀市中医院","中医科医师01",2,{"v":61,"d":"61.00"},{"v":12.2,"d":"12.20"},72.77,{"v":58.216,"d":"58.22"},{"v":70.416,"d":"70.42"},11,"否"]
["202312230816","仁怀市中医院","中医科医师01",2,{"$nulls":5},"缺考","否"]
["202312230820","仁怀市中医院","中医科医师01",2,{"$nulls":5},"缺考","否"]
["202312230822","仁怀市中医院","临床科医师02",2,{"v":85,"d":"85.00"},{"$f":"E238*0.2","v":{"v":17,"d":"17.00"}},75.43,{"$f":"G238*0.8","v":{"v":60.344,"d":"60.34"}},{"$f":"F238+H238","v":{"v":77.344,"d":"77.34"}},1,"是"]
["202312230917","仁怀市中医院","临床科医师02",2,{"v":73,"d":"73.00"},{"v":14.6,"d":"14.60"},78.17,{"v":62.536,"d":"62.54"},{"v":77.136,"d":"77.14"},2,"是"]
["202312230911","仁怀市中医院","临床科医师02",2,{"v":76,"d":"76.00"},{"v":15.2,"d":"15.20"},75.07,{"v":60.056,"d":"60.06"},{"v":75.256,"d":"75.26"},3,"否"]
["202312230823","仁怀市中医院","临床科医师02",2,{"v":75,"d":"75.00"},{"v":15,"d":"15.00"},75.03,{"v":60.024,"d":"60.02"},{"v":75.024,"d":"75.02"},4,"否"]
["202312230810","仁怀市中医院","临床科医师02",2,{"v":69,"d":"69.00"},{"v":13.8,"d":"13.80"},76.03,{"v":60.824,"d":"60.82"},{"v":74.624,"d":"74.62"},5,"否"]
["202312230908","仁怀市中医院","临床科医师02",2,{"v":74,"d":"74.00"},{"v":14.8,"d":"14.80"},74.53,{"v":59.624,"d":"59.62"},{"v":74.424,"d":"74.42"},6,"否"]
["202312230802","仁怀市中医院","临床科医师02",2,{"v":66,"d":"66.00"},{"v":13.2,"d":"13.20"},74.37,{"v":59.496,"d":"59.50"},{"v":72.696,"d":"72.70"},7,"否"]
["202312230901","仁怀市中医院","临床科医师02",2,{"v":64,"d":"64.00"},{"v":12.8,"d":"12.80"},{"v":74.4,"d":"74.40"},59.52,72.32,8,"否"]
["202312230910","仁怀市中医院","临床科医师02",2,{"v":66,"d":"66.00"},{"v":13.2,"d":"13.20"},{"v":73.4,"d":"73.40"},58.72,71.92,9,"否"]
["202312230904","仁怀市中医院","临床科医师02",2,{"v":73,"d":"73.00"},{"v":14.6,"d":"14.60"},{"v":71.6,"d":"71.60"},57.28,71.88,10,"否"]
["202312230919","仁怀市中医院","临床科医师02",2,{"v":70,"d":"70.00"},{"v":14,"d":"14.00"},71.97,{"v":57.576,"d":"57.58"},{"v":71.576,"d":"71.58"},11,"否"]
["202312230913","仁怀市中医院","临床科医师02",2,{"v":74,"d":"74.00"},{"v":14.8,"d":"14.80"},{"v":70.9,"d":"70.90"},56.72,71.52,12,"否"]
["202312230921","仁怀市中医院","临床科医师02",2,{"v":64,"d":"64.00"},{"v":12.8,"d":"12.80"},72.73,{"v":58.184,"d":"58.18"},{"v":70.984,"d":"70.98"},13,"否"]
["202312230907","仁怀市中医院","临床科医师02",2,{"v":61,"d":"61.00"},{"v":12.2,"d":"12.20"},73.13,{"v":58.504,"d":"58.50"},{"v":70.704,"d":"70.70"},14,"否"]
["202312230903","仁怀市中医院","临床科医师02",2,{"v":62,"d":"62.00"},{"v":12.4,"d":"12.40"},71.17,{"v":56.936,"d":"56.94"},{"v":69.336,"d":"69.34"},15,"否"]
["202312230812","仁怀市中医院","临床科医师02",2,{"v":57,"d":"57.00"},{"v":11.4,"d":"11.40"},71.07,{"v":56.856,"d":"56.86"},{"v":68.256,"d":"68.26"},16,"否"]
["202312230808","仁怀市中医院","临床科医师02",2,{"$nulls":5},"缺考","否"]
["202312230809","仁怀市中医院","临床科医师02",2,{"$nulls":5},"缺考","否"]
["202312230922","仁怀市中医院","临床科医师02",2,{"$nulls":5},"缺考","否"]
["202312230915","赤水市人民医院","临床医师01",3,{"v":80,"d":"80.00"},{"$f":"E257*0.2","v":{"v":16,"d":"16.00"}},{"v":85.9,"d":"85.90"},{"$f":"G257*0.8","v":68.72},{"$f":"F257+H257","v":84.72},1,"是"]
["202312230906","赤水市人民医院","临床医师01",3,{"v":69,"d":"69.00"},{"$f":"E258*0.2","v":{"v":13.8,"d":"13.80"}},85.97,{"$f":"G258*0.8","v":{"v":68.776,"d":"68.78"}},{"$f":"F258+H258","v":{"v":82.576,"d":"82.58"}},2,"是"]
["202312230930","赤水市人民医院","临床医师01",3,{"v":78,"d":"78.00"},{"$f":"E259*0.2","v":{"v":15.6,"d":"15.60"}},83.07,{"$f":"G259*0.8","v":{"v":66.456,"d":"66.46"}},{"$f":"F259+H259","v":{"v":82.056,"d":"82.06"}},3,"是"]
["202312230928","赤水市人民医院","临床医师01",3,{"v":66,"d":"66.00"},{"$f":"E260*0.2","v":{"v":13.2,"d":"13.20"}},76.77,{"$f":"G260*0.8","v":{"v":61.416,"d":"61.42"}},{"$f":"F260+H260","v":{"v":74.616,"d":"74.62"}},4,"否"]
["202312230920","赤水市人民医院","临床医师01",3,{"v":36,"d":"36.00"},{"$f":"E261*0.2","v":{"v":7.2,"d":"7.20"}},71.23,{"$f":"G261*0.8","v":{"v":56.984,"d":"56.98"}},{"$f":"F261+H261","v":{"v":64.184,"d":"64.18"}},5,"否"]
["202312230909","赤水市人民医院","临床医师01",3,{"$nulls":5},"缺考","否"]
["202312230927","赤水市人民医院","临床医师01",3,{"$nulls":5},"缺考","否"]
["202312230925","赤水市人民医院","临床医师01",3,{"$nulls":5},"缺考","否"]
["202312230923","赤水市中医医院","临床医师01",2,{"$nulls":5},"缺考","否"]
["202312230912","赤水市中医医院","中药师02",1,{"v":71,"d":"71.00"},{"$f":"E266*0.2","v":{"v":14.2,"d":"14.20"}},82.13,{"$f":"G266*0.8","v":{"v":65.704,"d":"65.70"}},{"$f":"F266+H266","v":{"v":79.904,"d":"79.90"}},1,"是"]
["202312230918","赤水市中医医院","中药师02",1,{"v":76,"d":"76.00"},{"v":15.2,"d":"15.20"},79.23,{"v":63.384,"d":"63.38"},{"v":78.584,"d":"78.58"},2,"否"]
["202312230902","赤水市中医医院","中药师02",1,{"v":76,"d":"76.00"},{"v":15.2,"d":"15.20"},77.07,{"v":61.656,"d":"61.66"},{"v":76.856,"d":"76.86"},3,"否"]
["202312230914","习水县人民医院","泌尿外科医师01",1,{"v":81,"d":"81.00"},{"v":16.2,"d":"16.20"},84.67,{"v":67.736,"d":"67.74"},{"v":83.936,"d":"83.94"},1,"是"]
["202312230916","习水县人民医院","泌尿外科医师01",1,{"v":68,"d":"68.00"},{"v":13.6,"d":"13.60"},{"v":67,"d":"67.00"},{"v":53.6,"d":"53.60"},{"v":67.2,"d":"67.20"},2,"否"]
["202312230929","习水县人民医院","儿科医师02",1,{"v":66,"d":"66.00"},{"v":13.2,"d":"13.20"},{"v":82,"d":"82.00"},{"v":65.6,"d":"65.60"},{"v":78.8,"d":"78.80"},1,"是"]
["202312231011","习水县人民医院","儿科医师02",1,{"v":70,"d":"70.00"},{"v":14,"d":"14.00"},78.67,{"v":62.936,"d":"62.94"},{"v":76.936,"d":"76.94"},2,"否"]
["202312231003","习水县人民医院","儿科医师02",1,{"v":67,"d":"67.00"},{"v":13.4,"d":"13.40"},{"v":79,"d":"79.00"},{"v":63.2,"d":"63.20"},{"v":76.6,"d":"76.60"},3,"否"]
["202312230926","习水县人民医院","儿科医师02",1,{"v":68,"d":"68.00"},{"v":13.6,"d":"13.60"},68.67,{"v":54.936,"d":"54.94"},{"v":68.536,"d":"68.54"},4,"否"]
["202312231014","习水县中医医院","麻醉医师01",1,{"v":70,"d":"70.00"},{"v":14,"d":"14.00"},{"v":68,"d":"68.00"},{"v":54.4,"d":"54.40"},{"v":68.4,"d":"68.40"},1,"否"]
["202312231027","习水县中医医院","麻醉医师01",1,{"$nulls":5},"缺考","否"]
["202312231005","习水县中医医院","麻醉医师01",1,{"$nulls":5},"缺考","否"]
["202312230905","习水县妇幼保健院","麻醉医师01",1,{"v":64,"d":"64.00"},{"$f":"E278*0.2","v":{"v":12.8,"d":"12.80"}},72.33,{"$f":"G278*0.8","v":{"v":57.864,"d":"57.86"}},{"$f":"F278+H278","v":{"v":70.664,"d":"70.66"}},1,"是"]
["202312230924","习水县妇幼保健院","麻醉医师01",1,{"v":72,"d":"72.00"},{"v":14.4,"d":"14.40"},{"v":70,"d":"70.00"},{"v":56,"d":"56.00"},{"v":70.4,"d":"70.40"},2,"否"]
["202312231016","湄潭县人民医院","放射科医师01",1,{"v":74,"d":"74.00"},{"v":14.8,"d":"14.80"},79.33,{"v":63.464,"d":"63.46"},{"v":78.264,"d":"78.26"},1,"是"]
["202312231015","湄潭县人民医院","口腔科医师02",1,{"v":72,"d":"72.00"},{"v":14.4,"d":"14.40"},83.33,{"v":66.664,"d":"66.66"},{"v":81.064,"d":"81.06"},1,"是"]
["202312231017","湄潭县人民医院","口腔科医师02",1,{"v":79,"d":"79.00"},{"v":15.8,"d":"15.80"},80.33,{"v":64.264,"d":"64.26"},{"v":80.064,"d":"80.06"},2,"否"]
["202312231004","湄潭县人民医院","口腔科医师02",1,{"v":81,"d":"81.00"},{"v":16.2,"d":"16.20"},78.33,{"v":62.664,"d":"62.66"},{"v":78.864,"d":"78.86"},3,"否"]
["202312231001","湄潭县人民医院","中医科、康复科医师03",1,{"v":70,"d":"70.00"},{"v":14,"d":"14.00"},78.66,{"v":62.928,"d":"62.93"},{"v":76.928,"d":"76.93"},1,"是"]
["202312231002","凤冈县中医医院","临床医师01",3,{"v":81,"d":"81.00"},{"v":16.2,"d":"16.20"},"80.40",64.32,80.52,1,"是"]
["202312231029","凤冈县中医医院","临床医师01",3,{"v":65,"d":"65.00"},{"v":13,"d":"13.00"},81.27,{"v":65.016,"d":"65.02"},{"v":78.016,"d":"78.02"},2,"是"]
["202312231028","凤冈县中医医院","临床医师01",3,{"v":70,"d":"70.00"},{"v":14,"d":"14.00"},"77.10",61.68,75.68,3,"是"]
["202312231026","凤冈县中医医院","临床医师01",3,{"v":66,"d":"66.00"},{"v":13.2,"d":"13.20"},74.63,{"v":59.704,"d":"59.70"},{"v":72.904,"d":"72.90"},4,"否"]
["202312231006","凤冈县中医医院","临床医师01",3,{"v":70,"d":"70.00"},{"v":14,"d":"14.00"},73.37,{"v":58.696,"d":"58.70"},{"v":72.696,"d":"72.70"},5,"否"]
["202312231021","凤冈县中医医院","临床医师01",3,{"v":60,"d":"60.00"},{"v":12,"d":"12.00"},70.67,{"v":56.536,"d":"56.54"},{"v":68.536,"d":"68.54"},6,"否"]
["202312231020","凤冈县中医医院","临床医师01",3,{"$nulls":5},"缺考","否"]
["202312231022","凤冈县中医医院","中医医师02",4,{"v":72,"d":"72.00"},{"$f":"E292*0.2","v":{"v":14.4,"d":"14.40"}},"76.10",{"$f":"G292*0.8","v":60.88},{"$f":"F292+H292","v":75.28},1,"是"]
["202312231030","凤冈县中医医院","中医医师02",4,{"$nulls":5},"缺考","否"]
["202312231010","凤冈县妇幼保健院","临床医师01",1,{"v":63,"d":"63.00"},{"$f":"E294*0.2","v":{"v":12.6,"d":"12.60"}},"75.30",{"$f":"G294*0.8","v":60.24},{"$f":"F294+H294","v":72.84},1,"是"]
["202312231025","凤冈县妇幼保健院","临床医师01",1,{"v":67,"d":"67.00"},{"v":13.4,"d":"13.40"},72.33,{"v":57.864,"d":"57.86"},{"v":71.264,"d":"71.26"},2,"否"]
["202312231009","凤冈县妇幼保健院","临床医师01",1,{"v":59,"d":"59.00"},{"v":11.8,"d":"11.80"},74.27,{"v":59.416,"d":"59.42"},{"v":71.216,"d":"71.22"},3,"否"]
["202312231007","凤冈县妇幼保健院","临床医师01",1,{"v":50,"d":"50.00"},{"v":10,"d":"10.00"},69.93,{"v":55.944,"d":"55.94"},{"v":65.944,"d":"65.94"},4,"否"]
["202312231012","余庆县中医医院","中药师、中医师01",2,{"v":68,"d":"68.00"},{"v":13.6,"d":"13.60"},87.01,{"v":69.608,"d":"69.61"},{"v":83.208,"d":"83.21"},1,"是"]
["202312231024","余庆县中医医院","中药师、中医师01",2,{"v":73,"d":"73.00"},{"v":14.6,"d":"14.60"},85.23,{"v":68.184,"d":"68.18"},{"v":82.784,"d":"82.78"},2,"是"]
["202312231018","余庆县中医医院","中药师、中医师01",2,{"v":82,"d":"82.00"},{"v":16.4,"d":"16.40"},77.97,{"v":62.376,"d":"62.38"},{"v":78.776,"d":"78.78"},3,"否"]
["202312231019","余庆县中医医院","中药师、中医师01",2,{"v":74,"d":"74.00"},{"v":14.8,"d":"14.80"},77.89,{"v":62.312,"d":"62.31"},{"v":77.112,"d":"77.11"},4,"否"]
["202312231023","余庆县中医医院","中药师、中医师01",2,{"v":76,"d":"76.00"},{"v":15.2,"d":"15.20"},75.22,{"v":60.176,"d":"60.18"},{"v":75.376,"d":"75.38"},5,"否"]
["202312231113","务川自治县人民医院","临床医师01",5,{"v":78,"d":"78.00"},{"v":15.6,"d":"15.60"},"82.90",66.32,81.92,1,"是"]
["202312231115","务川自治县人民医院","临床医师01",5,{"v":74,"d":"74.00"},{"v":14.8,"d":"14.80"},82.33,{"v":65.864,"d":"65.86"},{"v":80.664,"d":"80.66"},2,"是"]
["202312231117","务川自治县人民医院","临床医师01",5,{"v":71,"d":"71.00"},{"v":14.2,"d":"14.20"},82.83,{"v":66.264,"d":"66.26"},{"v":80.464,"d":"80.46"},3,"是"]
["202312231013","务川自治县人民医院","临床医师01",5,{"v":72,"d":"72.00"},{"v":14.4,"d":"14.40"},"82.57",{"v":66.056,"d":"66.06"},{"v":80.456,"d":"80.46"},3,"是"]
["202312231125","务川自治县人民医院","临床医师01",5,{"v":67,"d":"67.00"},{"v":13.4,"d":"13.40"},83.07,{"v":66.456,"d":"66.46"},{"v":79.856,"d":"79.86"},5,"是"]
["202312231127","务川自治县人民医院","临床医师01",5,{"v":71,"d":"71.00"},{"v":14.2,"d":"14.20"},"82.00",{"v":65.6,"d":"65.60"},{"v":79.8,"d":"79.80"},6,"否"]
["202312231119","务川自治县人民医院","临床医师01",5,{"v":71,"d":"71.00"},{"v":14.2,"d":"14.20"},81.83,{"v":65.464,"d":"65.46"},{"v":79.664,"d":"79.66"},7,"否"]
["202312231114","务川自治县人民医院","临床医师01",5,{"v":77,"d":"77.00"},{"v":15.4,"d":"15.40"},80.33,{"v":64.264,"d":"64.26"},{"v":79.664,"d":"79.66"},7,"否"]
["202312231008","务川自治县人民医院","临床医师01",5,{"v":74,"d":"74.00"},{"v":14.8,"d":"14.80"},80.67,{"v":64.536,"d":"64.54"},{"v":79.336,"d":"79.34"},9,"否"]
["202312231109","务川自治县人民医院","临床医师01",5,{"v":68,"d":"68.00"},{"v":13.6,"d":"13.60"},"81.50",{"v":65.2,"d":"65.20"},{"v":78.8,"d":"78.80"},10,"否"]
["202312231111","务川自治县人民医院","临床医师01",5,{"v":70,"d":"70.00"},{"v":14,"d":"14.00"},80.93,{"v":64.744,"d":"64.74"},{"v":78.744,"d":"78.74"},11,"否"]
["202312231120","务川自治县人民医院","临床医师01",5,{"v":70,"d":"70.00"},{"v":14,"d":"14.00"},"80.50",{"v":64.4,"d":"64.40"},{"v":78.4,"d":"78.40"},12,"否"]
["202312231116","务川自治县人民医院","临床医师01",5,{"v":62,"d":"62.00"},{"v":12.4,"d":"12.40"},"82.40",65.92,78.32,13,"否"]
["202312231123","务川自治县人民医院","临床医师01",5,{"v":68,"d":"68.00"},{"v":13.6,"d":"13.60"},80.83,{"v":64.664,"d":"64.66"},{"v":78.264,"d":"78.26"},14,"否"]
["202312231124","务川自治县人民医院","临床医师01",5,{"v":72,"d":"72.00"},{"v":14.4,"d":"14.40"},79.83,{"v":63.864,"d":"63.86"},{"v":78.264,"d":"78.26"},14,"否"]
["202312231130","务川自治县人民医院","临床医师01",5,{"v":70,"d":"70.00"},{"v":14,"d":"14.00"},80.17,{"v":64.136,"d":"64.14"},{"v":78.136,"d":"78.14"},16,"否"]
["202312231110","务川自治县人民医院","临床医师01",5,{"v":69,"d":"69.00"},{"v":13.8,"d":"13.80"},"79.10",63.28,77.08,17,"否"]
["202312231103","务川自治县人民医院","临床医师01",5,{"v":68,"d":"68.00"},{"v":13.6,"d":"13.60"},79.33,{"v":63.464,"d":"63.46"},{"v":77.064,"d":"77.06"},18,"否"]
["202312231106","务川自治县人民医院","临床医师01",5,{"v":59,"d":"59.00"},{"v":11.8,"d":"11.80"},80.37,{"v":64.296,"d":"64.30"},{"v":76.096,"d":"76.10"},19,"否"]
["202312231126","务川自治县人民医院","临床医师01",5,{"v":62,"d":"62.00"},{"v":12.4,"d":"12.40"},79.33,{"v":63.464,"d":"63.46"},{"v":75.864,"d":"75.86"},20,"否"]
["202312231105","务川自治县人民医院","临床医师01",5,{"$nulls":5},"缺考","否"]
["202312231107","务川自治县人民医院","临床医师01",5,{"$nulls":5},"缺考","否"]
["202312231112","务川自治县人民医院","临床医师01",5,{"$nulls":5},"缺考","否"]
["202312231122","务川自治县人民医院","临床医师01",5,{"$nulls":5},"缺考","否"]
["202312231128","务川自治县人民医院","临床医师01",5,{"$nulls":5},"缺考","否"]
["202312231118","务川自治县中医医院","临床医师01",1,{"v":74,"d":"74.00"},{"$f":"E328*0.2","v":{"v":14.8,"d":"14.80"}},80.67,{"$f":"G328*0.8","v":{"v":64.536,"d":"64.54"}},{"$f":"F328+H328","v":{"v":79.336,"d":"79.34"}},1,"是"]
["202312231129","务川自治县中医医院","临床医师01",1,{"v":66,"d":"66.00"},{"v":13.2,"d":"13.20"},81.83,{"v":65.464,"d":"65.46"},{"v":78.664,"d":"78.66"},2,"否"]
["202312231104","务川自治县中医医院","妇产科医师04",1,{"v":68,"d":"68.00"},{"v":13.6,"d":"13.60"},81.33,{"v":65.064,"d":"65.06"},{"v":78.664,"d":"78.66"},1,"是"]
["202312231101","正安县人民医院","普外科医师2岗17",1,{"v":70,"d":"70.00"},{"$f":"E331*0.2","v":{"v":14,"d":"14.00"}},{"v":82.5,"d":"82.50"},{"$f":"G331*0.8","v":{"v":66,"d":"66.00"}},{"$f":"F331+H331","v":{"v":80,"d":"80.00"}},1,"是"]
["202312231121","正安县人民医院","药剂科药师21",1,{"v":79,"d":"79.00"},{"v":15.8,"d":"15.80"},{"v":85,"d":"85.00"},{"v":68,"d":"68.00"},{"v":83.8,"d":"83.80"},1,"是"]
["202312231102","正安县人民医院","公卫科医师22",1,{"v":88,"d":"88.00"},{"v":17.6,"d":"17.60"},{"v":81.1,"d":"81.10"},64.88,82.48,1,"是"]
["202312231227","正安县人民医院","公卫科医师22",1,{"v":77,"d":"77.00"},{"v":15.4,"d":"15.40"},{"v":83.4,"d":"83.40"},66.72,82.12,2,"否"]
["202312231225","正安县人民医院","公卫科医师22",1,{"v":77,"d":"77.00"},{"v":15.4,"d":"15.40"},82.33,{"v":65.864,"d":"65.86"},{"v":81.264,"d":"81.26"},3,"否"]
["202312231220","正安县人民医院","公卫科医师22",1,{"v":73,"d":"73.00"},{"v":14.6,"d":"14.60"},81.17,{"v":64.936,"d":"64.94"},{"v":79.536,"d":"79.54"},4,"否"]
["202312231210","正安县人民医院","公卫科医师22",1,{"v":73,"d":"73.00"},{"v":14.6,"d":"14.60"},{"v":79.6,"d":"79.60"},63.68,78.28,5,"否"]
["202312231108","正安县人民医院","公卫科医师22",1,{"$nulls":5},"缺考","否"]
["202312231229","正安县人民医院","影像科医师23",2,{"$nulls":5},"缺考","否"]
["202312231202","正安县人民医院","外科医师25",1,{"v":71,"d":"71.00"},{"v":14.2,"d":"14.20"},{"v":79,"d":"79.00"},{"$f":"G340*0.8","v":{"v":63.2,"d":"63.20"}},{"$f":"F340+H340","v":{"v":77.4,"d":"77.40"}},1,"是"]
["202312231212","正安县人民医院","外科医师25",1,{"v":69,"d":"69.00"},{"v":13.8,"d":"13.80"},{"v":78.7,"d":"78.70"},{"$f":"G341*0.8","v":62.96},{"$f":"F341+H341","v":76.76},2,"否"]
["202312231203","正安县人民医院","外科医师25",1,{"$nulls":5},"缺考","否"]
["202312231208","正安县中医院","儿科医师 01",2,{"v":70,"d":"70.00"},{"$f":"E343*0.2","v":{"v":14,"d":"14.00"}},81.87,{"$f":"G343*0.8","v":{"v":65.496,"d":"65.50"}},{"$f":"F343+H343","v":{"v":79.496,"d":"79.50"}},1,"是"]
["202312231215","正安县中医院","全科医师 03",2,{"v":65,"d":"65.00"},{"$f":"E344*0.2","v":{"v":13,"d":"13.00"}},79.63,{"$f":"G344*0.8","v":{"v":63.704,"d":"63.70"}},{"$f":"F344+H344","v":{"v":76.704,"d":"76.70"}},1,"是"]
["202312231226","正安县中医院","全科医师 03",2,{"$nulls":5},"缺考","否"]
["202312231209","正安县中医院","普外科医师 05",1,{"v":66,"d":"66.00"},{"$f":"E346*0.2","v":{"v":13.2,"d":"13.20"}},78.37,{"$f":"G346*0.8","v":{"v":62.696,"d":"62.70"}},{"$f":"F346+H346","v":{"v":75.896,"d":"75.90"}},1,"是"]
["202312231213","正安县妇幼保健院","儿科医师01",1,{"v":70,"d":"70.00"},{"$f":"E347*0.2","v":{"v":14,"d":"14.00"}},81.67,{"$f":"G347*0.8","v":{"v":65.336,"d":"65.34"}},{"$f":"F347+H347","v":{"v":79.336,"d":"79.34"}},1,"是"]
["202312231219","道真自治县人民医院","麻醉科医师01",1,{"v":67,"d":"67.00"},{"$f":"E348*0.2","v":{"v":13.4,"d":"13.40"}},{"v":86.7,"d":"86.70"},{"$f":"G348*0.8","v":69.36},{"$f":"F348+H348","v":82.76},1,"是"]
["202312231207","道真自治县人民医院","麻醉科医师01",1,{"v":69,"d":"69.00"},{"$f":"E349*0.2","v":{"v":13.8,"d":"13.80"}},75.63,{"$f":"G349*0.8","v":{"v":60.504,"d":"60.50"}},{"$f":"F349+H349","v":{"v":74.304,"d":"74.30"}},2,"否"]
["202312231206","道真自治县人民医院","麻醉科医师01",1,{"$nulls":5},"缺考","否"]
["202312231201","道真自治县人民医院","口腔科医师02",1,{"v":66,"d":"66.00"},{"$f":"E351*0.2","v":{"v":13.2,"d":"13.20"}},{"v":77.7,"d":"77.70"},{"$f":"G351*0.8","v":62.16},{"$f":"F351+H351","v":75.36},1,"是"]
["202312231223","道真自治县人民医院","口腔科医师02",1,{"v":69,"d":"69.00"},{"v":13.8,"d":"13.80"},75.53,{"v":60.424,"d":"60.42"},{"v":74.224,"d":"74.22"},2,"否"]
["202312231222","道真自治县人民医院","临床医师03",3,{"v":78,"d":"78.00"},{"v":15.6,"d":"15.60"},79.43,{"v":63.544,"d":"63.54"},{"v":79.144,"d":"79.14"},1,"是"]
["202312231211","道真自治县人民医院","临床医师03",3,{"v":68,"d":"68.00"},{"v":13.6,"d":"13.60"},78.57,{"v":62.856,"d":"62.86"},{"v":76.456,"d":"76.46"},2,"是"]
["202312231217","道真自治县人民医院","临床医师03",3,{"v":70,"d":"70.00"},{"v":14,"d":"14.00"},77.43,{"v":61.944,"d":"61.94"},{"v":75.944,"d":"75.94"},3,"是"]
["202312231218","道真自治县人民医院","临床医师03",3,{"v":76,"d":"76.00"},{"v":15.2,"d":"15.20"},75.83,{"v":60.664,"d":"60.66"},{"v":75.864,"d":"75.86"},4,"否"]
["202312231228","道真自治县人民医院","临床医师03",3,{"v":67,"d":"67.00"},{"v":13.4,"d":"13.40"},{"v":77.7,"d":"77.70"},62.16,75.56,5,"否"]
["202312231216","道真自治县人民医院","临床医师03",3,{"v":70,"d":"70.00"},{"v":14,"d":"14.00"},{"v":76.7,"d":"76.70"},61.36,75.36,6,"否"]
["202312231221","道真自治县人民医院","临床医师03",3,{"v":67,"d":"67.00"},{"v":13.4,"d":"13.40"},{"v":77.4,"d":"77.40"},61.92,75.32,7,"否"]
["202312231205","道真自治县人民医院","临床医师03",3,{"v":65,"d":"65.00"},{"v":13,"d":"13.00"},74.33,{"v":59.464,"d":"59.46"},{"v":72.464,"d":"72.46"},8,"否"]
["202312231204","道真自治县人民医院","临床医师03",3,{"$nulls":5},"缺考","否"]
["202312231224","道真自治县中医医院","临床医师01",1,{"v":68,"d":"68.00"},{"$f":"E362*0.2","v":{"v":13.6,"d":"13.60"}},{"v":79.2,"d":"79.20"},{"$f":"G362*0.8","v":63.36},{"$f":"F362+H362","v":76.96},1,"是"]
["202312231214","道真自治县中医医院","临床医师02",1,{"v":60,"d":"60.00"},{"$f":"E363*0.2","v":{"v":12,"d":"12.00"}},76.13,{"$f":"G363*0.8","v":{"v":60.904,"d":"60.90"}},{"$f":"F363+H363","v":{"v":72.904,"d":"72.90"}},1,"是"]