{"text_format":"3","workbook":"xlsx","n_sheets":1,"sheets":["总成绩及进入体检人员名单"],"not_rendered":{"external_links":1,"defined_names":1},"read":"whole","date_system":"1900"}

{"sheet":"总成绩及进入体检人员名单","index":0,"n_rows":186,"n_cols":9,"rows_kept":186,"merged":[[0,0,0,8]]}
["毕节市第一人民医院2023年面向社会公开招聘编外工作人员总成绩及进入体检人员名单公示"]
["序号","姓名","准考证号","岗位名称","岗位代码","笔试分数","面试分数","总成绩","是否进入体检"]
[1,{"$f":"[1]第一考点!D43","v":"马关园"},{"$f":"[1]第一考点!O43","v":"20230101020212"},{"$f":"[1]第一考点!G43","v":"检验技师"},2,{"$f":"VLOOKUP(C3,[1]笔试成绩!A:C,3,0)","v":79.52},{"v":87,"d":"87.00"},{"$f":"F3*0.4+G3*0.6","v":{"v":84.008,"d":"84.01"}},"是"]
[2,{"$f":"[1]第一考点!D75","v":"王佳森"},{"$f":"[1]第一考点!O75","v":"20230101030214"},{"$f":"[1]第一考点!G75","v":"检验技师"},2,{"$f":"VLOOKUP(C4,[1]笔试成绩!A:C,3,0)","v":77.82},{"v":83,"d":"83.00"},{"v":80.928,"d":"80.93"},"是"]
[3,{"$f":"[1]第一考点!D162","v":"黄越"},{"$f":"[1]第一考点!O162","v":"20230101060211"},{"$f":"[1]第一考点!G162","v":"检验技师"},2,{"$f":"VLOOKUP(C5,[1]笔试成绩!A:C,3,0)","v":79.02},{"v":81.9,"d":"81.90"},{"v":80.748,"d":"80.75"},"是"]
[4,{"$f":"[1]第一考点!D168","v":"赵青"},{"$f":"[1]第一考点!O168","v":"20230101060217"},{"$f":"[1]第一考点!G168","v":"检验技师"},2,{"$f":"VLOOKUP(C6,[1]笔试成绩!A:C,3,0)","v":82.44},{"v":79.6,"d":"79.60"},{"v":80.736,"d":"80.74"},"是"]
[5,{"$f":"[1]第一考点!D56","v":"苏贞操"},{"$f":"[1]第一考点!O56","v":"20230101020225"},{"$f":"[1]第一考点!G56","v":"检验技师"},2,{"$f":"VLOOKUP(C7,[1]笔试成绩!A:C,3,0)","v":82.68},{"v":78.9,"d":"78.90"},{"v":80.412,"d":"80.41"},"是"]
[6,{"$f":"[1]第一考点!D25","v":"熊恩文"},{"$f":"[1]第一考点!O25","v":"20230101010224"},{"$f":"[1]第一考点!G25","v":"检验技师"},2,{"$f":"VLOOKUP(C8,[1]笔试成绩!A:C,3,0)","v":79.02},{"v":81.1,"d":"81.10"},{"v":80.268,"d":"80.27"},"是"]
[7,{"$f":"[1]第一考点!D207","v":"林建雄"},{"$f":"[1]第一考点!O207","v":"20230101070226"},{"$f":"[1]第一考点!G207","v":"检验技师"},2,{"$f":"VLOOKUP(C9,[1]笔试成绩!A:C,3,0)","v":79.04},{"v":79.3,"d":"79.30"},{"v":79.196,"d":"79.20"},"是"]
[8,{"$f":"[1]第一考点!D77","v":"丁璇"},{"$f":"[1]第一考点!O77","v":"20230101030216"},{"$f":"[1]第一考点!G77","v":"检验技师"},2,{"$f":"VLOOKUP(C10,[1]笔试成绩!A:C,3,0)","v":78.54},79.52,{"v":79.128,"d":"79.13"}]
[9,{"$f":"[1]第一考点!D128","v":"王田"},{"$f":"[1]第一考点!O128","v":"20230101050207"},{"$f":"[1]第一考点!G128","v":"检验技师"},2,{"$f":"VLOOKUP(C11,[1]笔试成绩!A:C,3,0)","v":78.78},{"v":79.1,"d":"79.10"},{"v":78.972,"d":"78.97"}]
[10,{"$f":"[1]第一考点!D202","v":"徐多仪"},{"$f":"[1]第一考点!O202","v":"20230101070221"},{"$f":"[1]第一考点!G202","v":"检验技师"},2,{"$f":"VLOOKUP(C12,[1]笔试成绩!A:C,3,0)","v":{"v":80,"d":"80.00"}},77.92,{"v":78.752,"d":"78.75"}]
[11,{"$f":"[1]第一考点!D70","v":"徐薇"},{"$f":"[1]第一考点!O70","v":"20230101030209"},{"$f":"[1]第一考点!G70","v":"检验技师"},2,{"$f":"VLOOKUP(C13,[1]笔试成绩!A:C,3,0)","v":79.02},{"v":78.3,"d":"78.30"},{"v":78.588,"d":"78.59"}]
[12,{"$f":"[1]第一考点!D39","v":"褚元霞"},{"$f":"[1]第一考点!O39","v":"20230101020208"},{"$f":"[1]第一考点!G39","v":"检验技师"},2,{"$f":"VLOOKUP(C14,[1]笔试成绩!A:C,3,0)","v":77.82},{"v":79.1,"d":"79.10"},{"v":78.588,"d":"78.59"}]
[13,{"$f":"[1]第一考点!D178","v":"余占奎"},{"$f":"[1]第一考点!O178","v":"20230101060227"},{"$f":"[1]第一考点!G178","v":"检验技师"},2,{"$f":"VLOOKUP(C15,[1]笔试成绩!A:C,3,0)","v":78.54},{"v":78.5,"d":"78.50"},{"v":78.516,"d":"78.52"}]
[14,{"$f":"[1]第一考点!D197","v":"汪廷海"},{"$f":"[1]第一考点!O197","v":"20230101070216"},{"$f":"[1]第一考点!G197","v":"检验技师"},2,{"$f":"VLOOKUP(C16,[1]笔试成绩!A:C,3,0)","v":78.54},77.74,78.06]
[15,{"$f":"[1]第一考点!D155","v":"龙佳宜"},{"$f":"[1]第一考点!O155","v":"20230101060204"},{"$f":"[1]第一考点!G155","v":"检验技师"},2,{"$f":"VLOOKUP(C17,[1]笔试成绩!A:C,3,0)","v":79.04},{"v":76.6,"d":"76.60"},{"v":77.576,"d":"77.58"}]
[16,{"$f":"[1]第一考点!D182","v":"廖正全"},{"$f":"[1]第一考点!O182","v":"20230101070201"},{"$f":"[1]第一考点!G182","v":"检验技师"},2,{"$f":"VLOOKUP(C18,[1]笔试成绩!A:C,3,0)","v":78.54},{"v":76.7,"d":"76.70"},{"v":77.436,"d":"77.44"}]
[17,{"$f":"[1]第一考点!D29","v":"葛雨辰"},{"$f":"[1]第一考点!O29","v":"20230101010228"},{"$f":"[1]第一考点!G29","v":"检验技师"},2,{"$f":"VLOOKUP(C19,[1]笔试成绩!A:C,3,0)","v":79.52},{"v":74.9,"d":"74.90"},{"v":76.748,"d":"76.75"}]
[18,{"$f":"[1]第一考点!D88","v":"孙婷"},{"$f":"[1]第一考点!O88","v":"20230101030227"},{"$f":"[1]第一考点!G88","v":"检验技师"},2,{"$f":"VLOOKUP(C20,[1]笔试成绩!A:C,3,0)","v":{"v":83.9,"d":"83.90"}},{"v":71,"d":"71.00"},76.16]
[19,{"$f":"[1]第一考点!D72","v":"余宝珠"},{"$f":"[1]第一考点!O72","v":"20230101030211"},{"$f":"[1]第一考点!G72","v":"检验技师"},2,{"$f":"VLOOKUP(C21,[1]笔试成绩!A:C,3,0)","v":78.54},{"v":73.1,"d":"73.10"},{"v":75.276,"d":"75.28"}]
[20,{"$f":"[1]第一考点!D145","v":"王卫"},{"$f":"[1]第一考点!O145","v":"20230101050224"},{"$f":"[1]第一考点!G145","v":"检验技师"},2,{"$f":"VLOOKUP(C22,[1]笔试成绩!A:C,3,0)","v":79.52},{"v":70.9,"d":"70.90"},{"v":74.348,"d":"74.35"}]
[21,{"$f":"[1]第一考点!D50","v":"刘朝莲"},{"$f":"[1]第一考点!O50","v":"20230101020219"},{"$f":"[1]第一考点!G50","v":"检验技师"},2,{"$f":"VLOOKUP(C23,[1]笔试成绩!A:C,3,0)","v":80.48},{"v":68.3,"d":"68.30"},{"v":73.172,"d":"73.17"}]
[22,{"$f":"[1]第一考点!D31","v":"朱印"},{"$f":"[1]第一考点!O31","v":"20230101010230"},{"$f":"[1]第一考点!G31","v":"检验技师"},2,{"$f":"VLOOKUP(C24,[1]笔试成绩!A:C,3,0)","v":78.54},{"v":66.1,"d":"66.10"},{"v":71.076,"d":"71.08"}]
[23,{"$f":"[1]第一考点!D219","v":"杨青"},{"$f":"[1]第一考点!O219","v":"20230101080508"},{"$f":"[1]第一考点!G219","v":"放射技师"},5,{"$f":"VLOOKUP(C25,[1]笔试成绩!A:C,3,0)","v":{"v":81.7,"d":"81.70"}},{"v":81,"d":"81.00"},81.28,"是"]
[24,{"$f":"[1]第一考点!D254","v":"夏航"},{"$f":"[1]第一考点!O254","v":"20230101090513"},{"$f":"[1]第一考点!G254","v":"放射技师"},5,{"$f":"VLOOKUP(C26,[1]笔试成绩!A:C,3,0)","v":81.46},{"v":80.6,"d":"80.60"},{"v":80.944,"d":"80.94"},"是"]
[25,{"$f":"[1]第一考点!D225","v":"漆云"},{"$f":"[1]第一考点!O225","v":"20230101080514"},{"$f":"[1]第一考点!G225","v":"放射技师"},5,{"$f":"VLOOKUP(C27,[1]笔试成绩!A:C,3,0)","v":71.72},{"v":83.8,"d":"83.80"},{"v":78.968,"d":"78.97"},"是"]
[26,{"$f":"[1]第一考点!D234","v":"陈兴"},{"$f":"[1]第一考点!O234","v":"20230101080523"},{"$f":"[1]第一考点!G234","v":"放射技师"},5,{"$f":"VLOOKUP(C28,[1]笔试成绩!A:C,3,0)","v":{"v":82.2,"d":"82.20"}},{"v":73.6,"d":"73.60"},77.04,"是"]
[27,{"$f":"[1]第一考点!D259","v":"彭霄"},{"$f":"[1]第一考点!O259","v":"20230101090518"},{"$f":"[1]第一考点!G259","v":"放射技师"},5,{"$f":"VLOOKUP(C29,[1]笔试成绩!A:C,3,0)","v":73.18},{"v":79,"d":"79.00"},{"v":76.672,"d":"76.67"},"是"]
[28,{"$f":"[1]第一考点!D266","v":"叶蔚蓝"},{"$f":"[1]第一考点!O266","v":"20230101090525"},{"$f":"[1]第一考点!G266","v":"放射技师"},5,{"$f":"VLOOKUP(C30,[1]笔试成绩!A:C,3,0)","v":75.86},{"v":76.6,"d":"76.60"},{"v":76.304,"d":"76.30"}]
[29,{"$f":"[1]第一考点!D258","v":"罗玥媛"},{"$f":"[1]第一考点!O258","v":"20230101090517"},{"$f":"[1]第一考点!G258","v":"放射技师"},5,{"$f":"VLOOKUP(C31,[1]笔试成绩!A:C,3,0)","v":75.14},{"v":77,"d":"77.00"},{"v":76.256,"d":"76.26"}]
[30,{"$f":"[1]第一考点!D251","v":"李美玲"},{"$f":"[1]第一考点!O251","v":"20230101090510"},{"$f":"[1]第一考点!G251","v":"放射技师"},5,{"$f":"VLOOKUP(C32,[1]笔试成绩!A:C,3,0)","v":73.66},{"v":77,"d":"77.00"},{"v":75.664,"d":"75.66"}]
[31,{"$f":"[1]第一考点!D222","v":"龙凤"},{"$f":"[1]第一考点!O222","v":"20230101080511"},{"$f":"[1]第一考点!G222","v":"放射技师"},5,{"$f":"VLOOKUP(C33,[1]笔试成绩!A:C,3,0)","v":73.66},{"v":73.4,"d":"73.40"},{"v":73.504,"d":"73.50"}]
[32,{"$f":"[1]第一考点!D230","v":"王婷"},{"$f":"[1]第一考点!O230","v":"20230101080519"},{"$f":"[1]第一考点!G230","v":"放射技师"},5,{"$f":"VLOOKUP(C34,[1]笔试成绩!A:C,3,0)","v":{"v":74.9,"d":"74.90"}},{"v":71.2,"d":"71.20"},72.68]
[33,{"$f":"[1]第一考点!D264","v":"安珊"},{"$f":"[1]第一考点!O264","v":"20230101090523"},{"$f":"[1]第一考点!G264","v":"放射技师"},5,{"$f":"VLOOKUP(C35,[1]笔试成绩!A:C,3,0)","v":79.76},{"v":67,"d":"67.00"},{"v":72.104,"d":"72.10"}]
[34,{"$f":"[1]第一考点!D257","v":"罗玉芳"},{"$f":"[1]第一考点!O257","v":"20230101090516"},{"$f":"[1]第一考点!G257","v":"放射技师"},5,{"$f":"VLOOKUP(C36,[1]笔试成绩!A:C,3,0)","v":76.34},{"v":68.4,"d":"68.40"},{"v":71.576,"d":"71.58"}]
[35,{"$f":"[1]第一考点!D231","v":"石红"},{"$f":"[1]第一考点!O231","v":"20230101080520"},{"$f":"[1]第一考点!G231","v":"放射技师"},5,{"$f":"VLOOKUP(C37,[1]笔试成绩!A:C,3,0)","v":71.72},{"v":70,"d":"70.00"},{"v":70.688,"d":"70.69"}]
[36,{"$f":"[1]第一考点!D252","v":"陈文杰"},{"$f":"[1]第一考点!O252","v":"20230101090511"},{"$f":"[1]第一考点!G252","v":"放射技师"},5,{"$f":"VLOOKUP(C38,[1]笔试成绩!A:C,3,0)","v":71.72},{"v":66.6,"d":"66.60"},{"v":68.648,"d":"68.65"}]
[37,{"$f":"[1]第一考点!D239","v":"王治胜"},{"$f":"[1]第一考点!O239","v":"20230101080528"},{"$f":"[1]第一考点!G239","v":"放射技师"},5,{"$f":"VLOOKUP(C39,[1]笔试成绩!A:C,3,0)","v":72.44},{"v":62.8,"d":"62.80"},{"v":66.656,"d":"66.66"}]
[38,{"$f":"[1]第一考点!D237","v":"张杰"},{"$f":"[1]第一考点!O237","v":"20230101080526"},{"$f":"[1]第一考点!G237","v":"放射技师"},5,{"$f":"VLOOKUP(C40,[1]笔试成绩!A:C,3,0)","v":{"v":73.9,"d":"73.90"}},{"v":56.2,"d":"56.20"},63.28]
[39,{"$f":"[1]第一考点!D281","v":"艾世周"},{"$f":"[1]第一考点!O281","v":"20230101100610"},{"$f":"[1]第一考点!G281","v":"放射技士"},6,{"$f":"VLOOKUP(C41,[1]笔试成绩!A:C,3,0)","v":{"v":82.2,"d":"82.20"}},{"v":83.8,"d":"83.80"},83.16,"是"]
[40,{"$f":"[1]第一考点!D271","v":"杜双"},{"$f":"[1]第一考点!O271","v":"20230101090630"},{"$f":"[1]第一考点!G271","v":"放射技士"},6,{"$f":"VLOOKUP(C42,[1]笔试成绩!A:C,3,0)","v":83.66},{"v":78,"d":"78.00"},{"v":80.264,"d":"80.26"},"是"]
[41,{"$f":"[1]第一考点!D270","v":"宋文文"},{"$f":"[1]第一考点!O270","v":"20230101090629"},{"$f":"[1]第一考点!G270","v":"放射技士"},6,{"$f":"VLOOKUP(C43,[1]笔试成绩!A:C,3,0)","v":66.12},{"v":83.2,"d":"83.20"},{"v":76.368,"d":"76.37"},"是"]
[42,{"$f":"[1]第一考点!D275","v":"葛晓琳"},{"$f":"[1]第一考点!O275","v":"20230101100604"},{"$f":"[1]第一考点!G275","v":"放射技士"},6,{"$f":"VLOOKUP(C44,[1]笔试成绩!A:C,3,0)","v":71.96},{"v":75.3,"d":"75.30"},{"v":73.964,"d":"73.96"}]
[43,{"$f":"[1]第一考点!D280","v":"魏娟"},{"$f":"[1]第一考点!O280","v":"20230101100609"},{"$f":"[1]第一考点!G280","v":"放射技士"},6,{"$f":"VLOOKUP(C45,[1]笔试成绩!A:C,3,0)","v":70.98},72.08,71.64]
[44,{"$f":"[1]第一考点!D284","v":"吴洁"},{"$f":"[1]第一考点!O284","v":"20230101100613"},{"$f":"[1]第一考点!G284","v":"放射技士"},6,{"$f":"VLOOKUP(C46,[1]笔试成绩!A:C,3,0)","v":{"v":73.9,"d":"73.90"}},{"v":69.2,"d":"69.20"},71.08]
[45,{"$f":"[1]第一考点!D282","v":"冉飞艳"},{"$f":"[1]第一考点!O282","v":"20230101100611"},{"$f":"[1]第一考点!G282","v":"放射技士"},6,{"$f":"VLOOKUP(C47,[1]笔试成绩!A:C,3,0)","v":{"v":66.1,"d":"66.10"}},{"v":69,"d":"69.00"},67.84]
[46,{"$f":"[1]第一考点!D290","v":"龚菊"},{"$f":"[1]第一考点!O290","v":"20230101100619"},{"$f":"[1]第一考点!G290","v":"放射技士"},6,{"$f":"VLOOKUP(C48,[1]笔试成绩!A:C,3,0)","v":64.64},{"v":69.3,"d":"69.30"},{"v":67.436,"d":"67.44"}]
[47,{"$f":"[1]第一考点!D287","v":"张中香"},{"$f":"[1]第一考点!O287","v":"20230101100616"},{"$f":"[1]第一考点!G287","v":"放射技士"},6,{"$f":"VLOOKUP(C49,[1]笔试成绩!A:C,3,0)","v":64.18},{"v":48.8,"d":"48.80"},{"v":54.952,"d":"54.95"}]
[48,{"$f":"[1]第二考点!D16","v":"杨雪"},{"$f":"[1]第二考点!O16","v":"20230102011015"},{"$f":"[1]第二考点!G16","v":"药房药师"},10,{"$f":"VLOOKUP(C50,[1]笔试成绩!A:C,3,0)","v":78.54},{"v":85.8,"d":"85.80"},{"v":82.896,"d":"82.90"},"是"]
[49,{"$f":"[1]第二考点!D57","v":"赵绳"},{"$f":"[1]第二考点!O57","v":"20230102021026"},{"$f":"[1]第二考点!G57","v":"药房药师"},10,{"$f":"VLOOKUP(C51,[1]笔试成绩!A:C,3,0)","v":80.74},{"v":81.4,"d":"81.40"},{"v":81.136,"d":"81.14"},"是"]
[50,{"$f":"[1]第二考点!D81","v":"胡雪梅"},{"$f":"[1]第二考点!O81","v":"20230102031020"},{"$f":"[1]第二考点!G81","v":"药房药师"},10,{"$f":"VLOOKUP(C52,[1]笔试成绩!A:C,3,0)","v":79.52},{"v":81.2,"d":"81.20"},{"v":80.528,"d":"80.53"},"是"]
[51,{"$f":"[1]第二考点!D49","v":"冯关敏"},{"$f":"[1]第二考点!O49","v":"20230102021018"},{"$f":"[1]第二考点!G49","v":"药房药师"},10,{"$f":"VLOOKUP(C53,[1]笔试成绩!A:C,3,0)","v":80.98},{"v":79.2,"d":"79.20"},{"v":79.912,"d":"79.91"},"是"]
[52,{"$f":"[1]第二考点!D12","v":"李洪会"},{"$f":"[1]第二考点!O12","v":"20230102011011"},{"$f":"[1]第二考点!G12","v":"药房药师"},10,{"$f":"VLOOKUP(C54,[1]笔试成绩!A:C,3,0)","v":83.18},{"v":76.4,"d":"76.40"},{"v":79.112,"d":"79.11"},"是"]
[53,{"$f":"[1]第二考点!D17","v":"杨美"},{"$f":"[1]第二考点!O17","v":"20230102011016"},{"$f":"[1]第二考点!G17","v":"药房药师"},10,{"$f":"VLOOKUP(C55,[1]笔试成绩!A:C,3,0)","v":79.02},{"v":78.8,"d":"78.80"},{"v":78.888,"d":"78.89"}]
[54,{"$f":"[1]第二考点!D72","v":"卢星星"},{"$f":"[1]第二考点!O72","v":"20230102031011"},{"$f":"[1]第二考点!G72","v":"药房药师"},10,{"$f":"VLOOKUP(C56,[1]笔试成绩!A:C,3,0)","v":80.72},{"v":76.8,"d":"76.80"},{"v":78.368,"d":"78.37"}]
[55,{"$f":"[1]第二考点!D4","v":"李雪"},{"$f":"[1]第二考点!O4","v":"20230102011003"},{"$f":"[1]第二考点!G4","v":"药房药师"},10,{"$f":"VLOOKUP(C57,[1]笔试成绩!A:C,3,0)","v":{"v":82.2,"d":"82.20"}},{"v":73,"d":"73.00"},76.68]
[56,{"$f":"[1]第二考点!D42","v":"郑艳"},{"$f":"[1]第二考点!O42","v":"20230102021011"},{"$f":"[1]第二考点!G42","v":"药房药师"},10,{"$f":"VLOOKUP(C58,[1]笔试成绩!A:C,3,0)","v":{"v":78.3,"d":"78.30"}},{"v":75.2,"d":"75.20"},76.44]
[57,{"$f":"[1]第二考点!D84","v":"彭伟"},{"$f":"[1]第二考点!O84","v":"20230102031023"},{"$f":"[1]第二考点!G84","v":"药房药师"},10,{"$f":"VLOOKUP(C59,[1]笔试成绩!A:C,3,0)","v":78.54},{"v":73.8,"d":"73.80"},{"v":75.696,"d":"75.70"}]
[58,{"$f":"[1]第二考点!D105","v":"马会余"},{"$f":"[1]第二考点!O105","v":"20230102041014"},{"$f":"[1]第二考点!G105","v":"药房药师"},10,{"$f":"VLOOKUP(C60,[1]笔试成绩!A:C,3,0)","v":78.54},{"v":72,"d":"72.00"},{"v":74.616,"d":"74.62"}]
[59,{"$f":"[1]第二考点!D31","v":"徐梅"},{"$f":"[1]第二考点!O31","v":"20230102011030"},{"$f":"[1]第二考点!G31","v":"药房药师"},10,{"$f":"VLOOKUP(C61,[1]笔试成绩!A:C,3,0)","v":78.54},{"v":71.2,"d":"71.20"},{"v":74.136,"d":"74.14"}]
[60,{"$f":"[1]第二考点!D40","v":"孙慧"},{"$f":"[1]第二考点!O40","v":"20230102021009"},{"$f":"[1]第二考点!G40","v":"药房药师"},10,{"$f":"VLOOKUP(C62,[1]笔试成绩!A:C,3,0)","v":{"v":78.3,"d":"78.30"}},{"v":70.8,"d":"70.80"},{"v":73.8,"d":"73.80"}]
[61,{"$f":"[1]第二考点!D8","v":"郑致富"},{"$f":"[1]第二考点!O8","v":"20230102011007"},{"$f":"[1]第二考点!G8","v":"药房药师"},10,{"$f":"VLOOKUP(C63,[1]笔试成绩!A:C,3,0)","v":{"v":79.5,"d":"79.50"}},{"v":68.2,"d":"68.20"},72.72]
[62,{"$f":"[1]第二考点!D58","v":"吉婷"},{"$f":"[1]第二考点!O58","v":"20230102021027"},{"$f":"[1]第二考点!G58","v":"药房药师"},10,{"$f":"VLOOKUP(C64,[1]笔试成绩!A:C,3,0)","v":85.62},{"v":0,"d":"0.00"},{"v":34.248,"d":"34.25"}]
[63,{"$f":"[1]第二考点!D5","v":"郭芳"},{"$f":"[1]第二考点!O5","v":"20230102011004"},{"$f":"[1]第二考点!G5","v":"药房药师"},10,{"$f":"VLOOKUP(C65,[1]笔试成绩!A:C,3,0)","v":78.54},{"v":0,"d":"0.00"},{"v":31.416,"d":"31.42"}]
[64,{"$f":"[1]第一考点!D301","v":"龙熙"},{"$f":"[1]第一考点!O301","v":"20230101101130"},{"$f":"[1]第一考点!G301","v":"中药房药师"},11,{"$f":"VLOOKUP(C66,[1]笔试成绩!A:C,3,0)","v":83.66},{"v":79.5,"d":"79.50"},{"v":81.164,"d":"81.16"},"是"]
[65,{"$f":"[1]第一考点!D299","v":"丁成东"},{"$f":"[1]第一考点!O299","v":"20230101101128"},{"$f":"[1]第一考点!G299","v":"中药房药师"},11,{"$f":"VLOOKUP(C67,[1]笔试成绩!A:C,3,0)","v":76.84},{"v":76.3,"d":"76.30"},{"$f":"F67*0.4+G67*0.6","v":{"v":76.516,"d":"76.52"}}]
[66,{"$f":"[1]第一考点!D300","v":"高刚"},{"$f":"[1]第一考点!O300","v":"20230101101129"},{"$f":"[1]第一考点!G300","v":"中药房药师"},11,{"$f":"VLOOKUP(C68,[1]笔试成绩!A:C,3,0)","v":75.12},{"v":71.8,"d":"71.80"},{"v":73.128,"d":"73.13"}]
[67,{"$f":"[1]第二考点!D437","v":"黎江艳"},{"$f":"[1]第二考点!O437","v":"20230102151216"},{"$f":"[1]第二考点!G437","v":"护士"},12,{"$f":"VLOOKUP(C69,[1]笔试成绩!A:C,3,0)","v":{"v":77.8,"d":"77.80"}},{"v":88.4,"d":"88.40"},84.16,"是"]
[68,{"$f":"[1]第二考点!D350","v":"李京"},{"$f":"[1]第二考点!O350","v":"20230102121219"},{"$f":"[1]第二考点!G350","v":"护士"},12,{"$f":"VLOOKUP(C70,[1]笔试成绩!A:C,3,0)","v":{"v":77.8,"d":"77.80"}},{"v":86.4,"d":"86.40"},82.96,"是"]
[69,{"$f":"[1]第二考点!D611","v":"熊兰"},{"$f":"[1]第二考点!O611","v":"20230102211210"},{"$f":"[1]第二考点!G611","v":"护士"},12,{"$f":"VLOOKUP(C71,[1]笔试成绩!A:C,3,0)","v":{"v":76.1,"d":"76.10"}},{"v":86.6,"d":"86.60"},{"v":82.4,"d":"82.40"},"是"]
[70,{"$f":"[1]第二考点!D585","v":"陶昊"},{"$f":"[1]第二考点!O585","v":"20230102201214"},{"$f":"[1]第二考点!G585","v":"护士"},12,{"$f":"VLOOKUP(C72,[1]笔试成绩!A:C,3,0)","v":{"v":77.8,"d":"77.80"}},{"v":83.8,"d":"83.80"},{"v":81.4,"d":"81.40"},"是"]
[71,{"$f":"[1]第二考点!D218","v":"先思梅"},{"$f":"[1]第二考点!O218","v":"20230102081207"},{"$f":"[1]第二考点!G218","v":"护士"},12,{"$f":"VLOOKUP(C73,[1]笔试成绩!A:C,3,0)","v":76.34},{"v":83.4,"d":"83.40"},{"v":80.576,"d":"80.58"},"是"]
[72,{"$f":"[1]第二考点!D451","v":"石娇"},{"$f":"[1]第二考点!O451","v":"20230102151230"},{"$f":"[1]第二考点!G451","v":"护士"},12,{"$f":"VLOOKUP(C74,[1]笔试成绩!A:C,3,0)","v":80.24},{"v":80.8,"d":"80.80"},{"v":80.576,"d":"80.58"},"是"]
[73,{"$f":"[1]第二考点!D594","v":"毛元义"},{"$f":"[1]第二考点!O594","v":"20230102201223"},{"$f":"[1]第二考点!G594","v":"护士"},12,{"$f":"VLOOKUP(C75,[1]笔试成绩!A:C,3,0)","v":{"v":80,"d":"80.00"}},{"v":79.8,"d":"79.80"},79.88,"是"]
[74,{"$f":"[1]第二考点!D425","v":"刘敏"},{"$f":"[1]第二考点!O425","v":"20230102151204"},{"$f":"[1]第二考点!G425","v":"护士"},12,{"$f":"VLOOKUP(C76,[1]笔试成绩!A:C,3,0)","v":78.54},{"v":80.4,"d":"80.40"},{"v":79.656,"d":"79.66"},"是"]
[75,{"$f":"[1]第二考点!D167","v":"尹念"},{"$f":"[1]第二考点!O167","v":"20230102061216"},{"$f":"[1]第二考点!G167","v":"护士"},12,{"$f":"VLOOKUP(C77,[1]笔试成绩!A:C,3,0)","v":78.54},{"v":79.4,"d":"79.40"},{"v":79.056,"d":"79.06"},"是"]
[76,{"$f":"[1]第二考点!D341","v":"李英"},{"$f":"[1]第二考点!O341","v":"20230102121210"},{"$f":"[1]第二考点!G341","v":"护士"},12,{"$f":"VLOOKUP(C78,[1]笔试成绩!A:C,3,0)","v":73.16},{"v":82.4,"d":"82.40"},{"v":78.704,"d":"78.70"},"是"]
[77,{"$f":"[1]第二考点!D174","v":"张仙仙"},{"$f":"[1]第二考点!O174","v":"20230102061223"},{"$f":"[1]第二考点!G174","v":"护士"},12,{"$f":"VLOOKUP(C79,[1]笔试成绩!A:C,3,0)","v":72.44},{"v":82.4,"d":"82.40"},{"v":78.416,"d":"78.42"},"是"]
[78,{"$f":"[1]第二考点!D691","v":"晏艳"},{"$f":"[1]第二考点!O691","v":"20230102231230"},{"$f":"[1]第二考点!G691","v":"护士"},12,{"$f":"VLOOKUP(C80,[1]笔试成绩!A:C,3,0)","v":76.58},{"v":79.6,"d":"79.60"},{"v":78.392,"d":"78.39"},"是"]
[79,{"$f":"[1]第二考点!D645","v":"张云龙"},{"$f":"[1]第二考点!O645","v":"20230102221214"},{"$f":"[1]第二考点!G645","v":"护士"},12,{"$f":"VLOOKUP(C81,[1]笔试成绩!A:C,3,0)","v":73.92},{"v":79.6,"d":"79.60"},{"v":77.328,"d":"77.33"},"是"]
[80,{"$f":"[1]第二考点!D729","v":"聂梅"},{"$f":"[1]第二考点!O729","v":"20230102251208"},{"$f":"[1]第二考点!G729","v":"护士"},12,{"$f":"VLOOKUP(C82,[1]笔试成绩!A:C,3,0)","v":72.94},{"v":80.2,"d":"80.20"},{"v":77.296,"d":"77.30"},"是"]
[81,{"$f":"[1]第二考点!D595","v":"肖文娟"},{"$f":"[1]第二考点!O595","v":"20230102201224"},{"$f":"[1]第二考点!G595","v":"护士"},12,{"$f":"VLOOKUP(C83,[1]笔试成绩!A:C,3,0)","v":80.98},{"v":74.8,"d":"74.80"},{"v":77.272,"d":"77.27"},"是"]
[82,{"$f":"[1]第二考点!D644","v":"周杰"},{"$f":"[1]第二考点!O644","v":"20230102221213"},{"$f":"[1]第二考点!G644","v":"护士"},12,{"$f":"VLOOKUP(C84,[1]笔试成绩!A:C,3,0)","v":{"v":82.2,"d":"82.20"}},{"v":73.8,"d":"73.80"},77.16,"是"]
[83,{"$f":"[1]第二考点!D185","v":"陈亦婷"},{"$f":"[1]第二考点!O185","v":"20230102071204"},{"$f":"[1]第二考点!G185","v":"护士"},12,{"$f":"VLOOKUP(C85,[1]笔试成绩!A:C,3,0)","v":{"v":86.5799999999999,"d":"86.58"}},{"v":70.8,"d":"70.80"},{"v":77.112,"d":"77.11"},"是"]
[84,{"$f":"[1]第二考点!D323","v":"陈婕"},{"$f":"[1]第二考点!O323","v":"20230102111222"},{"$f":"[1]第二考点!G323","v":"护士"},12,{"$f":"VLOOKUP(C86,[1]笔试成绩!A:C,3,0)","v":77.56},{"v":76.8,"d":"76.80"},{"v":77.104,"d":"77.10"},"是"]
[85,{"$f":"[1]第二考点!D704","v":"常国域"},{"$f":"[1]第二考点!O704","v":"20230102241213"},{"$f":"[1]第二考点!G704","v":"护士"},12,{"$f":"VLOOKUP(C87,[1]笔试成绩!A:C,3,0)","v":76.58},{"v":77.4,"d":"77.40"},{"v":77.072,"d":"77.07"},"是"]
[86,{"$f":"[1]第二考点!D348","v":"张妍"},{"$f":"[1]第二考点!O348","v":"20230102121217"},{"$f":"[1]第二考点!G348","v":"护士"},12,{"$f":"VLOOKUP(C88,[1]笔试成绩!A:C,3,0)","v":74.64},{"v":78.6,"d":"78.60"},{"v":77.016,"d":"77.02"},"是"]
[87,{"$f":"[1]第二考点!D207","v":"刘兴爽"},{"$f":"[1]第二考点!O207","v":"20230102071226"},{"$f":"[1]第二考点!G207","v":"护士"},12,{"$f":"VLOOKUP(C89,[1]笔试成绩!A:C,3,0)","v":72.92},{"v":79.4,"d":"79.40"},{"v":76.808,"d":"76.81"},"是"]
[88,{"$f":"[1]第二考点!D731","v":"赵娟"},{"$f":"[1]第二考点!O731","v":"20230102251210"},{"$f":"[1]第二考点!G731","v":"护士"},12,{"$f":"VLOOKUP(C90,[1]笔试成绩!A:C,3,0)","v":72.92},{"v":79.2,"d":"79.20"},{"v":76.688,"d":"76.69"},"是"]
[89,{"$f":"[1]第二考点!D411","v":"高丽华"},{"$f":"[1]第二考点!O411","v":"20230102141220"},{"$f":"[1]第二考点!G411","v":"护士"},12,{"$f":"VLOOKUP(C91,[1]笔试成绩!A:C,3,0)","v":76.84},{"v":76.4,"d":"76.40"},{"v":76.576,"d":"76.58"},"是"]
[90,{"$f":"[1]第二考点!D271","v":"李双喜"},{"$f":"[1]第二考点!O271","v":"20230102091230"},{"$f":"[1]第二考点!G271","v":"护士"},12,{"$f":"VLOOKUP(C92,[1]笔试成绩!A:C,3,0)","v":78.04},{"v":75.6,"d":"75.60"},{"v":76.576,"d":"76.58"},"是"]
[91,{"$f":"[1]第二考点!D396","v":"陈娟"},{"$f":"[1]第二考点!O396","v":"20230102141205"},{"$f":"[1]第二考点!G396","v":"护士"},12,{"$f":"VLOOKUP(C93,[1]笔试成绩!A:C,3,0)","v":72.92},{"v":79,"d":"79.00"},{"v":76.568,"d":"76.57"},"是"]
[92,{"$f":"[1]第二考点!D636","v":"段军"},{"$f":"[1]第二考点!O636","v":"20230102221205"},{"$f":"[1]第二考点!G636","v":"护士"},12,{"$f":"VLOOKUP(C94,[1]笔试成绩!A:C,3,0)","v":72.46},{"v":79.2,"d":"79.20"},{"v":76.504,"d":"76.50"},"是"]
[93,{"$f":"[1]第二考点!D741","v":"汪莎莉"},{"$f":"[1]第二考点!O741","v":"20230102251220"},{"$f":"[1]第二考点!G741","v":"护士"},12,{"$f":"VLOOKUP(C95,[1]笔试成绩!A:C,3,0)","v":74.16},{"v":78,"d":"78.00"},{"v":76.464,"d":"76.46"},"是"]
[94,{"$f":"[1]第二考点!D778","v":"石雪琴"},{"$f":"[1]第二考点!O778","v":"20230102261227"},{"$f":"[1]第二考点!G778","v":"护士"},12,{"$f":"VLOOKUP(C96,[1]笔试成绩!A:C,3,0)","v":81.22},{"v":73.2,"d":"73.20"},{"v":76.408,"d":"76.41"},"是"]
[95,{"$f":"[1]第二考点!D752","v":"俞丹妮"},{"$f":"[1]第二考点!O752","v":"20230102261201"},{"$f":"[1]第二考点!G752","v":"护士"},12,{"$f":"VLOOKUP(C97,[1]笔试成绩!A:C,3,0)","v":79.26},{"v":74.4,"d":"74.40"},{"v":76.344,"d":"76.34"},"是"]
[96,{"$f":"[1]第二考点!D281","v":"胡潘莲"},{"$f":"[1]第二考点!O281","v":"20230102101210"},{"$f":"[1]第二考点!G281","v":"护士"},12,{"$f":"VLOOKUP(C98,[1]笔试成绩!A:C,3,0)","v":76.34},{"v":76,"d":"76.00"},{"v":76.136,"d":"76.14"},"是"]
[97,{"$f":"[1]第二考点!D751","v":"李雪"},{"$f":"[1]第二考点!O751","v":"20230102251230"},{"$f":"[1]第二考点!G751","v":"护士"},12,{"$f":"VLOOKUP(C99,[1]笔试成绩!A:C,3,0)","v":75.38},{"v":76.6,"d":"76.60"},{"v":76.112,"d":"76.11"}]
[98,{"$f":"[1]第二考点!D635","v":"张念念"},{"$f":"[1]第二考点!O635","v":"20230102221204"},{"$f":"[1]第二考点!G635","v":"护士"},12,{"$f":"VLOOKUP(C100,[1]笔试成绩!A:C,3,0)","v":{"v":78.3,"d":"78.30"}},{"v":74.6,"d":"74.60"},76.08]
[99,{"$f":"[1]第二考点!D572","v":"周艳"},{"$f":"[1]第二考点!O572","v":"20230102201201"},{"$f":"[1]第二考点!G572","v":"护士"},12,{"$f":"VLOOKUP(C101,[1]笔试成绩!A:C,3,0)","v":77.82},{"v":74.6,"d":"74.60"},{"v":75.888,"d":"75.89"}]
[100,{"$f":"[1]第二考点!D343","v":"马梦蝶"},{"$f":"[1]第二考点!O343","v":"20230102121212"},{"$f":"[1]第二考点!G343","v":"护士"},12,{"$f":"VLOOKUP(C102,[1]笔试成绩!A:C,3,0)","v":75.12},{"v":76.4,"d":"76.40"},{"v":75.888,"d":"75.89"}]
[101,{"$f":"[1]第二考点!D476","v":"潘奕娇"},{"$f":"[1]第二考点!O476","v":"20230102161225"},{"$f":"[1]第二考点!G476","v":"护士"},12,{"$f":"VLOOKUP(C103,[1]笔试成绩!A:C,3,0)","v":{"v":72.7,"d":"72.70"}},{"v":78,"d":"78.00"},75.88]
[102,{"$f":"[1]第二考点!D689","v":"康雪"},{"$f":"[1]第二考点!O689","v":"20230102231228"},{"$f":"[1]第二考点!G689","v":"护士"},12,{"$f":"VLOOKUP(C104,[1]笔试成绩!A:C,3,0)","v":73.16},{"v":77.6,"d":"77.60"},{"v":75.824,"d":"75.82"}]
[103,{"$f":"[1]第二考点!D701","v":"沈群松"},{"$f":"[1]第二考点!O701","v":"20230102241210"},{"$f":"[1]第二考点!G701","v":"护士"},12,{"$f":"VLOOKUP(C105,[1]笔试成绩!A:C,3,0)","v":74.88},{"v":76.2,"d":"76.20"},{"v":75.672,"d":"75.67"}]
[104,{"$f":"[1]第二考点!D782","v":"刘翠"},{"$f":"[1]第二考点!O782","v":"20230102271201"},{"$f":"[1]第二考点!G782","v":"护士"},12,{"$f":"VLOOKUP(C106,[1]笔试成绩!A:C,3,0)","v":74.14},{"v":76.6,"d":"76.60"},{"v":75.616,"d":"75.62"}]
[105,{"$f":"[1]第二考点!D430","v":"王丹"},{"$f":"[1]第二考点!O430","v":"20230102151209"},{"$f":"[1]第二考点!G430","v":"护士"},12,{"$f":"VLOOKUP(C107,[1]笔试成绩!A:C,3,0)","v":{"v":73.9,"d":"73.90"}},{"v":76.6,"d":"76.60"},75.52]
[106,{"$f":"[1]第二考点!D642","v":"曹玉吉"},{"$f":"[1]第二考点!O642","v":"20230102221211"},{"$f":"[1]第二考点!G642","v":"护士"},12,{"$f":"VLOOKUP(C108,[1]笔试成绩!A:C,3,0)","v":73.66},{"v":76.4,"d":"76.40"},{"v":75.304,"d":"75.30"}]
[107,{"$f":"[1]第二考点!D466","v":"杨兰"},{"$f":"[1]第二考点!O466","v":"20230102161215"},{"$f":"[1]第二考点!G466","v":"护士"},12,{"$f":"VLOOKUP(C109,[1]笔试成绩!A:C,3,0)","v":74.64},{"v":75.4,"d":"75.40"},{"v":75.096,"d":"75.10"}]
[108,{"$f":"[1]第二考点!D198","v":"毛丽"},{"$f":"[1]第二考点!O198","v":"20230102071217"},{"$f":"[1]第二考点!G198","v":"护士"},12,{"$f":"VLOOKUP(C110,[1]笔试成绩!A:C,3,0)","v":74.88},{"v":75.2,"d":"75.20"},{"v":75.072,"d":"75.07"}]
[109,{"$f":"[1]第二考点!D614","v":"周霞"},{"$f":"[1]第二考点!O614","v":"20230102211213"},{"$f":"[1]第二考点!G614","v":"护士"},12,{"$f":"VLOOKUP(C111,[1]笔试成绩!A:C,3,0)","v":73.66},{"v":75.8,"d":"75.80"},{"v":74.944,"d":"74.94"}]
[110,{"$f":"[1]第二考点!D386","v":"邹晓娟"},{"$f":"[1]第二考点!O386","v":"20230102131225"},{"$f":"[1]第二考点!G386","v":"护士"},12,{"$f":"VLOOKUP(C112,[1]笔试成绩!A:C,3,0)","v":72.44},{"v":76.4,"d":"76.40"},{"v":74.816,"d":"74.82"}]
[111,{"$f":"[1]第二考点!D577","v":"夏娇"},{"$f":"[1]第二考点!O577","v":"20230102201206"},{"$f":"[1]第二考点!G577","v":"护士"},12,{"$f":"VLOOKUP(C113,[1]笔试成绩!A:C,3,0)","v":80.72},{"v":70.8,"d":"70.80"},{"v":74.768,"d":"74.77"}]
[112,{"$f":"[1]第二考点!D518","v":"熊欣"},{"$f":"[1]第二考点!O518","v":"20230102181207"},{"$f":"[1]第二考点!G518","v":"护士"},12,{"$f":"VLOOKUP(C114,[1]笔试成绩!A:C,3,0)","v":80.48},{"v":70.8,"d":"70.80"},{"v":74.672,"d":"74.67"}]
[113,{"$f":"[1]第二考点!D507","v":"陈仁凤"},{"$f":"[1]第二考点!O507","v":"20230102171226"},{"$f":"[1]第二考点!G507","v":"护士"},12,{"$f":"VLOOKUP(C115,[1]笔试成绩!A:C,3,0)","v":74.66},{"v":74.2,"d":"74.20"},{"v":74.384,"d":"74.38"}]
[114,{"$f":"[1]第二考点!D368","v":"杨晓娅"},{"$f":"[1]第二考点!O368","v":"20230102131207"},{"$f":"[1]第二考点!G368","v":"护士"},12,{"$f":"VLOOKUP(C116,[1]笔试成绩!A:C,3,0)","v":72.44},{"v":75.4,"d":"75.40"},{"v":74.216,"d":"74.22"}]
[115,{"$f":"[1]第二考点!D570","v":"王璞"},{"$f":"[1]第二考点!O570","v":"20230102191229"},{"$f":"[1]第二考点!G570","v":"护士"},12,{"$f":"VLOOKUP(C117,[1]笔试成绩!A:C,3,0)","v":73.66},{"v":74.4,"d":"74.40"},{"v":74.104,"d":"74.10"}]
[116,{"$f":"[1]第二考点!D520","v":"陈晓玲"},{"$f":"[1]第二考点!O520","v":"20230102181209"},{"$f":"[1]第二考点!G520","v":"护士"},12,{"$f":"VLOOKUP(C118,[1]笔试成绩!A:C,3,0)","v":73.92},{"v":74,"d":"74.00"},{"v":73.968,"d":"73.97"}]
[117,{"$f":"[1]第二考点!D708","v":"徐凤"},{"$f":"[1]第二考点!O708","v":"20230102241217"},{"$f":"[1]第二考点!G708","v":"护士"},12,{"$f":"VLOOKUP(C119,[1]笔试成绩!A:C,3,0)","v":76.58},{"v":72.2,"d":"72.20"},{"v":73.952,"d":"73.95"}]
[118,{"$f":"[1]第二考点!D301","v":"杜开艳"},{"$f":"[1]第二考点!O301","v":"20230102101230"},{"$f":"[1]第二考点!G301","v":"护士"},12,{"$f":"VLOOKUP(C120,[1]笔试成绩!A:C,3,0)","v":72.44},{"v":74.6,"d":"74.60"},{"v":73.736,"d":"73.74"}]
[119,{"$f":"[1]第二考点!D132","v":"吴雪雪"},{"$f":"[1]第二考点!O132","v":"20230102051211"},{"$f":"[1]第二考点!G132","v":"护士"},12,{"$f":"VLOOKUP(C121,[1]笔试成绩!A:C,3,0)","v":77.32},{"v":71,"d":"71.00"},{"v":73.528,"d":"73.53"}]
[120,{"$f":"[1]第二考点!D357","v":"王婷婷"},{"$f":"[1]第二考点!O357","v":"20230102121226"},{"$f":"[1]第二考点!G357","v":"护士"},12,{"$f":"VLOOKUP(C122,[1]笔试成绩!A:C,3,0)","v":73.42},{"v":73.4,"d":"73.40"},{"v":73.408,"d":"73.41"}]
[121,{"$f":"[1]第二考点!D246","v":"兰雪"},{"$f":"[1]第二考点!O246","v":"20230102091205"},{"$f":"[1]第二考点!G246","v":"护士"},12,{"$f":"VLOOKUP(C123,[1]笔试成绩!A:C,3,0)","v":{"v":72.2,"d":"72.20"}},{"v":74.2,"d":"74.20"},{"v":73.4,"d":"73.40"}]
[122,{"$f":"[1]第二考点!D781","v":"张兴"},{"$f":"[1]第二考点!O781","v":"20230102261230"},{"$f":"[1]第二考点!G781","v":"护士"},12,{"$f":"VLOOKUP(C124,[1]笔试成绩!A:C,3,0)","v":{"v":77.8,"d":"77.80"}},{"v":70.4,"d":"70.40"},73.36]
[123,{"$f":"[1]第二考点!D330","v":"崔光芬"},{"$f":"[1]第二考点!O330","v":"20230102111229"},{"$f":"[1]第二考点!G330","v":"护士"},12,{"$f":"VLOOKUP(C125,[1]笔试成绩!A:C,3,0)","v":72.92},{"v":73.6,"d":"73.60"},{"v":73.328,"d":"73.33"}]
[124,{"$f":"[1]第二考点!D127","v":"赵家琴"},{"$f":"[1]第二考点!O127","v":"20230102051206"},{"$f":"[1]第二考点!G127","v":"护士"},12,{"$f":"VLOOKUP(C126,[1]笔试成绩!A:C,3,0)","v":81.22},{"v":68,"d":"68.00"},{"v":73.288,"d":"73.29"}]
[125,{"$f":"[1]第二考点!D164","v":"颜嘉"},{"$f":"[1]第二考点!O164","v":"20230102061213"},{"$f":"[1]第二考点!G164","v":"护士"},12,{"$f":"VLOOKUP(C127,[1]笔试成绩!A:C,3,0)","v":{"v":72.2,"d":"72.20"}},{"v":74,"d":"74.00"},73.28]
[126,{"$f":"[1]第二考点!D228","v":"王洁"},{"$f":"[1]第二考点!O228","v":"20230102081217"},{"$f":"[1]第二考点!G228","v":"护士"},12,{"$f":"VLOOKUP(C128,[1]笔试成绩!A:C,3,0)","v":76.34},{"v":71.2,"d":"71.20"},{"v":73.256,"d":"73.26"}]
[127,{"$f":"[1]第二考点!D449","v":"朱远涛"},{"$f":"[1]第二考点!O449","v":"20230102151228"},{"$f":"[1]第二考点!G449","v":"护士"},12,{"$f":"VLOOKUP(C129,[1]笔试成绩!A:C,3,0)","v":74.64},{"v":72.2,"d":"72.20"},{"v":73.176,"d":"73.18"}]
[128,{"$f":"[1]第二考点!D737","v":"邹红霄"},{"$f":"[1]第二考点!O737","v":"20230102251216"},{"$f":"[1]第二考点!G737","v":"护士"},12,{"$f":"VLOOKUP(C130,[1]笔试成绩!A:C,3,0)","v":76.84},{"v":70.2,"d":"70.20"},{"v":72.856,"d":"72.86"}]
[129,{"$f":"[1]第二考点!D379","v":"蒋雪"},{"$f":"[1]第二考点!O379","v":"20230102131218"},{"$f":"[1]第二考点!G379","v":"护士"},12,{"$f":"VLOOKUP(C131,[1]笔试成绩!A:C,3,0)","v":81.46},{"v":66.4,"d":"66.40"},{"$f":"F131*0.4+G131*0.6","v":{"v":72.424,"d":"72.42"}}]
[130,{"$f":"[1]第二考点!D395","v":"卢信宏"},{"$f":"[1]第二考点!O395","v":"20230102141204"},{"$f":"[1]第二考点!G395","v":"护士"},12,{"$f":"VLOOKUP(C132,[1]笔试成绩!A:C,3,0)","v":75.36},{"v":70.4,"d":"70.40"},{"v":72.384,"d":"72.38"}]
[131,{"$f":"[1]第二考点!D733","v":"杨梅"},{"$f":"[1]第二考点!O733","v":"20230102251212"},{"$f":"[1]第二考点!G733","v":"护士"},12,{"$f":"VLOOKUP(C133,[1]笔试成绩!A:C,3,0)","v":73.18},{"v":71.8,"d":"71.80"},{"v":72.352,"d":"72.35"}]
[132,{"$f":"[1]第二考点!D790","v":"刘丽俐"},{"$f":"[1]第二考点!O790","v":"20230102271209"},{"$f":"[1]第二考点!G790","v":"护士"},12,{"$f":"VLOOKUP(C134,[1]笔试成绩!A:C,3,0)","v":{"v":76.1,"d":"76.10"}},{"v":69.8,"d":"69.80"},72.32]
[133,{"$f":"[1]第二考点!D435","v":"聂胜男"},{"$f":"[1]第二考点!O435","v":"20230102151214"},{"$f":"[1]第二考点!G435","v":"护士"},12,{"$f":"VLOOKUP(C135,[1]笔试成绩!A:C,3,0)","v":75.12},{"v":70.2,"d":"70.20"},{"v":72.168,"d":"72.17"}]
[134,{"$f":"[1]第二考点!D758","v":"赵显睿"},{"$f":"[1]第二考点!O758","v":"20230102261207"},{"$f":"[1]第二考点!G758","v":"护士"},12,{"$f":"VLOOKUP(C136,[1]笔试成绩!A:C,3,0)","v":74.64},{"v":70,"d":"70.00"},{"v":71.856,"d":"71.86"}]
[135,{"$f":"[1]第二考点!D742","v":"王云"},{"$f":"[1]第二考点!O742","v":"20230102251221"},{"$f":"[1]第二考点!G742","v":"护士"},12,{"$f":"VLOOKUP(C137,[1]笔试成绩!A:C,3,0)","v":74.16},{"v":70.2,"d":"70.20"},{"v":71.784,"d":"71.78"}]
[136,{"$f":"[1]第二考点!D607","v":"蔡小星"},{"$f":"[1]第二考点!O607","v":"20230102211206"},{"$f":"[1]第二考点!G607","v":"护士"},12,{"$f":"VLOOKUP(C138,[1]笔试成绩!A:C,3,0)","v":74.14},{"v":70.2,"d":"70.20"},{"v":71.776,"d":"71.78"}]
[137,{"$f":"[1]第二考点!D424","v":"吴贵南"},{"$f":"[1]第二考点!O424","v":"20230102151203"},{"$f":"[1]第二考点!G424","v":"护士"},12,{"$f":"VLOOKUP(C139,[1]笔试成绩!A:C,3,0)","v":74.64},{"v":69.2,"d":"69.20"},{"v":71.376,"d":"71.38"}]
[138,{"$f":"[1]第二考点!D289","v":"王万林"},{"$f":"[1]第二考点!O289","v":"20230102101218"},{"$f":"[1]第二考点!G289","v":"护士"},12,{"$f":"VLOOKUP(C140,[1]笔试成绩!A:C,3,0)","v":72.44},{"v":70.6,"d":"70.60"},{"v":71.336,"d":"71.34"}]
[139,{"$f":"[1]第二考点!D381","v":"张连芳"},{"$f":"[1]第二考点!O381","v":"20230102131220"},{"$f":"[1]第二考点!G381","v":"护士"},12,{"$f":"VLOOKUP(C141,[1]笔试成绩!A:C,3,0)","v":{"v":75.6,"d":"75.60"}},{"v":68.4,"d":"68.40"},71.28]
[140,{"$f":"[1]第二考点!D155","v":"周先飞"},{"$f":"[1]第二考点!O155","v":"20230102061204"},{"$f":"[1]第二考点!G155","v":"护士"},12,{"$f":"VLOOKUP(C142,[1]笔试成绩!A:C,3,0)","v":76.36},{"v":67.6,"d":"67.60"},{"v":71.104,"d":"71.10"}]
[141,{"$f":"[1]第二考点!D426","v":"张三勤"},{"$f":"[1]第二考点!O426","v":"20230102151205"},{"$f":"[1]第二考点!G426","v":"护士"},12,{"$f":"VLOOKUP(C143,[1]笔试成绩!A:C,3,0)","v":73.16},{"v":69.6,"d":"69.60"},{"v":71.024,"d":"71.02"}]
[142,{"$f":"[1]第二考点!D648","v":"马郃云"},{"$f":"[1]第二考点!O648","v":"20230102221217"},{"$f":"[1]第二考点!G648","v":"护士"},12,{"$f":"VLOOKUP(C144,[1]笔试成绩!A:C,3,0)","v":72.22},{"v":70,"d":"70.00"},{"v":70.888,"d":"70.89"}]
[143,{"$f":"[1]第二考点!D453","v":"毛昌粉"},{"$f":"[1]第二考点!O453","v":"20230102161202"},{"$f":"[1]第二考点!G453","v":"护士"},12,{"$f":"VLOOKUP(C145,[1]笔试成绩!A:C,3,0)","v":72.44},{"v":69.2,"d":"69.20"},{"v":70.496,"d":"70.50"}]
[144,{"$f":"[1]第二考点!D203","v":"翟玉琴"},{"$f":"[1]第二考点!O203","v":"20230102071222"},{"$f":"[1]第二考点!G203","v":"护士"},12,{"$f":"VLOOKUP(C146,[1]笔试成绩!A:C,3,0)","v":{"v":72.2,"d":"72.20"}},{"v":69,"d":"69.00"},70.28]
[145,{"$f":"[1]第二考点!D418","v":"李旭桃"},{"$f":"[1]第二考点!O418","v":"20230102141227"},{"$f":"[1]第二考点!G418","v":"护士"},12,{"$f":"VLOOKUP(C147,[1]笔试成绩!A:C,3,0)","v":77.08},{"v":65.6,"d":"65.60"},{"v":70.192,"d":"70.19"}]
[146,{"$f":"[1]第二考点!D423","v":"赵碟"},{"$f":"[1]第二考点!O423","v":"20230102151202"},{"$f":"[1]第二考点!G423","v":"护士"},12,{"$f":"VLOOKUP(C148,[1]笔试成绩!A:C,3,0)","v":74.14},{"v":67.2,"d":"67.20"},{"v":69.976,"d":"69.98"}]
[147,{"$f":"[1]第二考点!D397","v":"任元美"},{"$f":"[1]第二考点!O397","v":"20230102141206"},{"$f":"[1]第二考点!G397","v":"护士"},12,{"$f":"VLOOKUP(C149,[1]笔试成绩!A:C,3,0)","v":75.12},{"v":65.4,"d":"65.40"},{"v":69.288,"d":"69.29"}]
[148,{"$f":"[1]第二考点!D333","v":"吕侃"},{"$f":"[1]第二考点!O333","v":"20230102121202"},{"$f":"[1]第二考点!G333","v":"护士"},12,{"$f":"VLOOKUP(C150,[1]笔试成绩!A:C,3,0)","v":72.94},{"v":66.4,"d":"66.40"},{"v":69.016,"d":"69.02"}]
[149,{"$f":"[1]第二考点!D290","v":"宋然"},{"$f":"[1]第二考点!O290","v":"20230102101219"},{"$f":"[1]第二考点!G290","v":"护士"},12,{"$f":"VLOOKUP(C151,[1]笔试成绩!A:C,3,0)","v":72.92},{"v":64.8,"d":"64.80"},{"v":68.048,"d":"68.05"}]
[150,{"$f":"[1]第二考点!D755","v":"郭玉莲"},{"$f":"[1]第二考点!O755","v":"20230102261204"},{"$f":"[1]第二考点!G755","v":"护士"},12,{"$f":"VLOOKUP(C152,[1]笔试成绩!A:C,3,0)","v":{"v":72.2,"d":"72.20"}},{"v":65.2,"d":"65.20"},{"v":68,"d":"68.00"}]
[151,{"$f":"[1]第二考点!D233","v":"杨茂筑"},{"$f":"[1]第二考点!O233","v":"20230102081222"},{"$f":"[1]第二考点!G233","v":"护士"},12,{"$f":"VLOOKUP(C153,[1]笔试成绩!A:C,3,0)","v":72.22},{"v":65,"d":"65.00"},{"v":67.888,"d":"67.89"}]
[152,{"$f":"[1]第二考点!D552","v":"赵梅"},{"$f":"[1]第二考点!O552","v":"20230102191211"},{"$f":"[1]第二考点!G552","v":"护士"},12,{"$f":"VLOOKUP(C154,[1]笔试成绩!A:C,3,0)","v":72.44},{"v":64.2,"d":"64.20"},{"v":67.496,"d":"67.50"}]
[153,{"$f":"[1]第二考点!D460","v":"吕雪莹"},{"$f":"[1]第二考点!O460","v":"20230102161209"},{"$f":"[1]第二考点!G460","v":"护士"},12,{"$f":"VLOOKUP(C155,[1]笔试成绩!A:C,3,0)","v":73.18},{"v":62.6,"d":"62.60"},{"v":66.832,"d":"66.83"}]
[154,{"$f":"[1]第二考点!D657","v":"王琴"},{"$f":"[1]第二考点!O657","v":"20230102221226"},{"$f":"[1]第二考点!G657","v":"护士"},12,{"$f":"VLOOKUP(C156,[1]笔试成绩!A:C,3,0)","v":74.38},{"v":60.4,"d":"60.40"},{"v":65.992,"d":"65.99"}]
[155,{"$f":"[1]第二考点!D319","v":"李海迪"},{"$f":"[1]第二考点!O319","v":"20230102111218"},{"$f":"[1]第二考点!G319","v":"护士"},12,{"$f":"VLOOKUP(C157,[1]笔试成绩!A:C,3,0)","v":73.42},{"v":56.6,"d":"56.60"},{"v":63.328,"d":"63.33"}]
[156,{"$f":"[1]第二考点!D186","v":"申鑫"},{"$f":"[1]第二考点!O186","v":"20230102071205"},{"$f":"[1]第二考点!G186","v":"护士"},12,{"$f":"VLOOKUP(C158,[1]笔试成绩!A:C,3,0)","v":78.06},{"v":0,"d":"0.00"},{"v":31.224,"d":"31.22"}]
[157,{"$f":"[1]第二考点!D209","v":"聂倩文"},{"$f":"[1]第二考点!O209","v":"20230102071228"},{"$f":"[1]第二考点!G209","v":"护士"},12,{"$f":"VLOOKUP(C159,[1]笔试成绩!A:C,3,0)","v":73.66},{"v":0,"d":"0.00"},{"v":29.464,"d":"29.46"}]
[158,{"$f":"[1]第二考点!D232","v":"陈蓉"},{"$f":"[1]第二考点!O232","v":"20230102081221"},{"$f":"[1]第二考点!G232","v":"护士"},12,{"$f":"VLOOKUP(C160,[1]笔试成绩!A:C,3,0)","v":73.66},{"v":0,"d":"0.00"},{"v":29.464,"d":"29.46"}]
[159,{"$f":"[1]第二考点!D255","v":"龙虹"},{"$f":"[1]第二考点!O255","v":"20230102091214"},{"$f":"[1]第二考点!G255","v":"护士"},12,{"$f":"VLOOKUP(C161,[1]笔试成绩!A:C,3,0)","v":73.42},{"v":0,"d":"0.00"},{"v":29.368,"d":"29.37"}]
[160,{"$f":"[1]第一考点!D334","v":"刘相"},{"$f":"[1]第一考点!O334","v":"20230101121303"},{"$f":"[1]第一考点!G334","v":"医务工作人员"},13,{"$f":"VLOOKUP(C162,[1]笔试成绩!A:C,3,0)","v":82.92},{"v":86.2,"d":"86.20"},{"v":84.888,"d":"84.89"},"是"]
[161,{"$f":"[1]第一考点!D336","v":"姚极睿"},{"$f":"[1]第一考点!O336","v":"20230101121305"},{"$f":"[1]第一考点!G336","v":"医务工作人员"},13,{"$f":"VLOOKUP(C163,[1]笔试成绩!A:C,3,0)","v":82.68},{"v":80.4,"d":"80.40"},{"v":81.312,"d":"81.31"}]
[162,{"$f":"[1]第一考点!D318","v":"张青"},{"$f":"[1]第一考点!O318","v":"20230101111317"},{"$f":"[1]第一考点!G318","v":"医务工作人员"},13,{"$f":"VLOOKUP(C164,[1]笔试成绩!A:C,3,0)","v":{"v":82.6799999999999,"d":"82.68"}},{"v":76.6,"d":"76.60"},{"v":79.032,"d":"79.03"}]
[163,{"$f":"[1]第一考点!D350","v":"李自林"},{"$f":"[1]第一考点!O350","v":"20230101121319"},{"$f":"[1]第一考点!G350","v":"医务工作人员"},13,{"$f":"VLOOKUP(C165,[1]笔试成绩!A:C,3,0)","v":{"v":82.6799999999999,"d":"82.68"}},{"v":70.2,"d":"70.20"},{"v":75.192,"d":"75.19"}]
[164,{"$f":"[1]第一考点!D374","v":"梅家豪"},{"$f":"[1]第一考点!O374","v":"20230101131413"},{"$f":"[1]第一考点!G374","v":"数据统计岗"},14,{"$f":"VLOOKUP(C166,[1]笔试成绩!A:C,3,0)","v":83.66},{"v":88.6,"d":"88.60"},{"v":86.624,"d":"86.62"},"是"]
[165,{"$f":"[1]第一考点!D366","v":"吴昀"},{"$f":"[1]第一考点!O366","v":"20230101131405"},{"$f":"[1]第一考点!G366","v":"数据统计岗"},14,{"$f":"VLOOKUP(C167,[1]笔试成绩!A:C,3,0)","v":75.62},{"v":82.2,"d":"82.20"},{"v":79.568,"d":"79.57"},"是"]
[166,{"$f":"[1]第一考点!D372","v":"吴波"},{"$f":"[1]第一考点!O372","v":"20230101131411"},{"$f":"[1]第一考点!G372","v":"数据统计岗"},14,{"$f":"VLOOKUP(C168,[1]笔试成绩!A:C,3,0)","v":78.06},{"v":77.8,"d":"77.80"},{"v":77.904,"d":"77.90"}]
[167,{"$f":"[1]第一考点!D365","v":"糜晓玲"},{"$f":"[1]第一考点!O365","v":"20230101131404"},{"$f":"[1]第一考点!G365","v":"数据统计岗"},14,{"$f":"VLOOKUP(C169,[1]笔试成绩!A:C,3,0)","v":78.56},{"v":74.4,"d":"74.40"},{"v":76.064,"d":"76.06"}]
[168,{"$f":"[1]第一考点!D362","v":"徐港"},{"$f":"[1]第一考点!O362","v":"20230101131401"},{"$f":"[1]第一考点!G362","v":"数据统计岗"},14,{"$f":"VLOOKUP(C170,[1]笔试成绩!A:C,3,0)","v":75.12},{"v":75.8,"d":"75.80"},{"v":75.528,"d":"75.53"}]
[169,{"$f":"[1]第一考点!D354","v":"吴欢"},{"$f":"[1]第一考点!O354","v":"20230101121423"},{"$f":"[1]第一考点!G354","v":"数据统计岗"},14,{"$f":"VLOOKUP(C171,[1]笔试成绩!A:C,3,0)","v":77.56},{"v":69.8,"d":"69.80"},{"v":72.904,"d":"72.90"}]
[170,{"$f":"[1]第一考点!D380","v":"韩婷"},{"$f":"[1]第一考点!O380","v":"20230101131519"},{"$f":"[1]第一考点!G380","v":"宣传岗"},15,{"$f":"VLOOKUP(C172,[1]笔试成绩!A:C,3,0)","v":{"v":85.3599999999999,"d":"85.36"}},{"v":77,"d":"77.00"},{"v":80.344,"d":"80.34"},"是"]
[171,{"$f":"[1]第一考点!D418","v":"杨蓉"},{"$f":"[1]第一考点!O418","v":"20230101141527"},{"$f":"[1]第一考点!G418","v":"宣传岗"},15,{"$f":"VLOOKUP(C173,[1]笔试成绩!A:C,3,0)","v":75.86},{"v":81.6,"d":"81.60"},{"v":79.304,"d":"79.30"},"是"]
[172,{"$f":"[1]第一考点!D405","v":"邓铎"},{"$f":"[1]第一考点!O405","v":"20230101141514"},{"$f":"[1]第一考点!G405","v":"宣传岗"},15,{"$f":"VLOOKUP(C174,[1]笔试成绩!A:C,3,0)","v":78.54},{"v":79.6,"d":"79.60"},{"v":79.176,"d":"79.18"}]
[173,{"$f":"[1]第一考点!D425","v":"胡颖"},{"$f":"[1]第一考点!O425","v":"20230101151504"},{"$f":"[1]第一考点!G425","v":"宣传岗"},15,{"$f":"VLOOKUP(C175,[1]笔试成绩!A:C,3,0)","v":77.58},{"v":73.4,"d":"73.40"},{"v":75.072,"d":"75.07"}]
[174,{"$f":"[1]第一考点!D419","v":"朱春梅"},{"$f":"[1]第一考点!O419","v":"20230101141528"},{"$f":"[1]第一考点!G419","v":"宣传岗"},15,{"$f":"VLOOKUP(C176,[1]笔试成绩!A:C,3,0)","v":79.76},{"v":71.8,"d":"71.80"},{"v":74.984,"d":"74.98"}]
[175,{"$f":"[1]第一考点!D398","v":"成玉玲"},{"$f":"[1]第一考点!O398","v":"20230101141507"},{"$f":"[1]第一考点!G398","v":"宣传岗"},15,{"$f":"VLOOKUP(C177,[1]笔试成绩!A:C,3,0)","v":77.08},{"v":73.4,"d":"73.40"},{"v":74.872,"d":"74.87"}]
[176,{"$f":"[1]第二考点!D932","v":"张淇俊"},{"$f":"[1]第二考点!O932","v":"20230102321601"},{"$f":"[1]第二考点!G932","v":"会计"},16,{"$f":"VLOOKUP(C178,[1]笔试成绩!A:C,3,0)","v":{"v":88.7799999999999,"d":"88.78"}},{"v":81,"d":"81.00"},{"v":84.112,"d":"84.11"},"是"]
[177,{"$f":"[1]第二考点!D862","v":"石星月"},{"$f":"[1]第二考点!O862","v":"20230102291621"},{"$f":"[1]第二考点!G862","v":"会计"},16,{"$f":"VLOOKUP(C179,[1]笔试成绩!A:C,3,0)","v":80.74},{"v":78.6,"d":"78.60"},{"v":79.456,"d":"79.46"},"是"]
[178,{"$f":"[1]第二考点!D851","v":"成琴"},{"$f":"[1]第二考点!O851","v":"20230102291610"},{"$f":"[1]第二考点!G851","v":"会计"},16,{"$f":"VLOOKUP(C180,[1]笔试成绩!A:C,3,0)","v":80.24},{"v":77.6,"d":"77.60"},{"v":78.656,"d":"78.66"},"是"]
[179,{"$f":"[1]第二考点!D899","v":"周继娟"},{"$f":"[1]第二考点!O899","v":"20230102301628"},{"$f":"[1]第二考点!G899","v":"会计"},16,{"$f":"VLOOKUP(C181,[1]笔试成绩!A:C,3,0)","v":{"v":85.3799999999999,"d":"85.38"}},{"v":71.6,"d":"71.60"},{"v":77.112,"d":"77.11"}]
[180,{"$f":"[1]第二考点!D886","v":"唐爽"},{"$f":"[1]第二考点!O886","v":"20230102301615"},{"$f":"[1]第二考点!G886","v":"会计"},16,{"$f":"VLOOKUP(C182,[1]笔试成绩!A:C,3,0)","v":80.48},{"v":74,"d":"74.00"},{"v":76.592,"d":"76.59"}]
[181,{"$f":"[1]第二考点!D884","v":"徐仕英"},{"$f":"[1]第二考点!O884","v":"20230102301613"},{"$f":"[1]第二考点!G884","v":"会计"},16,{"$f":"VLOOKUP(C183,[1]笔试成绩!A:C,3,0)","v":80.98},{"v":73.2,"d":"73.20"},{"v":76.312,"d":"76.31"}]
[182,{"$f":"[1]第二考点!D840","v":"朱玉月"},{"$f":"[1]第二考点!O840","v":"20230102281629"},{"$f":"[1]第二考点!G840","v":"会计"},16,{"$f":"VLOOKUP(C184,[1]笔试成绩!A:C,3,0)","v":78.78},{"v":74,"d":"74.00"},{"v":75.912,"d":"75.91"}]
[183,{"$f":"[1]第二考点!D877","v":"祝登美"},{"$f":"[1]第二考点!O877","v":"20230102301606"},{"$f":"[1]第二考点!G877","v":"会计"},16,{"$f":"VLOOKUP(C185,[1]笔试成绩!A:C,3,0)","v":78.78},{"v":73.8,"d":"73.80"},{"v":75.792,"d":"75.79"}]
[184,{"$f":"[1]第二考点!D923","v":"张靖"},{"$f":"[1]第二考点!O923","v":"20230102311622"},{"$f":"[1]第二考点!G923","v":"会计"},16,{"$f":"VLOOKUP(C186,[1]笔试成绩!A:C,3,0)","v":{"v":80,"d":"80.00"}},{"v":71,"d":"71.00"},{"v":74.6,"d":"74.60"}]